BEGIN:VCALENDAR
VERSION:2.0
PRODID:-//QuickScores.com//BQ Dynamic iCal Creator//EN
METHOD:PUBLISH
X-WR-CALNAME:Emmanuel - 2016 Men&#039;s Lacrosse - Spring 2016
X-WR-CALDESC:QuickScores game calendar
X-PUBLISHED-TTL:PT24H
REFRESH-INTERVAL;VALUE=DURATION:PT24H
CALSCALE:GREGORIAN
BEGIN:VTIMEZONE
TZID:America/New_York
X-LIC-LOCATION:America/New_York
BEGIN:DAYLIGHT
TZNAME:EDT
TZOFFSETFROM:-0500
TZOFFSETTO:-0400
DTSTART:19700308T020000
RRULE:FREQ=YEARLY;BYMONTH=3;BYDAY=2SU
END:DAYLIGHT
BEGIN:STANDARD
TZNAME:EST
TZOFFSETFROM:-0400
TZOFFSETTO:-0500
DTSTART:19701101T020000
RRULE:FREQ=YEARLY;BYMONTH=11;BYDAY=1SU
END:STANDARD
END:VTIMEZONE
BEGIN:VEVENT
UID:gnac-24879886-20160402@quickscores.com
DTSTAMP:20260423T123500Z
DTSTART;TZID=America/New_York:20160402
SUMMARY:Emmanuel vs. Mount Ida
DESCRIPTION:2016 Men's Lacrosse - Great Northeast Athletic Conference
LOCATION:Roberto Clemente Field
CATEGORIES:QuickScores, Lacrosse Game
TRANSP:OPAQUE
BEGIN:VALARM
TRIGGER:-PT2H
ACTION:DISPLAY
DESCRIPTION:Emmanuel vs. Mount Ida
END:VALARM
END:VEVENT
BEGIN:VEVENT
UID:gnac-24879894-20160406@quickscores.com
DTSTAMP:20260423T123500Z
DTSTART;TZID=America/New_York:20160406
SUMMARY:Lasell vs. Emmanuel
DESCRIPTION:2016 Men's Lacrosse - Great Northeast Athletic Conference
LOCATION:Lasell Newton
CATEGORIES:QuickScores, Lacrosse Game
TRANSP:OPAQUE
BEGIN:VALARM
TRIGGER:-PT2H
ACTION:DISPLAY
DESCRIPTION:Lasell vs. Emmanuel
END:VALARM
END:VEVENT
BEGIN:VEVENT
UID:gnac-24879874-20160409@quickscores.com
DTSTAMP:20260423T123500Z
DTSTART;TZID=America/New_York:20160409
SUMMARY:Emmanuel vs. Norwich
DESCRIPTION:2016 NOR can share a bus w WLAX --- 2016 Men's Lacrosse - Great Northeast Athletic Conference
LOCATION:Roberto Clemente Field
CATEGORIES:QuickScores, Lacrosse Game
TRANSP:OPAQUE
BEGIN:VALARM
TRIGGER:-PT2H
ACTION:DISPLAY
DESCRIPTION:Emmanuel vs. Norwich
END:VALARM
END:VEVENT
BEGIN:VEVENT
UID:gnac-24879906-20160413@quickscores.com
DTSTAMP:20260423T123500Z
DTSTART;TZID=America/New_York:20160413
SUMMARY:Rivier vs. Emmanuel
DESCRIPTION:2016 Men's Lacrosse - Great Northeast Athletic Conference
LOCATION:Nashua, NH
CATEGORIES:QuickScores, Lacrosse Game
TRANSP:OPAQUE
BEGIN:VALARM
TRIGGER:-PT2H
ACTION:DISPLAY
DESCRIPTION:Rivier vs. Emmanuel
END:VALARM
END:VEVENT
BEGIN:VEVENT
UID:gnac-24879881-20160416@quickscores.com
DTSTAMP:20260423T123500Z
DTSTART;TZID=America/New_York:20160416
SUMMARY:Johnson & Wales vs. Emmanuel
DESCRIPTION:2016 EMM has home softball --- 2016 Men's Lacrosse - Great Northeast Athletic Conference
LOCATION:Scotts Miracle Gro Athletic Complex
CATEGORIES:QuickScores, Lacrosse Game
TRANSP:OPAQUE
BEGIN:VALARM
TRIGGER:-PT2H
ACTION:DISPLAY
DESCRIPTION:Johnson & Wales vs. Emmanuel
END:VALARM
END:VEVENT
BEGIN:VEVENT
UID:gnac-24879884-20160420@quickscores.com
DTSTAMP:20260423T123500Z
DTSTART;TZID=America/New_York:20160420
SUMMARY:Emmanuel vs. Anna Maria
DESCRIPTION:2016 Men's Lacrosse - Great Northeast Athletic Conference
LOCATION:Roberto Clemente Field
CATEGORIES:QuickScores, Lacrosse Game
TRANSP:OPAQUE
BEGIN:VALARM
TRIGGER:-PT2H
ACTION:DISPLAY
DESCRIPTION:Emmanuel vs. Anna Maria
END:VALARM
END:VEVENT
BEGIN:VEVENT
UID:gnac-24879880-20160427@quickscores.com
DTSTAMP:20260423T123500Z
DTSTART;TZID=America/New_York:20160427
SUMMARY:Saint Joseph's ME vs. Emmanuel
DESCRIPTION:2016 Men's Lacrosse - Great Northeast Athletic Conference
LOCATION:Standish ME
CATEGORIES:QuickScores, Lacrosse Game
TRANSP:OPAQUE
BEGIN:VALARM
TRIGGER:-PT2H
ACTION:DISPLAY
DESCRIPTION:Saint Joseph's ME vs. Emmanuel
END:VALARM
END:VEVENT
BEGIN:VEVENT
UID:gnac-24879922-20160430@quickscores.com
DTSTAMP:20260423T123500Z
DTSTART;TZID=America/New_York:20160430
SUMMARY:Emmanuel vs. Albertus Magnus
DESCRIPTION:Albertus could share a bus with baseball going to LAS --- 2016 Men's Lacrosse - Great Northeast Athletic Conference
LOCATION:Roberto Clemente Field
CATEGORIES:QuickScores, Lacrosse Game
TRANSP:OPAQUE
BEGIN:VALARM
TRIGGER:-PT2H
ACTION:DISPLAY
DESCRIPTION:Emmanuel vs. Albertus Magnus
END:VALARM
END:VEVENT
END:VCALENDAR
