BEGIN:VCALENDAR
VERSION:2.0
PRODID:-//QuickScores.com//BQ Dynamic iCal Creator//EN
METHOD:PUBLISH
X-WR-CALNAME:Western New England - Gnac Softball - Spring 2006
X-WR-CALDESC:QuickScores game calendar
X-PUBLISHED-TTL:PT24H
REFRESH-INTERVAL;VALUE=DURATION:PT24H
CALSCALE:GREGORIAN
BEGIN:VTIMEZONE
TZID:America/New_York
X-LIC-LOCATION:America/New_York
BEGIN:DAYLIGHT
TZNAME:EDT
TZOFFSETFROM:-0500
TZOFFSETTO:-0400
DTSTART:19700308T020000
RRULE:FREQ=YEARLY;BYMONTH=3;BYDAY=2SU
END:DAYLIGHT
BEGIN:STANDARD
TZNAME:EST
TZOFFSETFROM:-0400
TZOFFSETTO:-0500
DTSTART:19701101T020000
RRULE:FREQ=YEARLY;BYMONTH=11;BYDAY=1SU
END:STANDARD
END:VTIMEZONE
BEGIN:VEVENT
UID:gnac-454417-20060324@quickscores.com
DTSTAMP:20260420T021700Z
DTSTART;TZID=America/New_York:20060324
SUMMARY:Emmanuel vs. Western New England
DESCRIPTION:Gnac Softball - Great Northeast Athletic Conference
LOCATION:Boston, MA
CATEGORIES:QuickScores, Softball Game
TRANSP:OPAQUE
BEGIN:VALARM
TRIGGER:-PT2H
ACTION:DISPLAY
DESCRIPTION:Emmanuel vs. Western New England
END:VALARM
END:VEVENT
BEGIN:VEVENT
UID:gnac-454416-20060324@quickscores.com
DTSTAMP:20260420T021700Z
DTSTART;TZID=America/New_York:20060324
SUMMARY:Emmanuel vs. Western New England
DESCRIPTION:Gnac Softball - Great Northeast Athletic Conference
LOCATION:Boston, MA
CATEGORIES:QuickScores, Softball Game
TRANSP:OPAQUE
BEGIN:VALARM
TRIGGER:-PT2H
ACTION:DISPLAY
DESCRIPTION:Emmanuel vs. Western New England
END:VALARM
END:VEVENT
BEGIN:VEVENT
UID:gnac-454427-20060325@quickscores.com
DTSTAMP:20260420T021700Z
DTSTART;TZID=America/New_York:20060325
SUMMARY:Western New England vs. Rivier
DESCRIPTION:Gnac Softball - Great Northeast Athletic Conference
LOCATION:Springfield, MA
CATEGORIES:QuickScores, Softball Game
TRANSP:OPAQUE
BEGIN:VALARM
TRIGGER:-PT2H
ACTION:DISPLAY
DESCRIPTION:Western New England vs. Rivier
END:VALARM
END:VEVENT
BEGIN:VEVENT
UID:gnac-454426-20060325@quickscores.com
DTSTAMP:20260420T021700Z
DTSTART;TZID=America/New_York:20060325
SUMMARY:Western New England vs. Rivier
DESCRIPTION:Gnac Softball - Great Northeast Athletic Conference
LOCATION:Springfield, MA
CATEGORIES:QuickScores, Softball Game
TRANSP:OPAQUE
BEGIN:VALARM
TRIGGER:-PT2H
ACTION:DISPLAY
DESCRIPTION:Western New England vs. Rivier
END:VALARM
END:VEVENT
BEGIN:VEVENT
UID:gnac-454452-20060326@quickscores.com
DTSTAMP:20260420T021700Z
DTSTART;TZID=America/New_York:20060326
SUMMARY:Southern Vermont vs. Western New England
DESCRIPTION:Gnac Softball - Great Northeast Athletic Conference
LOCATION:Bennington, VT
CATEGORIES:QuickScores, Softball Game
TRANSP:OPAQUE
BEGIN:VALARM
TRIGGER:-PT2H
ACTION:DISPLAY
DESCRIPTION:Southern Vermont vs. Western New England
END:VALARM
END:VEVENT
BEGIN:VEVENT
UID:gnac-454451-20060326@quickscores.com
DTSTAMP:20260420T021700Z
DTSTART;TZID=America/New_York:20060326
SUMMARY:Southern Vermont vs. Western New England
DESCRIPTION:Gnac Softball - Great Northeast Athletic Conference
LOCATION:Bennington, VT
CATEGORIES:QuickScores, Softball Game
TRANSP:OPAQUE
BEGIN:VALARM
TRIGGER:-PT2H
ACTION:DISPLAY
DESCRIPTION:Southern Vermont vs. Western New England
END:VALARM
END:VEVENT
BEGIN:VEVENT
UID:gnac-454461-20060331@quickscores.com
DTSTAMP:20260420T021700Z
DTSTART;TZID=America/New_York:20060331
SUMMARY:Western New England vs. Norwich
DESCRIPTION:Gnac Softball - Great Northeast Athletic Conference
LOCATION:Springfield, MA
CATEGORIES:QuickScores, Softball Game
TRANSP:OPAQUE
BEGIN:VALARM
TRIGGER:-PT2H
ACTION:DISPLAY
DESCRIPTION:Western New England vs. Norwich
END:VALARM
END:VEVENT
BEGIN:VEVENT
UID:gnac-454460-20060331@quickscores.com
DTSTAMP:20260420T021700Z
DTSTART;TZID=America/New_York:20060331
SUMMARY:Western New England vs. Norwich
DESCRIPTION:Gnac Softball - Great Northeast Athletic Conference
LOCATION:Springfield, MA
CATEGORIES:QuickScores, Softball Game
TRANSP:OPAQUE
BEGIN:VALARM
TRIGGER:-PT2H
ACTION:DISPLAY
DESCRIPTION:Western New England vs. Norwich
END:VALARM
END:VEVENT
BEGIN:VEVENT
UID:gnac-454471-20060401@quickscores.com
DTSTAMP:20260420T021700Z
DTSTART;TZID=America/New_York:20060401
SUMMARY:Simmons vs. Western New England
DESCRIPTION:Gnac Softball - Great Northeast Athletic Conference
LOCATION:Boston, MA
CATEGORIES:QuickScores, Softball Game
TRANSP:OPAQUE
BEGIN:VALARM
TRIGGER:-PT2H
ACTION:DISPLAY
DESCRIPTION:Simmons vs. Western New England
END:VALARM
END:VEVENT
BEGIN:VEVENT
UID:gnac-454470-20060401@quickscores.com
DTSTAMP:20260420T021700Z
DTSTART;TZID=America/New_York:20060401
SUMMARY:Simmons vs. Western New England
DESCRIPTION:Gnac Softball - Great Northeast Athletic Conference
LOCATION:Boston, MA
CATEGORIES:QuickScores, Softball Game
TRANSP:OPAQUE
BEGIN:VALARM
TRIGGER:-PT2H
ACTION:DISPLAY
DESCRIPTION:Simmons vs. Western New England
END:VALARM
END:VEVENT
BEGIN:VEVENT
UID:gnac-454479-20060402@quickscores.com
DTSTAMP:20260420T021700Z
DTSTART;TZID=America/New_York:20060402
SUMMARY:Daniel Webster vs. Western New England
DESCRIPTION:Gnac Softball - Great Northeast Athletic Conference
LOCATION:Nashua, NH
CATEGORIES:QuickScores, Softball Game
TRANSP:OPAQUE
BEGIN:VALARM
TRIGGER:-PT2H
ACTION:DISPLAY
DESCRIPTION:Daniel Webster vs. Western New England
END:VALARM
END:VEVENT
BEGIN:VEVENT
UID:gnac-454478-20060402@quickscores.com
DTSTAMP:20260420T021700Z
DTSTART;TZID=America/New_York:20060402
SUMMARY:Daniel Webster vs. Western New England
DESCRIPTION:Gnac Softball - Great Northeast Athletic Conference
LOCATION:Nashua, NH
CATEGORIES:QuickScores, Softball Game
TRANSP:OPAQUE
BEGIN:VALARM
TRIGGER:-PT2H
ACTION:DISPLAY
DESCRIPTION:Daniel Webster vs. Western New England
END:VALARM
END:VEVENT
BEGIN:VEVENT
UID:gnac-454485-20060407@quickscores.com
DTSTAMP:20260420T021700Z
DTSTART;TZID=America/New_York:20060407
SUMMARY:Albertus Magnus vs. Western New England
DESCRIPTION:PPD to 4/20 --- Gnac Softball - Great Northeast Athletic Conference
LOCATION:New Haven, CT
CATEGORIES:QuickScores, Softball Game
TRANSP:OPAQUE
BEGIN:VALARM
TRIGGER:-PT2H
ACTION:DISPLAY
DESCRIPTION:Albertus Magnus vs. Western New England
END:VALARM
END:VEVENT
BEGIN:VEVENT
UID:gnac-454492-20060407@quickscores.com
DTSTAMP:20260420T021700Z
DTSTART;TZID=America/New_York:20060407
SUMMARY:Albertus Magnus vs. Western New England
DESCRIPTION:PPD to 4/20 --- Gnac Softball - Great Northeast Athletic Conference
LOCATION:New Haven, CT
CATEGORIES:QuickScores, Softball Game
TRANSP:OPAQUE
BEGIN:VALARM
TRIGGER:-PT2H
ACTION:DISPLAY
DESCRIPTION:Albertus Magnus vs. Western New England
END:VALARM
END:VEVENT
BEGIN:VEVENT
UID:gnac-454506-20060408@quickscores.com
DTSTAMP:20260420T021700Z
DTSTART;TZID=America/New_York:20060408
SUMMARY:Western New England vs. Johnson & Wales
DESCRIPTION:Gnac Softball - Great Northeast Athletic Conference
LOCATION:Springfield, MA
CATEGORIES:QuickScores, Softball Game
TRANSP:OPAQUE
BEGIN:VALARM
TRIGGER:-PT2H
ACTION:DISPLAY
DESCRIPTION:Western New England vs. Johnson & Wales
END:VALARM
END:VEVENT
BEGIN:VEVENT
UID:gnac-454512-20060408@quickscores.com
DTSTAMP:20260420T021700Z
DTSTART;TZID=America/New_York:20060408
SUMMARY:Western New England vs. Johnson & Wales
DESCRIPTION:Gnac Softball - Great Northeast Athletic Conference
LOCATION:Springfield, MA
CATEGORIES:QuickScores, Softball Game
TRANSP:OPAQUE
BEGIN:VALARM
TRIGGER:-PT2H
ACTION:DISPLAY
DESCRIPTION:Western New England vs. Johnson & Wales
END:VALARM
END:VEVENT
BEGIN:VEVENT
UID:gnac-454515-20060409@quickscores.com
DTSTAMP:20260420T021700Z
DTSTART;TZID=America/New_York:20060409
SUMMARY:Pine Manor vs. Western New England
DESCRIPTION:Gnac Softball - Great Northeast Athletic Conference
LOCATION:Chestnut Hill, MA
CATEGORIES:QuickScores, Softball Game
TRANSP:OPAQUE
BEGIN:VALARM
TRIGGER:-PT2H
ACTION:DISPLAY
DESCRIPTION:Pine Manor vs. Western New England
END:VALARM
END:VEVENT
BEGIN:VEVENT
UID:gnac-454516-20060409@quickscores.com
DTSTAMP:20260420T021700Z
DTSTART;TZID=America/New_York:20060409
SUMMARY:Pine Manor vs. Western New England
DESCRIPTION:Gnac Softball - Great Northeast Athletic Conference
LOCATION:Chestnut Hill, MA
CATEGORIES:QuickScores, Softball Game
TRANSP:OPAQUE
BEGIN:VALARM
TRIGGER:-PT2H
ACTION:DISPLAY
DESCRIPTION:Pine Manor vs. Western New England
END:VALARM
END:VEVENT
BEGIN:VEVENT
UID:gnac-454529-20060414@quickscores.com
DTSTAMP:20260420T021700Z
DTSTART;TZID=America/New_York:20060414
SUMMARY:Western New England vs. Suffolk
DESCRIPTION:Gnac Softball - Great Northeast Athletic Conference
LOCATION:Springfield, MA
CATEGORIES:QuickScores, Softball Game
TRANSP:OPAQUE
BEGIN:VALARM
TRIGGER:-PT2H
ACTION:DISPLAY
DESCRIPTION:Western New England vs. Suffolk
END:VALARM
END:VEVENT
BEGIN:VEVENT
UID:gnac-454530-20060414@quickscores.com
DTSTAMP:20260420T021700Z
DTSTART;TZID=America/New_York:20060414
SUMMARY:Western New England vs. Suffolk
DESCRIPTION:Gnac Softball - Great Northeast Athletic Conference
LOCATION:Springfield, MA
CATEGORIES:QuickScores, Softball Game
TRANSP:OPAQUE
BEGIN:VALARM
TRIGGER:-PT2H
ACTION:DISPLAY
DESCRIPTION:Western New England vs. Suffolk
END:VALARM
END:VEVENT
BEGIN:VEVENT
UID:gnac-454545-20060415@quickscores.com
DTSTAMP:20260420T021700Z
DTSTART;TZID=America/New_York:20060415
SUMMARY:Emerson vs. Western New England
DESCRIPTION:Gnac Softball - Great Northeast Athletic Conference
LOCATION:Boston, MA
CATEGORIES:QuickScores, Softball Game
TRANSP:OPAQUE
BEGIN:VALARM
TRIGGER:-PT2H
ACTION:DISPLAY
DESCRIPTION:Emerson vs. Western New England
END:VALARM
END:VEVENT
BEGIN:VEVENT
UID:gnac-454547-20060415@quickscores.com
DTSTAMP:20260420T021700Z
DTSTART;TZID=America/New_York:20060415
SUMMARY:Emerson vs. Western New England
DESCRIPTION:Gnac Softball - Great Northeast Athletic Conference
LOCATION:Boston, MA
CATEGORIES:QuickScores, Softball Game
TRANSP:OPAQUE
BEGIN:VALARM
TRIGGER:-PT2H
ACTION:DISPLAY
DESCRIPTION:Emerson vs. Western New England
END:VALARM
END:VEVENT
BEGIN:VEVENT
UID:gnac-454576-20060422@quickscores.com
DTSTAMP:20260420T021700Z
DTSTART;TZID=America/New_York:20060422
SUMMARY:Western New England vs. Saint Joseph
DESCRIPTION:Gnac Softball - Great Northeast Athletic Conference
LOCATION:Springfield, MA
CATEGORIES:QuickScores, Softball Game
TRANSP:OPAQUE
BEGIN:VALARM
TRIGGER:-PT2H
ACTION:DISPLAY
DESCRIPTION:Western New England vs. Saint Joseph
END:VALARM
END:VEVENT
BEGIN:VEVENT
UID:gnac-454583-20060424@quickscores.com
DTSTAMP:20260420T021700Z
DTSTART;TZID=America/New_York:20060424
SUMMARY:Western New England vs. Saint Joseph
DESCRIPTION:Rain reschedule to 4/24 --- Gnac Softball - Great Northeast Athletic Conference
LOCATION:Springfield, MA
CATEGORIES:QuickScores, Softball Game
TRANSP:OPAQUE
BEGIN:VALARM
TRIGGER:-PT2H
ACTION:DISPLAY
DESCRIPTION:Western New England vs. Saint Joseph
END:VALARM
END:VEVENT
END:VCALENDAR
