BEGIN:VCALENDAR
VERSION:2.0
PRODID:-//QuickScores.com//BQ Dynamic iCal Creator//EN
METHOD:PUBLISH
X-WR-CALNAME:Simmons - Gnac Softball - Spring 2006
X-WR-CALDESC:QuickScores game calendar
X-PUBLISHED-TTL:PT24H
REFRESH-INTERVAL;VALUE=DURATION:PT24H
CALSCALE:GREGORIAN
BEGIN:VTIMEZONE
TZID:America/New_York
X-LIC-LOCATION:America/New_York
BEGIN:DAYLIGHT
TZNAME:EDT
TZOFFSETFROM:-0500
TZOFFSETTO:-0400
DTSTART:19700308T020000
RRULE:FREQ=YEARLY;BYMONTH=3;BYDAY=2SU
END:DAYLIGHT
BEGIN:STANDARD
TZNAME:EST
TZOFFSETFROM:-0400
TZOFFSETTO:-0500
DTSTART:19701101T020000
RRULE:FREQ=YEARLY;BYMONTH=11;BYDAY=1SU
END:STANDARD
END:VTIMEZONE
BEGIN:VEVENT
UID:gnac-454419-20060324@quickscores.com
DTSTAMP:20260423T041300Z
DTSTART;TZID=America/New_York:20060324
SUMMARY:Simmons vs. Suffolk
DESCRIPTION:Gnac Softball - Great Northeast Athletic Conference
LOCATION:Boston, MA
CATEGORIES:QuickScores, Softball Game
TRANSP:OPAQUE
BEGIN:VALARM
TRIGGER:-PT2H
ACTION:DISPLAY
DESCRIPTION:Simmons vs. Suffolk
END:VALARM
END:VEVENT
BEGIN:VEVENT
UID:gnac-454418-20060324@quickscores.com
DTSTAMP:20260423T041300Z
DTSTART;TZID=America/New_York:20060324
SUMMARY:Simmons vs. Suffolk
DESCRIPTION:Gnac Softball - Great Northeast Athletic Conference
LOCATION:Boston, MA
CATEGORIES:QuickScores, Softball Game
TRANSP:OPAQUE
BEGIN:VALARM
TRIGGER:-PT2H
ACTION:DISPLAY
DESCRIPTION:Simmons vs. Suffolk
END:VALARM
END:VEVENT
BEGIN:VEVENT
UID:gnac-454431-20060325@quickscores.com
DTSTAMP:20260423T041300Z
DTSTART;TZID=America/New_York:20060325
SUMMARY:Simmons vs. Southern Vermont
DESCRIPTION:Gnac Softball - Great Northeast Athletic Conference
LOCATION:Boston, MA
CATEGORIES:QuickScores, Softball Game
TRANSP:OPAQUE
BEGIN:VALARM
TRIGGER:-PT2H
ACTION:DISPLAY
DESCRIPTION:Simmons vs. Southern Vermont
END:VALARM
END:VEVENT
BEGIN:VEVENT
UID:gnac-454430-20060325@quickscores.com
DTSTAMP:20260423T041300Z
DTSTART;TZID=America/New_York:20060325
SUMMARY:Simmons vs. Southern Vermont
DESCRIPTION:Gnac Softball - Great Northeast Athletic Conference
LOCATION:Boston, MA
CATEGORIES:QuickScores, Softball Game
TRANSP:OPAQUE
BEGIN:VALARM
TRIGGER:-PT2H
ACTION:DISPLAY
DESCRIPTION:Simmons vs. Southern Vermont
END:VALARM
END:VEVENT
BEGIN:VEVENT
UID:gnac-454448-20060326@quickscores.com
DTSTAMP:20260423T041300Z
DTSTART;TZID=America/New_York:20060326
SUMMARY:Simmons vs. Emmanuel
DESCRIPTION:Gnac Softball - Great Northeast Athletic Conference
LOCATION:Boston, MA
CATEGORIES:QuickScores, Softball Game
TRANSP:OPAQUE
BEGIN:VALARM
TRIGGER:-PT2H
ACTION:DISPLAY
DESCRIPTION:Simmons vs. Emmanuel
END:VALARM
END:VEVENT
BEGIN:VEVENT
UID:gnac-454447-20060326@quickscores.com
DTSTAMP:20260423T041300Z
DTSTART;TZID=America/New_York:20060326
SUMMARY:Simmons vs. Emmanuel
DESCRIPTION:Gnac Softball - Great Northeast Athletic Conference
LOCATION:Boston, MA
CATEGORIES:QuickScores, Softball Game
TRANSP:OPAQUE
BEGIN:VALARM
TRIGGER:-PT2H
ACTION:DISPLAY
DESCRIPTION:Simmons vs. Emmanuel
END:VALARM
END:VEVENT
BEGIN:VEVENT
UID:gnac-454453-20060331@quickscores.com
DTSTAMP:20260423T041300Z
DTSTART;TZID=America/New_York:20060331
SUMMARY:Simmons vs. Pine Manor
DESCRIPTION:Gnac Softball - Great Northeast Athletic Conference
LOCATION:Boston, MA
CATEGORIES:QuickScores, Softball Game
TRANSP:OPAQUE
BEGIN:VALARM
TRIGGER:-PT2H
ACTION:DISPLAY
DESCRIPTION:Simmons vs. Pine Manor
END:VALARM
END:VEVENT
BEGIN:VEVENT
UID:gnac-454454-20060331@quickscores.com
DTSTAMP:20260423T041300Z
DTSTART;TZID=America/New_York:20060331
SUMMARY:Simmons vs. Pine Manor
DESCRIPTION:Gnac Softball - Great Northeast Athletic Conference
LOCATION:Boston, MA
CATEGORIES:QuickScores, Softball Game
TRANSP:OPAQUE
BEGIN:VALARM
TRIGGER:-PT2H
ACTION:DISPLAY
DESCRIPTION:Simmons vs. Pine Manor
END:VALARM
END:VEVENT
BEGIN:VEVENT
UID:gnac-454471-20060401@quickscores.com
DTSTAMP:20260423T041300Z
DTSTART;TZID=America/New_York:20060401
SUMMARY:Simmons vs. Western New England
DESCRIPTION:Gnac Softball - Great Northeast Athletic Conference
LOCATION:Boston, MA
CATEGORIES:QuickScores, Softball Game
TRANSP:OPAQUE
BEGIN:VALARM
TRIGGER:-PT2H
ACTION:DISPLAY
DESCRIPTION:Simmons vs. Western New England
END:VALARM
END:VEVENT
BEGIN:VEVENT
UID:gnac-454470-20060401@quickscores.com
DTSTAMP:20260423T041300Z
DTSTART;TZID=America/New_York:20060401
SUMMARY:Simmons vs. Western New England
DESCRIPTION:Gnac Softball - Great Northeast Athletic Conference
LOCATION:Boston, MA
CATEGORIES:QuickScores, Softball Game
TRANSP:OPAQUE
BEGIN:VALARM
TRIGGER:-PT2H
ACTION:DISPLAY
DESCRIPTION:Simmons vs. Western New England
END:VALARM
END:VEVENT
BEGIN:VEVENT
UID:gnac-454499-20060408@quickscores.com
DTSTAMP:20260423T041300Z
DTSTART;TZID=America/New_York:20060408
SUMMARY:Simmons vs. Norwich
DESCRIPTION:Gnac Softball - Great Northeast Athletic Conference
LOCATION:Boston, MA
CATEGORIES:QuickScores, Softball Game
TRANSP:OPAQUE
BEGIN:VALARM
TRIGGER:-PT2H
ACTION:DISPLAY
DESCRIPTION:Simmons vs. Norwich
END:VALARM
END:VEVENT
BEGIN:VEVENT
UID:gnac-454498-20060408@quickscores.com
DTSTAMP:20260423T041300Z
DTSTART;TZID=America/New_York:20060408
SUMMARY:Simmons vs. Norwich
DESCRIPTION:Gnac Softball - Great Northeast Athletic Conference
LOCATION:Boston, MA
CATEGORIES:QuickScores, Softball Game
TRANSP:OPAQUE
BEGIN:VALARM
TRIGGER:-PT2H
ACTION:DISPLAY
DESCRIPTION:Simmons vs. Norwich
END:VALARM
END:VEVENT
BEGIN:VEVENT
UID:gnac-454527-20060414@quickscores.com
DTSTAMP:20260423T041300Z
DTSTART;TZID=America/New_York:20060414
SUMMARY:Emerson vs. Simmons
DESCRIPTION:Gnac Softball - Great Northeast Athletic Conference
LOCATION:Boston, MA
CATEGORIES:QuickScores, Softball Game
TRANSP:OPAQUE
BEGIN:VALARM
TRIGGER:-PT2H
ACTION:DISPLAY
DESCRIPTION:Emerson vs. Simmons
END:VALARM
END:VEVENT
BEGIN:VEVENT
UID:gnac-454528-20060414@quickscores.com
DTSTAMP:20260423T041300Z
DTSTART;TZID=America/New_York:20060414
SUMMARY:Emerson vs. Simmons
DESCRIPTION:Gnac Softball - Great Northeast Athletic Conference
LOCATION:Boston, MA
CATEGORIES:QuickScores, Softball Game
TRANSP:OPAQUE
BEGIN:VALARM
TRIGGER:-PT2H
ACTION:DISPLAY
DESCRIPTION:Emerson vs. Simmons
END:VALARM
END:VEVENT
BEGIN:VEVENT
UID:gnac-454538-20060415@quickscores.com
DTSTAMP:20260423T041300Z
DTSTART;TZID=America/New_York:20060415
SUMMARY:Saint Joseph vs. Simmons
DESCRIPTION:Gnac Softball - Great Northeast Athletic Conference
LOCATION:W. Hartford, CT
CATEGORIES:QuickScores, Softball Game
TRANSP:OPAQUE
BEGIN:VALARM
TRIGGER:-PT2H
ACTION:DISPLAY
DESCRIPTION:Saint Joseph vs. Simmons
END:VALARM
END:VEVENT
BEGIN:VEVENT
UID:gnac-454533-20060415@quickscores.com
DTSTAMP:20260423T041300Z
DTSTART;TZID=America/New_York:20060415
SUMMARY:Saint Joseph vs. Simmons
DESCRIPTION:Gnac Softball - Great Northeast Athletic Conference
LOCATION:W. Hartford, CT
CATEGORIES:QuickScores, Softball Game
TRANSP:OPAQUE
BEGIN:VALARM
TRIGGER:-PT2H
ACTION:DISPLAY
DESCRIPTION:Saint Joseph vs. Simmons
END:VALARM
END:VEVENT
BEGIN:VEVENT
UID:gnac-454519-20060417@quickscores.com
DTSTAMP:20260423T041300Z
DTSTART;TZID=America/New_York:20060417
SUMMARY:Albertus Magnus vs. Simmons
DESCRIPTION:Gnac Softball - Great Northeast Athletic Conference
LOCATION:New Haven, CT
CATEGORIES:QuickScores, Softball Game
TRANSP:OPAQUE
BEGIN:VALARM
TRIGGER:-PT2H
ACTION:DISPLAY
DESCRIPTION:Albertus Magnus vs. Simmons
END:VALARM
END:VEVENT
BEGIN:VEVENT
UID:gnac-454520-20060417@quickscores.com
DTSTAMP:20260423T041300Z
DTSTART;TZID=America/New_York:20060417
SUMMARY:Albertus Magnus vs. Simmons
DESCRIPTION:Gnac Softball - Great Northeast Athletic Conference
LOCATION:New Haven, CT
CATEGORIES:QuickScores, Softball Game
TRANSP:OPAQUE
BEGIN:VALARM
TRIGGER:-PT2H
ACTION:DISPLAY
DESCRIPTION:Albertus Magnus vs. Simmons
END:VALARM
END:VEVENT
BEGIN:VEVENT
UID:gnac-454572-20060421@quickscores.com
DTSTAMP:20260423T041300Z
DTSTART;TZID=America/New_York:20060421
SUMMARY:Johnson & Wales vs. Simmons
DESCRIPTION:Gnac Softball - Great Northeast Athletic Conference
LOCATION:Providence, RI
CATEGORIES:QuickScores, Softball Game
TRANSP:OPAQUE
BEGIN:VALARM
TRIGGER:-PT2H
ACTION:DISPLAY
DESCRIPTION:Johnson & Wales vs. Simmons
END:VALARM
END:VEVENT
BEGIN:VEVENT
UID:gnac-454891-20060421@quickscores.com
DTSTAMP:20260423T041300Z
DTSTART;TZID=America/New_York:20060421
SUMMARY:Johnson & Wales vs. Simmons
DESCRIPTION:Gnac Softball - Great Northeast Athletic Conference
LOCATION:Providence, RI
CATEGORIES:QuickScores, Softball Game
TRANSP:OPAQUE
BEGIN:VALARM
TRIGGER:-PT2H
ACTION:DISPLAY
DESCRIPTION:Johnson & Wales vs. Simmons
END:VALARM
END:VEVENT
BEGIN:VEVENT
UID:gnac-454578-20060422@quickscores.com
DTSTAMP:20260423T041300Z
DTSTART;TZID=America/New_York:20060422
SUMMARY:Rivier vs. Simmons
DESCRIPTION:Gnac Softball - Great Northeast Athletic Conference
LOCATION:Nashua, NH
CATEGORIES:QuickScores, Softball Game
TRANSP:OPAQUE
BEGIN:VALARM
TRIGGER:-PT2H
ACTION:DISPLAY
DESCRIPTION:Rivier vs. Simmons
END:VALARM
END:VEVENT
BEGIN:VEVENT
UID:gnac-454577-20060422@quickscores.com
DTSTAMP:20260423T041300Z
DTSTART;TZID=America/New_York:20060422
SUMMARY:Rivier vs. Simmons
DESCRIPTION:Gnac Softball - Great Northeast Athletic Conference
LOCATION:Nashua, NH
CATEGORIES:QuickScores, Softball Game
TRANSP:OPAQUE
BEGIN:VALARM
TRIGGER:-PT2H
ACTION:DISPLAY
DESCRIPTION:Rivier vs. Simmons
END:VALARM
END:VEVENT
BEGIN:VEVENT
UID:gnac-454487-20060425@quickscores.com
DTSTAMP:20260423T041300Z
DTSTART;TZID=America/New_York:20060425
SUMMARY:Simmons vs. Daniel Webster
DESCRIPTION:Gnac Softball - Great Northeast Athletic Conference
LOCATION:Boston, MA
CATEGORIES:QuickScores, Softball Game
TRANSP:OPAQUE
BEGIN:VALARM
TRIGGER:-PT2H
ACTION:DISPLAY
DESCRIPTION:Simmons vs. Daniel Webster
END:VALARM
END:VEVENT
BEGIN:VEVENT
UID:gnac-454486-20060425@quickscores.com
DTSTAMP:20260423T041300Z
DTSTART;TZID=America/New_York:20060425
SUMMARY:Simmons vs. Daniel Webster
DESCRIPTION:Gnac Softball - Great Northeast Athletic Conference
LOCATION:Boston, MA
CATEGORIES:QuickScores, Softball Game
TRANSP:OPAQUE
BEGIN:VALARM
TRIGGER:-PT2H
ACTION:DISPLAY
DESCRIPTION:Simmons vs. Daniel Webster
END:VALARM
END:VEVENT
END:VCALENDAR
