BEGIN:VCALENDAR
VERSION:2.0
PRODID:-//QuickScores.com//BQ Dynamic iCal Creator//EN
METHOD:PUBLISH
X-WR-CALNAME:Rivier - Gnac Softball - Spring 2006
X-WR-CALDESC:QuickScores game calendar
X-PUBLISHED-TTL:PT24H
REFRESH-INTERVAL;VALUE=DURATION:PT24H
CALSCALE:GREGORIAN
BEGIN:VTIMEZONE
TZID:America/New_York
X-LIC-LOCATION:America/New_York
BEGIN:DAYLIGHT
TZNAME:EDT
TZOFFSETFROM:-0500
TZOFFSETTO:-0400
DTSTART:19700308T020000
RRULE:FREQ=YEARLY;BYMONTH=3;BYDAY=2SU
END:DAYLIGHT
BEGIN:STANDARD
TZNAME:EST
TZOFFSETFROM:-0400
TZOFFSETTO:-0500
DTSTART:19701101T020000
RRULE:FREQ=YEARLY;BYMONTH=11;BYDAY=1SU
END:STANDARD
END:VTIMEZONE
BEGIN:VEVENT
UID:gnac-454422-20060324@quickscores.com
DTSTAMP:20260420T133000Z
DTSTART;TZID=America/New_York:20060324
SUMMARY:Pine Manor vs. Rivier
DESCRIPTION:Gnac Softball - Great Northeast Athletic Conference
LOCATION:Chestnut Hill, MA
CATEGORIES:QuickScores, Softball Game
TRANSP:OPAQUE
BEGIN:VALARM
TRIGGER:-PT2H
ACTION:DISPLAY
DESCRIPTION:Pine Manor vs. Rivier
END:VALARM
END:VEVENT
BEGIN:VEVENT
UID:gnac-454420-20060324@quickscores.com
DTSTAMP:20260420T133000Z
DTSTART;TZID=America/New_York:20060324
SUMMARY:Pine Manor vs. Rivier
DESCRIPTION:Gnac Softball - Great Northeast Athletic Conference
LOCATION:Chestnut Hill, MA
CATEGORIES:QuickScores, Softball Game
TRANSP:OPAQUE
BEGIN:VALARM
TRIGGER:-PT2H
ACTION:DISPLAY
DESCRIPTION:Pine Manor vs. Rivier
END:VALARM
END:VEVENT
BEGIN:VEVENT
UID:gnac-454427-20060325@quickscores.com
DTSTAMP:20260420T133000Z
DTSTART;TZID=America/New_York:20060325
SUMMARY:Western New England vs. Rivier
DESCRIPTION:Gnac Softball - Great Northeast Athletic Conference
LOCATION:Springfield, MA
CATEGORIES:QuickScores, Softball Game
TRANSP:OPAQUE
BEGIN:VALARM
TRIGGER:-PT2H
ACTION:DISPLAY
DESCRIPTION:Western New England vs. Rivier
END:VALARM
END:VEVENT
BEGIN:VEVENT
UID:gnac-454426-20060325@quickscores.com
DTSTAMP:20260420T133000Z
DTSTART;TZID=America/New_York:20060325
SUMMARY:Western New England vs. Rivier
DESCRIPTION:Gnac Softball - Great Northeast Athletic Conference
LOCATION:Springfield, MA
CATEGORIES:QuickScores, Softball Game
TRANSP:OPAQUE
BEGIN:VALARM
TRIGGER:-PT2H
ACTION:DISPLAY
DESCRIPTION:Western New England vs. Rivier
END:VALARM
END:VEVENT
BEGIN:VEVENT
UID:gnac-454441-20060326@quickscores.com
DTSTAMP:20260420T133000Z
DTSTART;TZID=America/New_York:20060326
SUMMARY:Rivier vs. Albertus Magnus
DESCRIPTION:Gnac Softball - Great Northeast Athletic Conference
LOCATION:Nashua, NH
CATEGORIES:QuickScores, Softball Game
TRANSP:OPAQUE
BEGIN:VALARM
TRIGGER:-PT2H
ACTION:DISPLAY
DESCRIPTION:Rivier vs. Albertus Magnus
END:VALARM
END:VEVENT
BEGIN:VEVENT
UID:gnac-454440-20060326@quickscores.com
DTSTAMP:20260420T133000Z
DTSTART;TZID=America/New_York:20060326
SUMMARY:Rivier vs. Albertus Magnus
DESCRIPTION:Gnac Softball - Great Northeast Athletic Conference
LOCATION:Nashua, NH
CATEGORIES:QuickScores, Softball Game
TRANSP:OPAQUE
BEGIN:VALARM
TRIGGER:-PT2H
ACTION:DISPLAY
DESCRIPTION:Rivier vs. Albertus Magnus
END:VALARM
END:VEVENT
BEGIN:VEVENT
UID:gnac-454445-20060331@quickscores.com
DTSTAMP:20260420T133000Z
DTSTART;TZID=America/New_York:20060331
SUMMARY:Rivier vs. Emmanuel
DESCRIPTION:Gnac Softball - Great Northeast Athletic Conference
LOCATION:Nashua, NH
CATEGORIES:QuickScores, Softball Game
TRANSP:OPAQUE
BEGIN:VALARM
TRIGGER:-PT2H
ACTION:DISPLAY
DESCRIPTION:Rivier vs. Emmanuel
END:VALARM
END:VEVENT
BEGIN:VEVENT
UID:gnac-454446-20060331@quickscores.com
DTSTAMP:20260420T133000Z
DTSTART;TZID=America/New_York:20060331
SUMMARY:Rivier vs. Emmanuel
DESCRIPTION:Gnac Softball - Great Northeast Athletic Conference
LOCATION:Nashua, NH
CATEGORIES:QuickScores, Softball Game
TRANSP:OPAQUE
BEGIN:VALARM
TRIGGER:-PT2H
ACTION:DISPLAY
DESCRIPTION:Rivier vs. Emmanuel
END:VALARM
END:VEVENT
BEGIN:VEVENT
UID:gnac-454477-20060402@quickscores.com
DTSTAMP:20260420T133000Z
DTSTART;TZID=America/New_York:20060402
SUMMARY:Johnson & Wales vs. Rivier
DESCRIPTION:Gnac Softball - Great Northeast Athletic Conference
LOCATION:Providence, RI
CATEGORIES:QuickScores, Softball Game
TRANSP:OPAQUE
BEGIN:VALARM
TRIGGER:-PT2H
ACTION:DISPLAY
DESCRIPTION:Johnson & Wales vs. Rivier
END:VALARM
END:VEVENT
BEGIN:VEVENT
UID:gnac-454476-20060402@quickscores.com
DTSTAMP:20260420T133000Z
DTSTART;TZID=America/New_York:20060402
SUMMARY:Johnson & Wales vs. Rivier
DESCRIPTION:Gnac Softball - Great Northeast Athletic Conference
LOCATION:Providence, RI
CATEGORIES:QuickScores, Softball Game
TRANSP:OPAQUE
BEGIN:VALARM
TRIGGER:-PT2H
ACTION:DISPLAY
DESCRIPTION:Johnson & Wales vs. Rivier
END:VALARM
END:VEVENT
BEGIN:VEVENT
UID:gnac-454497-20060408@quickscores.com
DTSTAMP:20260420T133000Z
DTSTART;TZID=America/New_York:20060408
SUMMARY:Rivier vs. Saint Joseph
DESCRIPTION:Gnac Softball - Great Northeast Athletic Conference
LOCATION:Nashua, NH
CATEGORIES:QuickScores, Softball Game
TRANSP:OPAQUE
BEGIN:VALARM
TRIGGER:-PT2H
ACTION:DISPLAY
DESCRIPTION:Rivier vs. Saint Joseph
END:VALARM
END:VEVENT
BEGIN:VEVENT
UID:gnac-454496-20060408@quickscores.com
DTSTAMP:20260420T133000Z
DTSTART;TZID=America/New_York:20060408
SUMMARY:Rivier vs. Saint Joseph
DESCRIPTION:Gnac Softball - Great Northeast Athletic Conference
LOCATION:Nashua, NH
CATEGORIES:QuickScores, Softball Game
TRANSP:OPAQUE
BEGIN:VALARM
TRIGGER:-PT2H
ACTION:DISPLAY
DESCRIPTION:Rivier vs. Saint Joseph
END:VALARM
END:VEVENT
BEGIN:VEVENT
UID:gnac-454517-20060409@quickscores.com
DTSTAMP:20260420T133000Z
DTSTART;TZID=America/New_York:20060409
SUMMARY:Emerson vs. Rivier
DESCRIPTION:Gnac Softball - Great Northeast Athletic Conference
LOCATION:Boston, MA
CATEGORIES:QuickScores, Softball Game
TRANSP:OPAQUE
BEGIN:VALARM
TRIGGER:-PT2H
ACTION:DISPLAY
DESCRIPTION:Emerson vs. Rivier
END:VALARM
END:VEVENT
BEGIN:VEVENT
UID:gnac-454518-20060409@quickscores.com
DTSTAMP:20260420T133000Z
DTSTART;TZID=America/New_York:20060409
SUMMARY:Emerson vs. Rivier
DESCRIPTION:Gnac Softball - Great Northeast Athletic Conference
LOCATION:Boston, MA
CATEGORIES:QuickScores, Softball Game
TRANSP:OPAQUE
BEGIN:VALARM
TRIGGER:-PT2H
ACTION:DISPLAY
DESCRIPTION:Emerson vs. Rivier
END:VALARM
END:VEVENT
BEGIN:VEVENT
UID:gnac-454494-20060413@quickscores.com
DTSTAMP:20260420T133000Z
DTSTART;TZID=America/New_York:20060413
SUMMARY:Norwich vs. Rivier
DESCRIPTION:Gnac Softball - Great Northeast Athletic Conference
LOCATION:Northfield, VT
CATEGORIES:QuickScores, Softball Game
TRANSP:OPAQUE
BEGIN:VALARM
TRIGGER:-PT2H
ACTION:DISPLAY
DESCRIPTION:Norwich vs. Rivier
END:VALARM
END:VEVENT
BEGIN:VEVENT
UID:gnac-454493-20060413@quickscores.com
DTSTAMP:20260420T133000Z
DTSTART;TZID=America/New_York:20060413
SUMMARY:Norwich vs. Rivier
DESCRIPTION:Gnac Softball - Great Northeast Athletic Conference
LOCATION:Northfield, VT
CATEGORIES:QuickScores, Softball Game
TRANSP:OPAQUE
BEGIN:VALARM
TRIGGER:-PT2H
ACTION:DISPLAY
DESCRIPTION:Norwich vs. Rivier
END:VALARM
END:VEVENT
BEGIN:VEVENT
UID:gnac-454540-20060415@quickscores.com
DTSTAMP:20260420T133000Z
DTSTART;TZID=America/New_York:20060415
SUMMARY:Suffolk vs. Rivier
DESCRIPTION:Gnac Softball - Great Northeast Athletic Conference
LOCATION:Boston, MA
CATEGORIES:QuickScores, Softball Game
TRANSP:OPAQUE
BEGIN:VALARM
TRIGGER:-PT2H
ACTION:DISPLAY
DESCRIPTION:Suffolk vs. Rivier
END:VALARM
END:VEVENT
BEGIN:VEVENT
UID:gnac-454539-20060415@quickscores.com
DTSTAMP:20260420T133000Z
DTSTART;TZID=America/New_York:20060415
SUMMARY:Suffolk vs. Rivier
DESCRIPTION:Gnac Softball - Great Northeast Athletic Conference
LOCATION:Boston, MA
CATEGORIES:QuickScores, Softball Game
TRANSP:OPAQUE
BEGIN:VALARM
TRIGGER:-PT2H
ACTION:DISPLAY
DESCRIPTION:Suffolk vs. Rivier
END:VALARM
END:VEVENT
BEGIN:VEVENT
UID:gnac-454565-20060421@quickscores.com
DTSTAMP:20260420T133000Z
DTSTART;TZID=America/New_York:20060421
SUMMARY:Rivier vs. Daniel Webster
DESCRIPTION:Gnac Softball - Great Northeast Athletic Conference
LOCATION:Nashua, NH
CATEGORIES:QuickScores, Softball Game
TRANSP:OPAQUE
BEGIN:VALARM
TRIGGER:-PT2H
ACTION:DISPLAY
DESCRIPTION:Rivier vs. Daniel Webster
END:VALARM
END:VEVENT
BEGIN:VEVENT
UID:gnac-454552-20060421@quickscores.com
DTSTAMP:20260420T133000Z
DTSTART;TZID=America/New_York:20060421
SUMMARY:Rivier vs. Daniel Webster
DESCRIPTION:Gnac Softball - Great Northeast Athletic Conference
LOCATION:Nashua, NH
CATEGORIES:QuickScores, Softball Game
TRANSP:OPAQUE
BEGIN:VALARM
TRIGGER:-PT2H
ACTION:DISPLAY
DESCRIPTION:Rivier vs. Daniel Webster
END:VALARM
END:VEVENT
BEGIN:VEVENT
UID:gnac-454578-20060422@quickscores.com
DTSTAMP:20260420T133000Z
DTSTART;TZID=America/New_York:20060422
SUMMARY:Rivier vs. Simmons
DESCRIPTION:Gnac Softball - Great Northeast Athletic Conference
LOCATION:Nashua, NH
CATEGORIES:QuickScores, Softball Game
TRANSP:OPAQUE
BEGIN:VALARM
TRIGGER:-PT2H
ACTION:DISPLAY
DESCRIPTION:Rivier vs. Simmons
END:VALARM
END:VEVENT
BEGIN:VEVENT
UID:gnac-454577-20060422@quickscores.com
DTSTAMP:20260420T133000Z
DTSTART;TZID=America/New_York:20060422
SUMMARY:Rivier vs. Simmons
DESCRIPTION:Gnac Softball - Great Northeast Athletic Conference
LOCATION:Nashua, NH
CATEGORIES:QuickScores, Softball Game
TRANSP:OPAQUE
BEGIN:VALARM
TRIGGER:-PT2H
ACTION:DISPLAY
DESCRIPTION:Rivier vs. Simmons
END:VALARM
END:VEVENT
BEGIN:VEVENT
UID:gnac-454887-20060423@quickscores.com
DTSTAMP:20260420T133000Z
DTSTART;TZID=America/New_York:20060423
SUMMARY:Southern Vermont vs. Rivier
DESCRIPTION:Gnac Softball - Great Northeast Athletic Conference
LOCATION:Bennington, VT
CATEGORIES:QuickScores, Softball Game
TRANSP:OPAQUE
BEGIN:VALARM
TRIGGER:-PT2H
ACTION:DISPLAY
DESCRIPTION:Southern Vermont vs. Rivier
END:VALARM
END:VEVENT
BEGIN:VEVENT
UID:gnac-454888-20060423@quickscores.com
DTSTAMP:20260420T133000Z
DTSTART;TZID=America/New_York:20060423
SUMMARY:Southern Vermont vs. Rivier
DESCRIPTION:Gnac Softball - Great Northeast Athletic Conference
LOCATION:Bennington, VT
CATEGORIES:QuickScores, Softball Game
TRANSP:OPAQUE
BEGIN:VALARM
TRIGGER:-PT2H
ACTION:DISPLAY
DESCRIPTION:Southern Vermont vs. Rivier
END:VALARM
END:VEVENT
END:VCALENDAR
