BEGIN:VCALENDAR
VERSION:2.0
PRODID:-//QuickScores.com//BQ Dynamic iCal Creator//EN
METHOD:PUBLISH
X-WR-CALNAME:Pine Manor - Gnac Softball - Spring 2006
X-WR-CALDESC:QuickScores game calendar
X-PUBLISHED-TTL:PT24H
REFRESH-INTERVAL;VALUE=DURATION:PT24H
CALSCALE:GREGORIAN
BEGIN:VTIMEZONE
TZID:America/New_York
X-LIC-LOCATION:America/New_York
BEGIN:DAYLIGHT
TZNAME:EDT
TZOFFSETFROM:-0500
TZOFFSETTO:-0400
DTSTART:19700308T020000
RRULE:FREQ=YEARLY;BYMONTH=3;BYDAY=2SU
END:DAYLIGHT
BEGIN:STANDARD
TZNAME:EST
TZOFFSETFROM:-0400
TZOFFSETTO:-0500
DTSTART:19701101T020000
RRULE:FREQ=YEARLY;BYMONTH=11;BYDAY=1SU
END:STANDARD
END:VTIMEZONE
BEGIN:VEVENT
UID:gnac-454422-20060324@quickscores.com
DTSTAMP:20260420T003300Z
DTSTART;TZID=America/New_York:20060324
SUMMARY:Pine Manor vs. Rivier
DESCRIPTION:Gnac Softball - Great Northeast Athletic Conference
LOCATION:Chestnut Hill, MA
CATEGORIES:QuickScores, Softball Game
TRANSP:OPAQUE
BEGIN:VALARM
TRIGGER:-PT2H
ACTION:DISPLAY
DESCRIPTION:Pine Manor vs. Rivier
END:VALARM
END:VEVENT
BEGIN:VEVENT
UID:gnac-454420-20060324@quickscores.com
DTSTAMP:20260420T003300Z
DTSTART;TZID=America/New_York:20060324
SUMMARY:Pine Manor vs. Rivier
DESCRIPTION:Gnac Softball - Great Northeast Athletic Conference
LOCATION:Chestnut Hill, MA
CATEGORIES:QuickScores, Softball Game
TRANSP:OPAQUE
BEGIN:VALARM
TRIGGER:-PT2H
ACTION:DISPLAY
DESCRIPTION:Pine Manor vs. Rivier
END:VALARM
END:VEVENT
BEGIN:VEVENT
UID:gnac-454437-20060326@quickscores.com
DTSTAMP:20260420T003300Z
DTSTART;TZID=America/New_York:20060326
SUMMARY:Pine Manor vs. Johnson & Wales
DESCRIPTION:Gnac Softball - Great Northeast Athletic Conference
LOCATION:Chestnut Hill, MA
CATEGORIES:QuickScores, Softball Game
TRANSP:OPAQUE
BEGIN:VALARM
TRIGGER:-PT2H
ACTION:DISPLAY
DESCRIPTION:Pine Manor vs. Johnson & Wales
END:VALARM
END:VEVENT
BEGIN:VEVENT
UID:gnac-454436-20060326@quickscores.com
DTSTAMP:20260420T003300Z
DTSTART;TZID=America/New_York:20060326
SUMMARY:Pine Manor vs. Johnson & Wales
DESCRIPTION:Gnac Softball - Great Northeast Athletic Conference
LOCATION:Chestnut Hill, MA
CATEGORIES:QuickScores, Softball Game
TRANSP:OPAQUE
BEGIN:VALARM
TRIGGER:-PT2H
ACTION:DISPLAY
DESCRIPTION:Pine Manor vs. Johnson & Wales
END:VALARM
END:VEVENT
BEGIN:VEVENT
UID:gnac-454453-20060331@quickscores.com
DTSTAMP:20260420T003300Z
DTSTART;TZID=America/New_York:20060331
SUMMARY:Simmons vs. Pine Manor
DESCRIPTION:Gnac Softball - Great Northeast Athletic Conference
LOCATION:Boston, MA
CATEGORIES:QuickScores, Softball Game
TRANSP:OPAQUE
BEGIN:VALARM
TRIGGER:-PT2H
ACTION:DISPLAY
DESCRIPTION:Simmons vs. Pine Manor
END:VALARM
END:VEVENT
BEGIN:VEVENT
UID:gnac-454454-20060331@quickscores.com
DTSTAMP:20260420T003300Z
DTSTART;TZID=America/New_York:20060331
SUMMARY:Simmons vs. Pine Manor
DESCRIPTION:Gnac Softball - Great Northeast Athletic Conference
LOCATION:Boston, MA
CATEGORIES:QuickScores, Softball Game
TRANSP:OPAQUE
BEGIN:VALARM
TRIGGER:-PT2H
ACTION:DISPLAY
DESCRIPTION:Simmons vs. Pine Manor
END:VALARM
END:VEVENT
BEGIN:VEVENT
UID:gnac-454463-20060401@quickscores.com
DTSTAMP:20260420T003300Z
DTSTART;TZID=America/New_York:20060401
SUMMARY:Norwich vs. Pine Manor
DESCRIPTION:Gnac Softball - Great Northeast Athletic Conference
LOCATION:Northfield, VT
CATEGORIES:QuickScores, Softball Game
TRANSP:OPAQUE
BEGIN:VALARM
TRIGGER:-PT2H
ACTION:DISPLAY
DESCRIPTION:Norwich vs. Pine Manor
END:VALARM
END:VEVENT
BEGIN:VEVENT
UID:gnac-454464-20060401@quickscores.com
DTSTAMP:20260420T003300Z
DTSTART;TZID=America/New_York:20060401
SUMMARY:Norwich vs. Pine Manor
DESCRIPTION:Gnac Softball - Great Northeast Athletic Conference
LOCATION:Northfield, VT
CATEGORIES:QuickScores, Softball Game
TRANSP:OPAQUE
BEGIN:VALARM
TRIGGER:-PT2H
ACTION:DISPLAY
DESCRIPTION:Norwich vs. Pine Manor
END:VALARM
END:VEVENT
BEGIN:VEVENT
UID:gnac-454475-20060402@quickscores.com
DTSTAMP:20260420T003300Z
DTSTART;TZID=America/New_York:20060402
SUMMARY:Pine Manor vs. Southern Vermont
DESCRIPTION:Gnac Softball - Great Northeast Athletic Conference
LOCATION:Chestnut Hill, MA
CATEGORIES:QuickScores, Softball Game
TRANSP:OPAQUE
BEGIN:VALARM
TRIGGER:-PT2H
ACTION:DISPLAY
DESCRIPTION:Pine Manor vs. Southern Vermont
END:VALARM
END:VEVENT
BEGIN:VEVENT
UID:gnac-454482-20060402@quickscores.com
DTSTAMP:20260420T003300Z
DTSTART;TZID=America/New_York:20060402
SUMMARY:Pine Manor vs. Southern Vermont
DESCRIPTION:Gnac Softball - Great Northeast Athletic Conference
LOCATION:Chestnut Hill, MA
CATEGORIES:QuickScores, Softball Game
TRANSP:OPAQUE
BEGIN:VALARM
TRIGGER:-PT2H
ACTION:DISPLAY
DESCRIPTION:Pine Manor vs. Southern Vermont
END:VALARM
END:VEVENT
BEGIN:VEVENT
UID:gnac-454491-20060407@quickscores.com
DTSTAMP:20260420T003300Z
DTSTART;TZID=America/New_York:20060407
SUMMARY:Pine Manor vs. Emerson
DESCRIPTION:Gnac Softball - Great Northeast Athletic Conference
LOCATION:Chestnut Hill, MA
CATEGORIES:QuickScores, Softball Game
TRANSP:OPAQUE
BEGIN:VALARM
TRIGGER:-PT2H
ACTION:DISPLAY
DESCRIPTION:Pine Manor vs. Emerson
END:VALARM
END:VEVENT
BEGIN:VEVENT
UID:gnac-454495-20060408@quickscores.com
DTSTAMP:20260420T003300Z
DTSTART;TZID=America/New_York:20060408
SUMMARY:Pine Manor vs. Albertus Magnus
DESCRIPTION:Gnac Softball - Great Northeast Athletic Conference
LOCATION:Chestnut Hill, MA
CATEGORIES:QuickScores, Softball Game
TRANSP:OPAQUE
BEGIN:VALARM
TRIGGER:-PT2H
ACTION:DISPLAY
DESCRIPTION:Pine Manor vs. Albertus Magnus
END:VALARM
END:VEVENT
BEGIN:VEVENT
UID:gnac-454502-20060408@quickscores.com
DTSTAMP:20260420T003300Z
DTSTART;TZID=America/New_York:20060408
SUMMARY:Pine Manor vs. Albertus Magnus
DESCRIPTION:Gnac Softball - Great Northeast Athletic Conference
LOCATION:Chestnut Hill, MA
CATEGORIES:QuickScores, Softball Game
TRANSP:OPAQUE
BEGIN:VALARM
TRIGGER:-PT2H
ACTION:DISPLAY
DESCRIPTION:Pine Manor vs. Albertus Magnus
END:VALARM
END:VEVENT
BEGIN:VEVENT
UID:gnac-454515-20060409@quickscores.com
DTSTAMP:20260420T003300Z
DTSTART;TZID=America/New_York:20060409
SUMMARY:Pine Manor vs. Western New England
DESCRIPTION:Gnac Softball - Great Northeast Athletic Conference
LOCATION:Chestnut Hill, MA
CATEGORIES:QuickScores, Softball Game
TRANSP:OPAQUE
BEGIN:VALARM
TRIGGER:-PT2H
ACTION:DISPLAY
DESCRIPTION:Pine Manor vs. Western New England
END:VALARM
END:VEVENT
BEGIN:VEVENT
UID:gnac-454516-20060409@quickscores.com
DTSTAMP:20260420T003300Z
DTSTART;TZID=America/New_York:20060409
SUMMARY:Pine Manor vs. Western New England
DESCRIPTION:Gnac Softball - Great Northeast Athletic Conference
LOCATION:Chestnut Hill, MA
CATEGORIES:QuickScores, Softball Game
TRANSP:OPAQUE
BEGIN:VALARM
TRIGGER:-PT2H
ACTION:DISPLAY
DESCRIPTION:Pine Manor vs. Western New England
END:VALARM
END:VEVENT
BEGIN:VEVENT
UID:gnac-454490-20060412@quickscores.com
DTSTAMP:20260420T003300Z
DTSTART;TZID=America/New_York:20060412
SUMMARY:Pine Manor vs. Emerson
DESCRIPTION:Gnac Softball - Great Northeast Athletic Conference
LOCATION:Chestnut Hill, MA
CATEGORIES:QuickScores, Softball Game
TRANSP:OPAQUE
BEGIN:VALARM
TRIGGER:-PT2H
ACTION:DISPLAY
DESCRIPTION:Pine Manor vs. Emerson
END:VALARM
END:VEVENT
BEGIN:VEVENT
UID:gnac-454542-20060415@quickscores.com
DTSTAMP:20260420T003300Z
DTSTART;TZID=America/New_York:20060415
SUMMARY:Daniel Webster vs. Pine Manor
DESCRIPTION:Gnac Softball - Great Northeast Athletic Conference
LOCATION:Nashua, NH
CATEGORIES:QuickScores, Softball Game
TRANSP:OPAQUE
BEGIN:VALARM
TRIGGER:-PT2H
ACTION:DISPLAY
DESCRIPTION:Daniel Webster vs. Pine Manor
END:VALARM
END:VEVENT
BEGIN:VEVENT
UID:gnac-454541-20060415@quickscores.com
DTSTAMP:20260420T003300Z
DTSTART;TZID=America/New_York:20060415
SUMMARY:Daniel Webster vs. Pine Manor
DESCRIPTION:Gnac Softball - Great Northeast Athletic Conference
LOCATION:Nashua, NH
CATEGORIES:QuickScores, Softball Game
TRANSP:OPAQUE
BEGIN:VALARM
TRIGGER:-PT2H
ACTION:DISPLAY
DESCRIPTION:Daniel Webster vs. Pine Manor
END:VALARM
END:VEVENT
BEGIN:VEVENT
UID:gnac-454550-20060421@quickscores.com
DTSTAMP:20260420T003300Z
DTSTART;TZID=America/New_York:20060421
SUMMARY:Suffolk vs. Pine Manor
DESCRIPTION:Gnac Softball - Great Northeast Athletic Conference
LOCATION:Boston, MA
CATEGORIES:QuickScores, Softball Game
TRANSP:OPAQUE
BEGIN:VALARM
TRIGGER:-PT2H
ACTION:DISPLAY
DESCRIPTION:Suffolk vs. Pine Manor
END:VALARM
END:VEVENT
BEGIN:VEVENT
UID:gnac-454551-20060421@quickscores.com
DTSTAMP:20260420T003300Z
DTSTART;TZID=America/New_York:20060421
SUMMARY:Suffolk vs. Pine Manor
DESCRIPTION:Gnac Softball - Great Northeast Athletic Conference
LOCATION:Boston, MA
CATEGORIES:QuickScores, Softball Game
TRANSP:OPAQUE
BEGIN:VALARM
TRIGGER:-PT2H
ACTION:DISPLAY
DESCRIPTION:Suffolk vs. Pine Manor
END:VALARM
END:VEVENT
BEGIN:VEVENT
UID:gnac-454582-20060422@quickscores.com
DTSTAMP:20260420T003300Z
DTSTART;TZID=America/New_York:20060422
SUMMARY:Emmanuel vs. Pine Manor
DESCRIPTION:Gnac Softball - Great Northeast Athletic Conference
LOCATION:Boston, MA
CATEGORIES:QuickScores, Softball Game
TRANSP:OPAQUE
BEGIN:VALARM
TRIGGER:-PT2H
ACTION:DISPLAY
DESCRIPTION:Emmanuel vs. Pine Manor
END:VALARM
END:VEVENT
BEGIN:VEVENT
UID:gnac-454581-20060422@quickscores.com
DTSTAMP:20260420T003300Z
DTSTART;TZID=America/New_York:20060422
SUMMARY:Emmanuel vs. Pine Manor
DESCRIPTION:Gnac Softball - Great Northeast Athletic Conference
LOCATION:Boston, MA
CATEGORIES:QuickScores, Softball Game
TRANSP:OPAQUE
BEGIN:VALARM
TRIGGER:-PT2H
ACTION:DISPLAY
DESCRIPTION:Emmanuel vs. Pine Manor
END:VALARM
END:VEVENT
BEGIN:VEVENT
UID:gnac-454885-20060423@quickscores.com
DTSTAMP:20260420T003300Z
DTSTART;TZID=America/New_York:20060423
SUMMARY:Pine Manor vs. Saint Joseph
DESCRIPTION:Gnac Softball - Great Northeast Athletic Conference
LOCATION:Chestnut Hill, MA
CATEGORIES:QuickScores, Softball Game
TRANSP:OPAQUE
BEGIN:VALARM
TRIGGER:-PT2H
ACTION:DISPLAY
DESCRIPTION:Pine Manor vs. Saint Joseph
END:VALARM
END:VEVENT
BEGIN:VEVENT
UID:gnac-454886-20060423@quickscores.com
DTSTAMP:20260420T003300Z
DTSTART;TZID=America/New_York:20060423
SUMMARY:Pine Manor vs. Saint Joseph
DESCRIPTION:Gnac Softball - Great Northeast Athletic Conference
LOCATION:Chestnut Hill, MA
CATEGORIES:QuickScores, Softball Game
TRANSP:OPAQUE
BEGIN:VALARM
TRIGGER:-PT2H
ACTION:DISPLAY
DESCRIPTION:Pine Manor vs. Saint Joseph
END:VALARM
END:VEVENT
END:VCALENDAR
