BEGIN:VCALENDAR
VERSION:2.0
PRODID:-//QuickScores.com//BQ Dynamic iCal Creator//EN
METHOD:PUBLISH
X-WR-CALNAME:Emmanuel - Gnac Softball - Spring 2006
X-WR-CALDESC:QuickScores game calendar
X-PUBLISHED-TTL:PT24H
REFRESH-INTERVAL;VALUE=DURATION:PT24H
CALSCALE:GREGORIAN
BEGIN:VTIMEZONE
TZID:America/New_York
X-LIC-LOCATION:America/New_York
BEGIN:DAYLIGHT
TZNAME:EDT
TZOFFSETFROM:-0500
TZOFFSETTO:-0400
DTSTART:19700308T020000
RRULE:FREQ=YEARLY;BYMONTH=3;BYDAY=2SU
END:DAYLIGHT
BEGIN:STANDARD
TZNAME:EST
TZOFFSETFROM:-0400
TZOFFSETTO:-0500
DTSTART:19701101T020000
RRULE:FREQ=YEARLY;BYMONTH=11;BYDAY=1SU
END:STANDARD
END:VTIMEZONE
BEGIN:VEVENT
UID:gnac-454417-20060324@quickscores.com
DTSTAMP:20260420T022000Z
DTSTART;TZID=America/New_York:20060324
SUMMARY:Emmanuel vs. Western New England
DESCRIPTION:Gnac Softball - Great Northeast Athletic Conference
LOCATION:Boston, MA
CATEGORIES:QuickScores, Softball Game
TRANSP:OPAQUE
BEGIN:VALARM
TRIGGER:-PT2H
ACTION:DISPLAY
DESCRIPTION:Emmanuel vs. Western New England
END:VALARM
END:VEVENT
BEGIN:VEVENT
UID:gnac-454416-20060324@quickscores.com
DTSTAMP:20260420T022000Z
DTSTART;TZID=America/New_York:20060324
SUMMARY:Emmanuel vs. Western New England
DESCRIPTION:Gnac Softball - Great Northeast Athletic Conference
LOCATION:Boston, MA
CATEGORIES:QuickScores, Softball Game
TRANSP:OPAQUE
BEGIN:VALARM
TRIGGER:-PT2H
ACTION:DISPLAY
DESCRIPTION:Emmanuel vs. Western New England
END:VALARM
END:VEVENT
BEGIN:VEVENT
UID:gnac-454448-20060326@quickscores.com
DTSTAMP:20260420T022000Z
DTSTART;TZID=America/New_York:20060326
SUMMARY:Simmons vs. Emmanuel
DESCRIPTION:Gnac Softball - Great Northeast Athletic Conference
LOCATION:Boston, MA
CATEGORIES:QuickScores, Softball Game
TRANSP:OPAQUE
BEGIN:VALARM
TRIGGER:-PT2H
ACTION:DISPLAY
DESCRIPTION:Simmons vs. Emmanuel
END:VALARM
END:VEVENT
BEGIN:VEVENT
UID:gnac-454447-20060326@quickscores.com
DTSTAMP:20260420T022000Z
DTSTART;TZID=America/New_York:20060326
SUMMARY:Simmons vs. Emmanuel
DESCRIPTION:Gnac Softball - Great Northeast Athletic Conference
LOCATION:Boston, MA
CATEGORIES:QuickScores, Softball Game
TRANSP:OPAQUE
BEGIN:VALARM
TRIGGER:-PT2H
ACTION:DISPLAY
DESCRIPTION:Simmons vs. Emmanuel
END:VALARM
END:VEVENT
BEGIN:VEVENT
UID:gnac-454445-20060331@quickscores.com
DTSTAMP:20260420T022000Z
DTSTART;TZID=America/New_York:20060331
SUMMARY:Rivier vs. Emmanuel
DESCRIPTION:Gnac Softball - Great Northeast Athletic Conference
LOCATION:Nashua, NH
CATEGORIES:QuickScores, Softball Game
TRANSP:OPAQUE
BEGIN:VALARM
TRIGGER:-PT2H
ACTION:DISPLAY
DESCRIPTION:Rivier vs. Emmanuel
END:VALARM
END:VEVENT
BEGIN:VEVENT
UID:gnac-454446-20060331@quickscores.com
DTSTAMP:20260420T022000Z
DTSTART;TZID=America/New_York:20060331
SUMMARY:Rivier vs. Emmanuel
DESCRIPTION:Gnac Softball - Great Northeast Athletic Conference
LOCATION:Nashua, NH
CATEGORIES:QuickScores, Softball Game
TRANSP:OPAQUE
BEGIN:VALARM
TRIGGER:-PT2H
ACTION:DISPLAY
DESCRIPTION:Rivier vs. Emmanuel
END:VALARM
END:VEVENT
BEGIN:VEVENT
UID:gnac-454467-20060402@quickscores.com
DTSTAMP:20260420T022000Z
DTSTART;TZID=America/New_York:20060402
SUMMARY:Saint Joseph vs. Emmanuel
DESCRIPTION:Gnac Softball - Great Northeast Athletic Conference
LOCATION:W. Hartford, CT
CATEGORIES:QuickScores, Softball Game
TRANSP:OPAQUE
BEGIN:VALARM
TRIGGER:-PT2H
ACTION:DISPLAY
DESCRIPTION:Saint Joseph vs. Emmanuel
END:VALARM
END:VEVENT
BEGIN:VEVENT
UID:gnac-454466-20060402@quickscores.com
DTSTAMP:20260420T022000Z
DTSTART;TZID=America/New_York:20060402
SUMMARY:Saint Joseph vs. Emmanuel
DESCRIPTION:Gnac Softball - Great Northeast Athletic Conference
LOCATION:W. Hartford, CT
CATEGORIES:QuickScores, Softball Game
TRANSP:OPAQUE
BEGIN:VALARM
TRIGGER:-PT2H
ACTION:DISPLAY
DESCRIPTION:Saint Joseph vs. Emmanuel
END:VALARM
END:VEVENT
BEGIN:VEVENT
UID:gnac-454489-20060407@quickscores.com
DTSTAMP:20260420T022000Z
DTSTART;TZID=America/New_York:20060407
SUMMARY:Suffolk vs. Emmanuel
DESCRIPTION:Gnac Softball - Great Northeast Athletic Conference
LOCATION:Boston, MA
CATEGORIES:QuickScores, Softball Game
TRANSP:OPAQUE
BEGIN:VALARM
TRIGGER:-PT2H
ACTION:DISPLAY
DESCRIPTION:Suffolk vs. Emmanuel
END:VALARM
END:VEVENT
BEGIN:VEVENT
UID:gnac-454525-20060409@quickscores.com
DTSTAMP:20260420T022000Z
DTSTART;TZID=America/New_York:20060409
SUMMARY:Emmanuel vs. Johnson & Wales
DESCRIPTION:Gnac Softball - Great Northeast Athletic Conference
LOCATION:Boston, MA
CATEGORIES:QuickScores, Softball Game
TRANSP:OPAQUE
BEGIN:VALARM
TRIGGER:-PT2H
ACTION:DISPLAY
DESCRIPTION:Emmanuel vs. Johnson & Wales
END:VALARM
END:VEVENT
BEGIN:VEVENT
UID:gnac-454532-20060409@quickscores.com
DTSTAMP:20260420T022000Z
DTSTART;TZID=America/New_York:20060409
SUMMARY:Emmanuel vs. Johnson & Wales
DESCRIPTION:Gnac Softball - Great Northeast Athletic Conference
LOCATION:Boston, MA
CATEGORIES:QuickScores, Softball Game
TRANSP:OPAQUE
BEGIN:VALARM
TRIGGER:-PT2H
ACTION:DISPLAY
DESCRIPTION:Emmanuel vs. Johnson & Wales
END:VALARM
END:VEVENT
BEGIN:VEVENT
UID:gnac-454501-20060410@quickscores.com
DTSTAMP:20260420T022000Z
DTSTART;TZID=America/New_York:20060410
SUMMARY:Emmanuel vs. Southern Vermont
DESCRIPTION:Forfeit --- Gnac Softball - Great Northeast Athletic Conference
LOCATION:Boston, MA
CATEGORIES:QuickScores, Softball Game
TRANSP:OPAQUE
BEGIN:VALARM
TRIGGER:-PT2H
ACTION:DISPLAY
DESCRIPTION:Emmanuel vs. Southern Vermont
END:VALARM
END:VEVENT
BEGIN:VEVENT
UID:gnac-454500-20060410@quickscores.com
DTSTAMP:20260420T022000Z
DTSTART;TZID=America/New_York:20060410
SUMMARY:Emmanuel vs. Southern Vermont
DESCRIPTION:Forfeit --- Gnac Softball - Great Northeast Athletic Conference
LOCATION:Boston, MA
CATEGORIES:QuickScores, Softball Game
TRANSP:OPAQUE
BEGIN:VALARM
TRIGGER:-PT2H
ACTION:DISPLAY
DESCRIPTION:Emmanuel vs. Southern Vermont
END:VALARM
END:VEVENT
BEGIN:VEVENT
UID:gnac-454429-20060412@quickscores.com
DTSTAMP:20260420T022000Z
DTSTART;TZID=America/New_York:20060412
SUMMARY:Emmanuel vs. Norwich
DESCRIPTION:Gnac Softball - Great Northeast Athletic Conference
LOCATION:Boston, MA
CATEGORIES:QuickScores, Softball Game
TRANSP:OPAQUE
BEGIN:VALARM
TRIGGER:-PT2H
ACTION:DISPLAY
DESCRIPTION:Emmanuel vs. Norwich
END:VALARM
END:VEVENT
BEGIN:VEVENT
UID:gnac-454428-20060412@quickscores.com
DTSTAMP:20260420T022000Z
DTSTART;TZID=America/New_York:20060412
SUMMARY:Emmanuel vs. Norwich
DESCRIPTION:Gnac Softball - Great Northeast Athletic Conference
LOCATION:Boston, MA
CATEGORIES:QuickScores, Softball Game
TRANSP:OPAQUE
BEGIN:VALARM
TRIGGER:-PT2H
ACTION:DISPLAY
DESCRIPTION:Emmanuel vs. Norwich
END:VALARM
END:VEVENT
BEGIN:VEVENT
UID:gnac-454488-20060413@quickscores.com
DTSTAMP:20260420T022000Z
DTSTART;TZID=America/New_York:20060413
SUMMARY:Suffolk vs. Emmanuel
DESCRIPTION:Gnac Softball - Great Northeast Athletic Conference
LOCATION:Boston, MA
CATEGORIES:QuickScores, Softball Game
TRANSP:OPAQUE
BEGIN:VALARM
TRIGGER:-PT2H
ACTION:DISPLAY
DESCRIPTION:Suffolk vs. Emmanuel
END:VALARM
END:VEVENT
BEGIN:VEVENT
UID:gnac-454531-20060414@quickscores.com
DTSTAMP:20260420T022000Z
DTSTART;TZID=America/New_York:20060414
SUMMARY:Emmanuel vs. Daniel Webster
DESCRIPTION:Gnac Softball - Great Northeast Athletic Conference
LOCATION:Boston, MA
CATEGORIES:QuickScores, Softball Game
TRANSP:OPAQUE
BEGIN:VALARM
TRIGGER:-PT2H
ACTION:DISPLAY
DESCRIPTION:Emmanuel vs. Daniel Webster
END:VALARM
END:VEVENT
BEGIN:VEVENT
UID:gnac-454526-20060414@quickscores.com
DTSTAMP:20260420T022000Z
DTSTART;TZID=America/New_York:20060414
SUMMARY:Emmanuel vs. Daniel Webster
DESCRIPTION:Gnac Softball - Great Northeast Athletic Conference
LOCATION:Boston, MA
CATEGORIES:QuickScores, Softball Game
TRANSP:OPAQUE
BEGIN:VALARM
TRIGGER:-PT2H
ACTION:DISPLAY
DESCRIPTION:Emmanuel vs. Daniel Webster
END:VALARM
END:VEVENT
BEGIN:VEVENT
UID:gnac-454459-20060418@quickscores.com
DTSTAMP:20260420T022000Z
DTSTART;TZID=America/New_York:20060418
SUMMARY:Emmanuel vs. Albertus Magnus
DESCRIPTION:Gnac Softball - Great Northeast Athletic Conference
LOCATION:Boston, MA
CATEGORIES:QuickScores, Softball Game
TRANSP:OPAQUE
BEGIN:VALARM
TRIGGER:-PT2H
ACTION:DISPLAY
DESCRIPTION:Emmanuel vs. Albertus Magnus
END:VALARM
END:VEVENT
BEGIN:VEVENT
UID:gnac-454458-20060418@quickscores.com
DTSTAMP:20260420T022000Z
DTSTART;TZID=America/New_York:20060418
SUMMARY:Emmanuel vs. Albertus Magnus
DESCRIPTION:Gnac Softball - Great Northeast Athletic Conference
LOCATION:Boston, MA
CATEGORIES:QuickScores, Softball Game
TRANSP:OPAQUE
BEGIN:VALARM
TRIGGER:-PT2H
ACTION:DISPLAY
DESCRIPTION:Emmanuel vs. Albertus Magnus
END:VALARM
END:VEVENT
BEGIN:VEVENT
UID:gnac-454548-20060421@quickscores.com
DTSTAMP:20260420T022000Z
DTSTART;TZID=America/New_York:20060421
SUMMARY:Emmanuel vs. Emerson
DESCRIPTION:Gnac Softball - Great Northeast Athletic Conference
LOCATION:Boston, MA
CATEGORIES:QuickScores, Softball Game
TRANSP:OPAQUE
BEGIN:VALARM
TRIGGER:-PT2H
ACTION:DISPLAY
DESCRIPTION:Emmanuel vs. Emerson
END:VALARM
END:VEVENT
BEGIN:VEVENT
UID:gnac-454549-20060421@quickscores.com
DTSTAMP:20260420T022000Z
DTSTART;TZID=America/New_York:20060421
SUMMARY:Emmanuel vs. Emerson
DESCRIPTION:Gnac Softball - Great Northeast Athletic Conference
LOCATION:Boston, MA
CATEGORIES:QuickScores, Softball Game
TRANSP:OPAQUE
BEGIN:VALARM
TRIGGER:-PT2H
ACTION:DISPLAY
DESCRIPTION:Emmanuel vs. Emerson
END:VALARM
END:VEVENT
BEGIN:VEVENT
UID:gnac-454582-20060422@quickscores.com
DTSTAMP:20260420T022000Z
DTSTART;TZID=America/New_York:20060422
SUMMARY:Emmanuel vs. Pine Manor
DESCRIPTION:Gnac Softball - Great Northeast Athletic Conference
LOCATION:Boston, MA
CATEGORIES:QuickScores, Softball Game
TRANSP:OPAQUE
BEGIN:VALARM
TRIGGER:-PT2H
ACTION:DISPLAY
DESCRIPTION:Emmanuel vs. Pine Manor
END:VALARM
END:VEVENT
BEGIN:VEVENT
UID:gnac-454581-20060422@quickscores.com
DTSTAMP:20260420T022000Z
DTSTART;TZID=America/New_York:20060422
SUMMARY:Emmanuel vs. Pine Manor
DESCRIPTION:Gnac Softball - Great Northeast Athletic Conference
LOCATION:Boston, MA
CATEGORIES:QuickScores, Softball Game
TRANSP:OPAQUE
BEGIN:VALARM
TRIGGER:-PT2H
ACTION:DISPLAY
DESCRIPTION:Emmanuel vs. Pine Manor
END:VALARM
END:VEVENT
END:VCALENDAR
