BEGIN:VCALENDAR
VERSION:2.0
PRODID:-//QuickScores.com//BQ Dynamic iCal Creator//EN
METHOD:PUBLISH
X-WR-CALNAME:Albertus Magnus - Gnac Softball - Spring 2006
X-WR-CALDESC:QuickScores game calendar
X-PUBLISHED-TTL:PT24H
REFRESH-INTERVAL;VALUE=DURATION:PT24H
CALSCALE:GREGORIAN
BEGIN:VTIMEZONE
TZID:America/New_York
X-LIC-LOCATION:America/New_York
BEGIN:DAYLIGHT
TZNAME:EDT
TZOFFSETFROM:-0500
TZOFFSETTO:-0400
DTSTART:19700308T020000
RRULE:FREQ=YEARLY;BYMONTH=3;BYDAY=2SU
END:DAYLIGHT
BEGIN:STANDARD
TZNAME:EST
TZOFFSETFROM:-0400
TZOFFSETTO:-0500
DTSTART:19701101T020000
RRULE:FREQ=YEARLY;BYMONTH=11;BYDAY=1SU
END:STANDARD
END:VTIMEZONE
BEGIN:VEVENT
UID:gnac-454415-20060324@quickscores.com
DTSTAMP:20260420T035800Z
DTSTART;TZID=America/New_York:20060324
SUMMARY:Albertus Magnus vs. Johnson & Wales
DESCRIPTION:Gnac Softball - Great Northeast Athletic Conference
LOCATION:New Haven, CT
CATEGORIES:QuickScores, Softball Game
TRANSP:OPAQUE
BEGIN:VALARM
TRIGGER:-PT2H
ACTION:DISPLAY
DESCRIPTION:Albertus Magnus vs. Johnson & Wales
END:VALARM
END:VEVENT
BEGIN:VEVENT
UID:gnac-454421-20060324@quickscores.com
DTSTAMP:20260420T035800Z
DTSTART;TZID=America/New_York:20060324
SUMMARY:Albertus Magnus vs. Johnson & Wales
DESCRIPTION:to be completed 4/24 AM leads 1-0 4th inning --- Gnac Softball - Great Northeast Athletic Conference
LOCATION:New Haven, CT
CATEGORIES:QuickScores, Softball Game
TRANSP:OPAQUE
BEGIN:VALARM
TRIGGER:-PT2H
ACTION:DISPLAY
DESCRIPTION:Albertus Magnus vs. Johnson & Wales
END:VALARM
END:VEVENT
BEGIN:VEVENT
UID:gnac-454433-20060325@quickscores.com
DTSTAMP:20260420T035800Z
DTSTART;TZID=America/New_York:20060325
SUMMARY:Suffolk vs. Albertus Magnus
DESCRIPTION:Gnac Softball - Great Northeast Athletic Conference
LOCATION:Boston, MA
CATEGORIES:QuickScores, Softball Game
TRANSP:OPAQUE
BEGIN:VALARM
TRIGGER:-PT2H
ACTION:DISPLAY
DESCRIPTION:Suffolk vs. Albertus Magnus
END:VALARM
END:VEVENT
BEGIN:VEVENT
UID:gnac-454434-20060325@quickscores.com
DTSTAMP:20260420T035800Z
DTSTART;TZID=America/New_York:20060325
SUMMARY:Suffolk vs. Albertus Magnus
DESCRIPTION:Gnac Softball - Great Northeast Athletic Conference
LOCATION:Boston, MA
CATEGORIES:QuickScores, Softball Game
TRANSP:OPAQUE
BEGIN:VALARM
TRIGGER:-PT2H
ACTION:DISPLAY
DESCRIPTION:Suffolk vs. Albertus Magnus
END:VALARM
END:VEVENT
BEGIN:VEVENT
UID:gnac-454441-20060326@quickscores.com
DTSTAMP:20260420T035800Z
DTSTART;TZID=America/New_York:20060326
SUMMARY:Rivier vs. Albertus Magnus
DESCRIPTION:Gnac Softball - Great Northeast Athletic Conference
LOCATION:Nashua, NH
CATEGORIES:QuickScores, Softball Game
TRANSP:OPAQUE
BEGIN:VALARM
TRIGGER:-PT2H
ACTION:DISPLAY
DESCRIPTION:Rivier vs. Albertus Magnus
END:VALARM
END:VEVENT
BEGIN:VEVENT
UID:gnac-454440-20060326@quickscores.com
DTSTAMP:20260420T035800Z
DTSTART;TZID=America/New_York:20060326
SUMMARY:Rivier vs. Albertus Magnus
DESCRIPTION:Gnac Softball - Great Northeast Athletic Conference
LOCATION:Nashua, NH
CATEGORIES:QuickScores, Softball Game
TRANSP:OPAQUE
BEGIN:VALARM
TRIGGER:-PT2H
ACTION:DISPLAY
DESCRIPTION:Rivier vs. Albertus Magnus
END:VALARM
END:VEVENT
BEGIN:VEVENT
UID:gnac-454474-20060402@quickscores.com
DTSTAMP:20260420T035800Z
DTSTART;TZID=America/New_York:20060402
SUMMARY:Albertus Magnus vs. Emerson
DESCRIPTION:Gnac Softball - Great Northeast Athletic Conference
LOCATION:New Haven, CT
CATEGORIES:QuickScores, Softball Game
TRANSP:OPAQUE
BEGIN:VALARM
TRIGGER:-PT2H
ACTION:DISPLAY
DESCRIPTION:Albertus Magnus vs. Emerson
END:VALARM
END:VEVENT
BEGIN:VEVENT
UID:gnac-454473-20060402@quickscores.com
DTSTAMP:20260420T035800Z
DTSTART;TZID=America/New_York:20060402
SUMMARY:Albertus Magnus vs. Emerson
DESCRIPTION:Gnac Softball - Great Northeast Athletic Conference
LOCATION:New Haven, CT
CATEGORIES:QuickScores, Softball Game
TRANSP:OPAQUE
BEGIN:VALARM
TRIGGER:-PT2H
ACTION:DISPLAY
DESCRIPTION:Albertus Magnus vs. Emerson
END:VALARM
END:VEVENT
BEGIN:VEVENT
UID:gnac-454485-20060407@quickscores.com
DTSTAMP:20260420T035800Z
DTSTART;TZID=America/New_York:20060407
SUMMARY:Albertus Magnus vs. Western New England
DESCRIPTION:PPD to 4/20 --- Gnac Softball - Great Northeast Athletic Conference
LOCATION:New Haven, CT
CATEGORIES:QuickScores, Softball Game
TRANSP:OPAQUE
BEGIN:VALARM
TRIGGER:-PT2H
ACTION:DISPLAY
DESCRIPTION:Albertus Magnus vs. Western New England
END:VALARM
END:VEVENT
BEGIN:VEVENT
UID:gnac-454492-20060407@quickscores.com
DTSTAMP:20260420T035800Z
DTSTART;TZID=America/New_York:20060407
SUMMARY:Albertus Magnus vs. Western New England
DESCRIPTION:PPD to 4/20 --- Gnac Softball - Great Northeast Athletic Conference
LOCATION:New Haven, CT
CATEGORIES:QuickScores, Softball Game
TRANSP:OPAQUE
BEGIN:VALARM
TRIGGER:-PT2H
ACTION:DISPLAY
DESCRIPTION:Albertus Magnus vs. Western New England
END:VALARM
END:VEVENT
BEGIN:VEVENT
UID:gnac-454495-20060408@quickscores.com
DTSTAMP:20260420T035800Z
DTSTART;TZID=America/New_York:20060408
SUMMARY:Pine Manor vs. Albertus Magnus
DESCRIPTION:Gnac Softball - Great Northeast Athletic Conference
LOCATION:Chestnut Hill, MA
CATEGORIES:QuickScores, Softball Game
TRANSP:OPAQUE
BEGIN:VALARM
TRIGGER:-PT2H
ACTION:DISPLAY
DESCRIPTION:Pine Manor vs. Albertus Magnus
END:VALARM
END:VEVENT
BEGIN:VEVENT
UID:gnac-454502-20060408@quickscores.com
DTSTAMP:20260420T035800Z
DTSTART;TZID=America/New_York:20060408
SUMMARY:Pine Manor vs. Albertus Magnus
DESCRIPTION:Gnac Softball - Great Northeast Athletic Conference
LOCATION:Chestnut Hill, MA
CATEGORIES:QuickScores, Softball Game
TRANSP:OPAQUE
BEGIN:VALARM
TRIGGER:-PT2H
ACTION:DISPLAY
DESCRIPTION:Pine Manor vs. Albertus Magnus
END:VALARM
END:VEVENT
BEGIN:VEVENT
UID:gnac-454534-20060415@quickscores.com
DTSTAMP:20260420T035800Z
DTSTART;TZID=America/New_York:20060415
SUMMARY:Albertus Magnus vs. Norwich
DESCRIPTION:Gnac Softball - Great Northeast Athletic Conference
LOCATION:New Haven, CT
CATEGORIES:QuickScores, Softball Game
TRANSP:OPAQUE
BEGIN:VALARM
TRIGGER:-PT2H
ACTION:DISPLAY
DESCRIPTION:Albertus Magnus vs. Norwich
END:VALARM
END:VEVENT
BEGIN:VEVENT
UID:gnac-454535-20060415@quickscores.com
DTSTAMP:20260420T035800Z
DTSTART;TZID=America/New_York:20060415
SUMMARY:Albertus Magnus vs. Norwich
DESCRIPTION:Gnac Softball - Great Northeast Athletic Conference
LOCATION:New Haven, CT
CATEGORIES:QuickScores, Softball Game
TRANSP:OPAQUE
BEGIN:VALARM
TRIGGER:-PT2H
ACTION:DISPLAY
DESCRIPTION:Albertus Magnus vs. Norwich
END:VALARM
END:VEVENT
BEGIN:VEVENT
UID:gnac-454519-20060417@quickscores.com
DTSTAMP:20260420T035800Z
DTSTART;TZID=America/New_York:20060417
SUMMARY:Albertus Magnus vs. Simmons
DESCRIPTION:Gnac Softball - Great Northeast Athletic Conference
LOCATION:New Haven, CT
CATEGORIES:QuickScores, Softball Game
TRANSP:OPAQUE
BEGIN:VALARM
TRIGGER:-PT2H
ACTION:DISPLAY
DESCRIPTION:Albertus Magnus vs. Simmons
END:VALARM
END:VEVENT
BEGIN:VEVENT
UID:gnac-454520-20060417@quickscores.com
DTSTAMP:20260420T035800Z
DTSTART;TZID=America/New_York:20060417
SUMMARY:Albertus Magnus vs. Simmons
DESCRIPTION:Gnac Softball - Great Northeast Athletic Conference
LOCATION:New Haven, CT
CATEGORIES:QuickScores, Softball Game
TRANSP:OPAQUE
BEGIN:VALARM
TRIGGER:-PT2H
ACTION:DISPLAY
DESCRIPTION:Albertus Magnus vs. Simmons
END:VALARM
END:VEVENT
BEGIN:VEVENT
UID:gnac-454459-20060418@quickscores.com
DTSTAMP:20260420T035800Z
DTSTART;TZID=America/New_York:20060418
SUMMARY:Emmanuel vs. Albertus Magnus
DESCRIPTION:Gnac Softball - Great Northeast Athletic Conference
LOCATION:Boston, MA
CATEGORIES:QuickScores, Softball Game
TRANSP:OPAQUE
BEGIN:VALARM
TRIGGER:-PT2H
ACTION:DISPLAY
DESCRIPTION:Emmanuel vs. Albertus Magnus
END:VALARM
END:VEVENT
BEGIN:VEVENT
UID:gnac-454458-20060418@quickscores.com
DTSTAMP:20260420T035800Z
DTSTART;TZID=America/New_York:20060418
SUMMARY:Emmanuel vs. Albertus Magnus
DESCRIPTION:Gnac Softball - Great Northeast Athletic Conference
LOCATION:Boston, MA
CATEGORIES:QuickScores, Softball Game
TRANSP:OPAQUE
BEGIN:VALARM
TRIGGER:-PT2H
ACTION:DISPLAY
DESCRIPTION:Emmanuel vs. Albertus Magnus
END:VALARM
END:VEVENT
BEGIN:VEVENT
UID:gnac-454569-20060421@quickscores.com
DTSTAMP:20260420T035800Z
DTSTART;TZID=America/New_York:20060421
SUMMARY:Saint Joseph vs. Albertus Magnus
DESCRIPTION:Gnac Softball - Great Northeast Athletic Conference
LOCATION:W. Hartford, CT
CATEGORIES:QuickScores, Softball Game
TRANSP:OPAQUE
BEGIN:VALARM
TRIGGER:-PT2H
ACTION:DISPLAY
DESCRIPTION:Saint Joseph vs. Albertus Magnus
END:VALARM
END:VEVENT
BEGIN:VEVENT
UID:gnac-454568-20060421@quickscores.com
DTSTAMP:20260420T035800Z
DTSTART;TZID=America/New_York:20060421
SUMMARY:Saint Joseph vs. Albertus Magnus
DESCRIPTION:Gnac Softball - Great Northeast Athletic Conference
LOCATION:W. Hartford, CT
CATEGORIES:QuickScores, Softball Game
TRANSP:OPAQUE
BEGIN:VALARM
TRIGGER:-PT2H
ACTION:DISPLAY
DESCRIPTION:Saint Joseph vs. Albertus Magnus
END:VALARM
END:VEVENT
BEGIN:VEVENT
UID:gnac-454580-20060422@quickscores.com
DTSTAMP:20260420T035800Z
DTSTART;TZID=America/New_York:20060422
SUMMARY:Southern Vermont vs. Albertus Magnus
DESCRIPTION:Gnac Softball - Great Northeast Athletic Conference
LOCATION:Bennington, VT
CATEGORIES:QuickScores, Softball Game
TRANSP:OPAQUE
BEGIN:VALARM
TRIGGER:-PT2H
ACTION:DISPLAY
DESCRIPTION:Southern Vermont vs. Albertus Magnus
END:VALARM
END:VEVENT
BEGIN:VEVENT
UID:gnac-454579-20060422@quickscores.com
DTSTAMP:20260420T035800Z
DTSTART;TZID=America/New_York:20060422
SUMMARY:Southern Vermont vs. Albertus Magnus
DESCRIPTION:Gnac Softball - Great Northeast Athletic Conference
LOCATION:Bennington, VT
CATEGORIES:QuickScores, Softball Game
TRANSP:OPAQUE
BEGIN:VALARM
TRIGGER:-PT2H
ACTION:DISPLAY
DESCRIPTION:Southern Vermont vs. Albertus Magnus
END:VALARM
END:VEVENT
BEGIN:VEVENT
UID:gnac-454881-20060423@quickscores.com
DTSTAMP:20260420T035800Z
DTSTART;TZID=America/New_York:20060423
SUMMARY:Daniel Webster vs. Albertus Magnus
DESCRIPTION:Gnac Softball - Great Northeast Athletic Conference
LOCATION:Nashua, NH
CATEGORIES:QuickScores, Softball Game
TRANSP:OPAQUE
BEGIN:VALARM
TRIGGER:-PT2H
ACTION:DISPLAY
DESCRIPTION:Daniel Webster vs. Albertus Magnus
END:VALARM
END:VEVENT
BEGIN:VEVENT
UID:gnac-454882-20060423@quickscores.com
DTSTAMP:20260420T035800Z
DTSTART;TZID=America/New_York:20060423
SUMMARY:Daniel Webster vs. Albertus Magnus
DESCRIPTION:Gnac Softball - Great Northeast Athletic Conference
LOCATION:Nashua, NH
CATEGORIES:QuickScores, Softball Game
TRANSP:OPAQUE
BEGIN:VALARM
TRIGGER:-PT2H
ACTION:DISPLAY
DESCRIPTION:Daniel Webster vs. Albertus Magnus
END:VALARM
END:VEVENT
END:VCALENDAR
