BEGIN:VCALENDAR
VERSION:2.0
PRODID:-//QuickScores.com//BQ Dynamic iCal Creator//EN
METHOD:PUBLISH
X-WR-CALNAME:Saint Joseph&#039;s ME - 2015-2016 Wbb - Winter 2015-16
X-WR-CALDESC:QuickScores game calendar
X-PUBLISHED-TTL:PT24H
REFRESH-INTERVAL;VALUE=DURATION:PT24H
CALSCALE:GREGORIAN
BEGIN:VTIMEZONE
TZID:America/New_York
X-LIC-LOCATION:America/New_York
BEGIN:DAYLIGHT
TZNAME:EDT
TZOFFSETFROM:-0500
TZOFFSETTO:-0400
DTSTART:19700308T020000
RRULE:FREQ=YEARLY;BYMONTH=3;BYDAY=2SU
END:DAYLIGHT
BEGIN:STANDARD
TZNAME:EST
TZOFFSETFROM:-0400
TZOFFSETTO:-0500
DTSTART:19701101T020000
RRULE:FREQ=YEARLY;BYMONTH=11;BYDAY=1SU
END:STANDARD
END:VTIMEZONE
BEGIN:VEVENT
UID:gnac-23330857-20160109@quickscores.com
DTSTAMP:20260424T091800Z
DTSTART;TZID=America/New_York:20160109
SUMMARY:Saint Joseph's ME vs. Albertus Magnus
DESCRIPTION:2016 DH w MBB --- 2015-2016 Wbb - Great Northeast Athletic Conference
LOCATION:Standish ME
CATEGORIES:QuickScores, Basketball Game
TRANSP:OPAQUE
BEGIN:VALARM
TRIGGER:-PT2H
ACTION:DISPLAY
DESCRIPTION:Saint Joseph's ME vs. Albertus Magnus
END:VALARM
END:VEVENT
BEGIN:VEVENT
UID:gnac-23330854-20160116@quickscores.com
DTSTAMP:20260424T091800Z
DTSTART;TZID=America/New_York:20160116
SUMMARY:Lasell vs. Saint Joseph's ME
DESCRIPTION:2016 DH w MBB --- 2015-2016 Wbb - Great Northeast Athletic Conference
LOCATION:Lasell Newton
CATEGORIES:QuickScores, Basketball Game
TRANSP:OPAQUE
BEGIN:VALARM
TRIGGER:-PT2H
ACTION:DISPLAY
DESCRIPTION:Lasell vs. Saint Joseph's ME
END:VALARM
END:VEVENT
BEGIN:VEVENT
UID:gnac-23330787-20160118@quickscores.com
DTSTAMP:20260424T091800Z
DTSTART;TZID=America/New_York:20160118
SUMMARY:Saint Joseph's ME vs. Suffolk
DESCRIPTION:MLK Day. 2016 DH w MBB. --- 2015-2016 Wbb - Great Northeast Athletic Conference
LOCATION:Standish ME
CATEGORIES:QuickScores, Basketball Game
TRANSP:OPAQUE
BEGIN:VALARM
TRIGGER:-PT2H
ACTION:DISPLAY
DESCRIPTION:Saint Joseph's ME vs. Suffolk
END:VALARM
END:VEVENT
BEGIN:VEVENT
UID:gnac-23330853-20160123@quickscores.com
DTSTAMP:20260424T091800Z
DTSTART;TZID=America/New_York:20160123
SUMMARY:Johnson & Wales vs. Saint Joseph's ME
DESCRIPTION:2016 DH w MBB --- 2015-2016 Wbb - Great Northeast Athletic Conference
LOCATION:Harborside Athletic Center
CATEGORIES:QuickScores, Basketball Game
TRANSP:OPAQUE
BEGIN:VALARM
TRIGGER:-PT2H
ACTION:DISPLAY
DESCRIPTION:Johnson & Wales vs. Saint Joseph's ME
END:VALARM
END:VEVENT
BEGIN:VEVENT
UID:gnac-23330796-20160130@quickscores.com
DTSTAMP:20260424T091800Z
DTSTART;TZID=America/New_York:20160130
SUMMARY:Saint Joseph's ME vs. Saint Joseph CT
DESCRIPTION:2015-2016 Wbb - Great Northeast Athletic Conference
LOCATION:Standish ME
CATEGORIES:QuickScores, Basketball Game
TRANSP:OPAQUE
BEGIN:VALARM
TRIGGER:-PT2H
ACTION:DISPLAY
DESCRIPTION:Saint Joseph's ME vs. Saint Joseph CT
END:VALARM
END:VEVENT
BEGIN:VEVENT
UID:gnac-23330808-20160202@quickscores.com
DTSTAMP:20260424T091800Z
DTSTART;TZID=America/New_York:20160202
SUMMARY:Saint Joseph's ME vs. Rivier
DESCRIPTION:2015-2016 Wbb - Great Northeast Athletic Conference
LOCATION:Standish ME
CATEGORIES:QuickScores, Basketball Game
TRANSP:OPAQUE
BEGIN:VALARM
TRIGGER:-PT2H
ACTION:DISPLAY
DESCRIPTION:Saint Joseph's ME vs. Rivier
END:VALARM
END:VEVENT
BEGIN:VEVENT
UID:gnac-23330811-20160206@quickscores.com
DTSTAMP:20260424T091800Z
DTSTART;TZID=America/New_York:20160206
SUMMARY:Saint Joseph's ME vs. Mount Ida
DESCRIPTION:2016 DH w MBB --- 2015-2016 Wbb - Great Northeast Athletic Conference
LOCATION:Standish ME
CATEGORIES:QuickScores, Basketball Game
TRANSP:OPAQUE
BEGIN:VALARM
TRIGGER:-PT2H
ACTION:DISPLAY
DESCRIPTION:Saint Joseph's ME vs. Mount Ida
END:VALARM
END:VEVENT
BEGIN:VEVENT
UID:gnac-23330794-20160209@quickscores.com
DTSTAMP:20260424T091800Z
DTSTART;TZID=America/New_York:20160209
SUMMARY:Emmanuel vs. Saint Joseph's ME
DESCRIPTION:2015-2016 Wbb - Great Northeast Athletic Conference
LOCATION:Jean Yawkey Center
CATEGORIES:QuickScores, Basketball Game
TRANSP:OPAQUE
BEGIN:VALARM
TRIGGER:-PT2H
ACTION:DISPLAY
DESCRIPTION:Emmanuel vs. Saint Joseph's ME
END:VALARM
END:VEVENT
BEGIN:VEVENT
UID:gnac-23330789-20160213@quickscores.com
DTSTAMP:20260424T091800Z
DTSTART;TZID=America/New_York:20160213
SUMMARY:Saint Joseph's ME vs. Norwich
DESCRIPTION:2016 DH w MBB --- 2015-2016 Wbb - Great Northeast Athletic Conference
LOCATION:Standish ME
CATEGORIES:QuickScores, Basketball Game
TRANSP:OPAQUE
BEGIN:VALARM
TRIGGER:-PT2H
ACTION:DISPLAY
DESCRIPTION:Saint Joseph's ME vs. Norwich
END:VALARM
END:VEVENT
BEGIN:VEVENT
UID:gnac-23330819-20160216@quickscores.com
DTSTAMP:20260424T091800Z
DTSTART;TZID=America/New_York:20160216
SUMMARY:Simmons vs. Saint Joseph's ME
DESCRIPTION:2015-2016 Wbb - Great Northeast Athletic Conference
LOCATION:Holmes Sports Center
CATEGORIES:QuickScores, Basketball Game
TRANSP:OPAQUE
BEGIN:VALARM
TRIGGER:-PT2H
ACTION:DISPLAY
DESCRIPTION:Simmons vs. Saint Joseph's ME
END:VALARM
END:VEVENT
BEGIN:VEVENT
UID:gnac-23330790-20160220@quickscores.com
DTSTAMP:20260424T091800Z
DTSTART;TZID=America/New_York:20160220
SUMMARY:Anna Maria vs. Saint Joseph's ME
DESCRIPTION:2016 DH w MBB --- 2015-2016 Wbb - Great Northeast Athletic Conference
LOCATION:Paxton MA
CATEGORIES:QuickScores, Basketball Game
TRANSP:OPAQUE
BEGIN:VALARM
TRIGGER:-PT2H
ACTION:DISPLAY
DESCRIPTION:Anna Maria vs. Saint Joseph's ME
END:VALARM
END:VEVENT
END:VCALENDAR
