BEGIN:VCALENDAR
VERSION:2.0
PRODID:-//QuickScores.com//BQ Dynamic iCal Creator//EN
METHOD:PUBLISH
X-WR-CALNAME:Norwich - 2015-2016 Wbb - Winter 2015-16
X-WR-CALDESC:QuickScores game calendar
X-PUBLISHED-TTL:PT24H
REFRESH-INTERVAL;VALUE=DURATION:PT24H
CALSCALE:GREGORIAN
BEGIN:VTIMEZONE
TZID:America/New_York
X-LIC-LOCATION:America/New_York
BEGIN:DAYLIGHT
TZNAME:EDT
TZOFFSETFROM:-0500
TZOFFSETTO:-0400
DTSTART:19700308T020000
RRULE:FREQ=YEARLY;BYMONTH=3;BYDAY=2SU
END:DAYLIGHT
BEGIN:STANDARD
TZNAME:EST
TZOFFSETFROM:-0400
TZOFFSETTO:-0500
DTSTART:19701101T020000
RRULE:FREQ=YEARLY;BYMONTH=11;BYDAY=1SU
END:STANDARD
END:VTIMEZONE
BEGIN:VEVENT
UID:gnac-23330799-20160105@quickscores.com
DTSTAMP:20260424T104500Z
DTSTART;TZID=America/New_York:20160105
SUMMARY:Emmanuel vs. Norwich
DESCRIPTION:2016 DH w MBB --- 2015-2016 Wbb - Great Northeast Athletic Conference
LOCATION:Jean Yawkey Center
CATEGORIES:QuickScores, Basketball Game
TRANSP:OPAQUE
BEGIN:VALARM
TRIGGER:-PT2H
ACTION:DISPLAY
DESCRIPTION:Emmanuel vs. Norwich
END:VALARM
END:VEVENT
BEGIN:VEVENT
UID:gnac-23330826-20160109@quickscores.com
DTSTAMP:20260424T104500Z
DTSTART;TZID=America/New_York:20160109
SUMMARY:Johnson & Wales vs. Norwich
DESCRIPTION:2016 DH w MBB --- 2015-2016 Wbb - Great Northeast Athletic Conference
LOCATION:Harborside Athletic Center
CATEGORIES:QuickScores, Basketball Game
TRANSP:OPAQUE
BEGIN:VALARM
TRIGGER:-PT2H
ACTION:DISPLAY
DESCRIPTION:Johnson & Wales vs. Norwich
END:VALARM
END:VEVENT
BEGIN:VEVENT
UID:gnac-23330855-20160112@quickscores.com
DTSTAMP:20260424T104500Z
DTSTART;TZID=America/New_York:20160112
SUMMARY:Norwich vs. Simmons
DESCRIPTION:2015-2016 Wbb - Great Northeast Athletic Conference
LOCATION:Northfield, VT
CATEGORIES:QuickScores, Basketball Game
TRANSP:OPAQUE
BEGIN:VALARM
TRIGGER:-PT2H
ACTION:DISPLAY
DESCRIPTION:Norwich vs. Simmons
END:VALARM
END:VEVENT
BEGIN:VEVENT
UID:gnac-23330824-20160116@quickscores.com
DTSTAMP:20260424T104500Z
DTSTART;TZID=America/New_York:20160116
SUMMARY:Norwich vs. Anna Maria
DESCRIPTION:2016 DH w MBB --- 2015-2016 Wbb - Great Northeast Athletic Conference
LOCATION:Northfield, VT
CATEGORIES:QuickScores, Basketball Game
TRANSP:OPAQUE
BEGIN:VALARM
TRIGGER:-PT2H
ACTION:DISPLAY
DESCRIPTION:Norwich vs. Anna Maria
END:VALARM
END:VEVENT
BEGIN:VEVENT
UID:gnac-23330837-20160118@quickscores.com
DTSTAMP:20260424T104500Z
DTSTART;TZID=America/New_York:20160118
SUMMARY:Lasell vs. Norwich
DESCRIPTION:MLK Day. 2016 DH w MBB. --- 2015-2016 Wbb - Great Northeast Athletic Conference
LOCATION:Lasell Newton
CATEGORIES:QuickScores, Basketball Game
TRANSP:OPAQUE
BEGIN:VALARM
TRIGGER:-PT2H
ACTION:DISPLAY
DESCRIPTION:Lasell vs. Norwich
END:VALARM
END:VEVENT
BEGIN:VEVENT
UID:gnac-23330818-20160123@quickscores.com
DTSTAMP:20260424T104500Z
DTSTART;TZID=America/New_York:20160123
SUMMARY:Norwich vs. Albertus Magnus
DESCRIPTION:2016 DH w MBB --- 2015-2016 Wbb - Great Northeast Athletic Conference
LOCATION:Northfield, VT
CATEGORIES:QuickScores, Basketball Game
TRANSP:OPAQUE
BEGIN:VALARM
TRIGGER:-PT2H
ACTION:DISPLAY
DESCRIPTION:Norwich vs. Albertus Magnus
END:VALARM
END:VEVENT
BEGIN:VEVENT
UID:gnac-23330825-20160128@quickscores.com
DTSTAMP:20260424T104500Z
DTSTART;TZID=America/New_York:20160128
SUMMARY:Saint Joseph CT vs. Norwich
DESCRIPTION:2015-2016 Wbb - Great Northeast Athletic Conference
LOCATION:W. Hartford, CT
CATEGORIES:QuickScores, Basketball Game
TRANSP:OPAQUE
BEGIN:VALARM
TRIGGER:-PT2H
ACTION:DISPLAY
DESCRIPTION:Saint Joseph CT vs. Norwich
END:VALARM
END:VEVENT
BEGIN:VEVENT
UID:gnac-23330843-20160130@quickscores.com
DTSTAMP:20260424T104500Z
DTSTART;TZID=America/New_York:20160130
SUMMARY:Norwich vs. Mount Ida
DESCRIPTION:2016 DH w MBB --- 2015-2016 Wbb - Great Northeast Athletic Conference
LOCATION:Northfield, VT
CATEGORIES:QuickScores, Basketball Game
TRANSP:OPAQUE
BEGIN:VALARM
TRIGGER:-PT2H
ACTION:DISPLAY
DESCRIPTION:Norwich vs. Mount Ida
END:VALARM
END:VEVENT
BEGIN:VEVENT
UID:gnac-23330803-20160206@quickscores.com
DTSTAMP:20260424T104500Z
DTSTART;TZID=America/New_York:20160206
SUMMARY:Suffolk vs. Norwich
DESCRIPTION:2016 DH w MBB --- 2015-2016 Wbb - Great Northeast Athletic Conference
LOCATION:Suffolk
CATEGORIES:QuickScores, Basketball Game
TRANSP:OPAQUE
BEGIN:VALARM
TRIGGER:-PT2H
ACTION:DISPLAY
DESCRIPTION:Suffolk vs. Norwich
END:VALARM
END:VEVENT
BEGIN:VEVENT
UID:gnac-23330789-20160213@quickscores.com
DTSTAMP:20260424T104500Z
DTSTART;TZID=America/New_York:20160213
SUMMARY:Saint Joseph's ME vs. Norwich
DESCRIPTION:2016 DH w MBB --- 2015-2016 Wbb - Great Northeast Athletic Conference
LOCATION:Standish ME
CATEGORIES:QuickScores, Basketball Game
TRANSP:OPAQUE
BEGIN:VALARM
TRIGGER:-PT2H
ACTION:DISPLAY
DESCRIPTION:Saint Joseph's ME vs. Norwich
END:VALARM
END:VEVENT
BEGIN:VEVENT
UID:gnac-23330807-20160220@quickscores.com
DTSTAMP:20260424T104500Z
DTSTART;TZID=America/New_York:20160220
SUMMARY:Norwich vs. Rivier
DESCRIPTION:2015-2016 Wbb - Great Northeast Athletic Conference
LOCATION:Northfield, VT
CATEGORIES:QuickScores, Basketball Game
TRANSP:OPAQUE
BEGIN:VALARM
TRIGGER:-PT2H
ACTION:DISPLAY
DESCRIPTION:Norwich vs. Rivier
END:VALARM
END:VEVENT
END:VCALENDAR
