BEGIN:VCALENDAR
VERSION:2.0
PRODID:-//QuickScores.com//BQ Dynamic iCal Creator//EN
METHOD:PUBLISH
X-WR-CALNAME:Johnson &amp; Wales - 2015-2016 Wbb - Winter 2015-16
X-WR-CALDESC:QuickScores game calendar
X-PUBLISHED-TTL:PT24H
REFRESH-INTERVAL;VALUE=DURATION:PT24H
CALSCALE:GREGORIAN
BEGIN:VTIMEZONE
TZID:America/New_York
X-LIC-LOCATION:America/New_York
BEGIN:DAYLIGHT
TZNAME:EDT
TZOFFSETFROM:-0500
TZOFFSETTO:-0400
DTSTART:19700308T020000
RRULE:FREQ=YEARLY;BYMONTH=3;BYDAY=2SU
END:DAYLIGHT
BEGIN:STANDARD
TZNAME:EST
TZOFFSETFROM:-0400
TZOFFSETTO:-0500
DTSTART:19701101T020000
RRULE:FREQ=YEARLY;BYMONTH=11;BYDAY=1SU
END:STANDARD
END:VTIMEZONE
BEGIN:VEVENT
UID:gnac-23330858-20160105@quickscores.com
DTSTAMP:20260424T050700Z
DTSTART;TZID=America/New_York:20160105
SUMMARY:Albertus Magnus vs. Johnson & Wales
DESCRIPTION:2015-2016 Wbb - Great Northeast Athletic Conference
LOCATION:New Haven, CT
CATEGORIES:QuickScores, Basketball Game
TRANSP:OPAQUE
BEGIN:VALARM
TRIGGER:-PT2H
ACTION:DISPLAY
DESCRIPTION:Albertus Magnus vs. Johnson & Wales
END:VALARM
END:VEVENT
BEGIN:VEVENT
UID:gnac-23330826-20160109@quickscores.com
DTSTAMP:20260424T050700Z
DTSTART;TZID=America/New_York:20160109
SUMMARY:Johnson & Wales vs. Norwich
DESCRIPTION:2016 DH w MBB --- 2015-2016 Wbb - Great Northeast Athletic Conference
LOCATION:Harborside Athletic Center
CATEGORIES:QuickScores, Basketball Game
TRANSP:OPAQUE
BEGIN:VALARM
TRIGGER:-PT2H
ACTION:DISPLAY
DESCRIPTION:Johnson & Wales vs. Norwich
END:VALARM
END:VEVENT
BEGIN:VEVENT
UID:gnac-23330828-20160112@quickscores.com
DTSTAMP:20260424T050700Z
DTSTART;TZID=America/New_York:20160112
SUMMARY:Johnson & Wales vs. Mount Ida
DESCRIPTION:2015-2016 Wbb - Great Northeast Athletic Conference
LOCATION:Harborside Athletic Center
CATEGORIES:QuickScores, Basketball Game
TRANSP:OPAQUE
BEGIN:VALARM
TRIGGER:-PT2H
ACTION:DISPLAY
DESCRIPTION:Johnson & Wales vs. Mount Ida
END:VALARM
END:VEVENT
BEGIN:VEVENT
UID:gnac-23330856-20160116@quickscores.com
DTSTAMP:20260424T050700Z
DTSTART;TZID=America/New_York:20160116
SUMMARY:Saint Joseph CT vs. Johnson & Wales
DESCRIPTION:2015-2016 Wbb - Great Northeast Athletic Conference
LOCATION:W. Hartford, CT
CATEGORIES:QuickScores, Basketball Game
TRANSP:OPAQUE
BEGIN:VALARM
TRIGGER:-PT2H
ACTION:DISPLAY
DESCRIPTION:Saint Joseph CT vs. Johnson & Wales
END:VALARM
END:VEVENT
BEGIN:VEVENT
UID:gnac-23330845-20160118@quickscores.com
DTSTAMP:20260424T050700Z
DTSTART;TZID=America/New_York:20160118
SUMMARY:Anna Maria vs. Johnson & Wales
DESCRIPTION:MLK Day --- 2015-2016 Wbb - Great Northeast Athletic Conference
LOCATION:Paxton MA
CATEGORIES:QuickScores, Basketball Game
TRANSP:OPAQUE
BEGIN:VALARM
TRIGGER:-PT2H
ACTION:DISPLAY
DESCRIPTION:Anna Maria vs. Johnson & Wales
END:VALARM
END:VEVENT
BEGIN:VEVENT
UID:gnac-23330853-20160123@quickscores.com
DTSTAMP:20260424T050700Z
DTSTART;TZID=America/New_York:20160123
SUMMARY:Johnson & Wales vs. Saint Joseph's ME
DESCRIPTION:2016 DH w MBB --- 2015-2016 Wbb - Great Northeast Athletic Conference
LOCATION:Harborside Athletic Center
CATEGORIES:QuickScores, Basketball Game
TRANSP:OPAQUE
BEGIN:VALARM
TRIGGER:-PT2H
ACTION:DISPLAY
DESCRIPTION:Johnson & Wales vs. Saint Joseph's ME
END:VALARM
END:VEVENT
BEGIN:VEVENT
UID:gnac-23330792-20160128@quickscores.com
DTSTAMP:20260424T050700Z
DTSTART;TZID=America/New_York:20160128
SUMMARY:Emmanuel vs. Johnson & Wales
DESCRIPTION:2015-2016 Wbb - Great Northeast Athletic Conference
LOCATION:Jean Yawkey Center
CATEGORIES:QuickScores, Basketball Game
TRANSP:OPAQUE
BEGIN:VALARM
TRIGGER:-PT2H
ACTION:DISPLAY
DESCRIPTION:Emmanuel vs. Johnson & Wales
END:VALARM
END:VEVENT
BEGIN:VEVENT
UID:gnac-23330841-20160130@quickscores.com
DTSTAMP:20260424T050700Z
DTSTART;TZID=America/New_York:20160130
SUMMARY:Johnson & Wales vs. Suffolk
DESCRIPTION:2015-2016 Wbb - Great Northeast Athletic Conference
LOCATION:Harborside Athletic Center
CATEGORIES:QuickScores, Basketball Game
TRANSP:OPAQUE
BEGIN:VALARM
TRIGGER:-PT2H
ACTION:DISPLAY
DESCRIPTION:Johnson & Wales vs. Suffolk
END:VALARM
END:VEVENT
BEGIN:VEVENT
UID:gnac-23330813-20160206@quickscores.com
DTSTAMP:20260424T050700Z
DTSTART;TZID=America/New_York:20160206
SUMMARY:Rivier vs. Johnson & Wales
DESCRIPTION:2015-2016 Wbb - Great Northeast Athletic Conference
LOCATION:Nashua, NH
CATEGORIES:QuickScores, Basketball Game
TRANSP:OPAQUE
BEGIN:VALARM
TRIGGER:-PT2H
ACTION:DISPLAY
DESCRIPTION:Rivier vs. Johnson & Wales
END:VALARM
END:VEVENT
BEGIN:VEVENT
UID:gnac-23330838-20160213@quickscores.com
DTSTAMP:20260424T050700Z
DTSTART;TZID=America/New_York:20160213
SUMMARY:Johnson & Wales vs. Lasell
DESCRIPTION:2015-2016 Wbb - Great Northeast Athletic Conference
LOCATION:Harborside Athletic Center
CATEGORIES:QuickScores, Basketball Game
TRANSP:OPAQUE
BEGIN:VALARM
TRIGGER:-PT2H
ACTION:DISPLAY
DESCRIPTION:Johnson & Wales vs. Lasell
END:VALARM
END:VEVENT
BEGIN:VEVENT
UID:gnac-23330812-20160220@quickscores.com
DTSTAMP:20260424T050700Z
DTSTART;TZID=America/New_York:20160220
SUMMARY:Simmons vs. Johnson & Wales
DESCRIPTION:2015-2016 Wbb - Great Northeast Athletic Conference
LOCATION:Holmes Sports Center
CATEGORIES:QuickScores, Basketball Game
TRANSP:OPAQUE
BEGIN:VALARM
TRIGGER:-PT2H
ACTION:DISPLAY
DESCRIPTION:Simmons vs. Johnson & Wales
END:VALARM
END:VEVENT
END:VCALENDAR
