BEGIN:VCALENDAR
VERSION:2.0
PRODID:-//QuickScores.com//BQ Dynamic iCal Creator//EN
METHOD:PUBLISH
X-WR-CALNAME:Rivier - 2015 Men&#039;s Volleyball - Spring 2015
X-WR-CALDESC:QuickScores game calendar
X-PUBLISHED-TTL:PT24H
REFRESH-INTERVAL;VALUE=DURATION:PT24H
CALSCALE:GREGORIAN
BEGIN:VTIMEZONE
TZID:America/New_York
X-LIC-LOCATION:America/New_York
BEGIN:DAYLIGHT
TZNAME:EDT
TZOFFSETFROM:-0500
TZOFFSETTO:-0400
DTSTART:19700308T020000
RRULE:FREQ=YEARLY;BYMONTH=3;BYDAY=2SU
END:DAYLIGHT
BEGIN:STANDARD
TZNAME:EST
TZOFFSETFROM:-0400
TZOFFSETTO:-0500
DTSTART:19701101T020000
RRULE:FREQ=YEARLY;BYMONTH=11;BYDAY=1SU
END:STANDARD
END:VTIMEZONE
BEGIN:VEVENT
UID:gnac-19732671-20150226@quickscores.com
DTSTAMP:20260419T140100Z
DTSTART;TZID=America/New_York:20150226
SUMMARY:Rivier vs. Mount Ida
DESCRIPTION:2015 Men's Volleyball - Great Northeast Athletic Conference
LOCATION:Nashua, NH
CATEGORIES:QuickScores, Volleyball Game
TRANSP:OPAQUE
BEGIN:VALARM
TRIGGER:-PT2H
ACTION:DISPLAY
DESCRIPTION:Rivier vs. Mount Ida
END:VALARM
END:VEVENT
BEGIN:VEVENT
UID:gnac-19732632-20150303@quickscores.com
DTSTAMP:20260419T140100Z
DTSTART;TZID=America/New_York:20150303
SUMMARY:Lasell vs. Rivier
DESCRIPTION:2015 Men's Volleyball - Great Northeast Athletic Conference
LOCATION:Lasell Newton
CATEGORIES:QuickScores, Volleyball Game
TRANSP:OPAQUE
BEGIN:VALARM
TRIGGER:-PT2H
ACTION:DISPLAY
DESCRIPTION:Lasell vs. Rivier
END:VALARM
END:VEVENT
BEGIN:VEVENT
UID:gnac-19732677-20150305@quickscores.com
DTSTAMP:20260419T140100Z
DTSTART;TZID=America/New_York:20150305
SUMMARY:Mount Ida vs. Rivier
DESCRIPTION:2015 Men's Volleyball - Great Northeast Athletic Conference
LOCATION:Mount Ida
CATEGORIES:QuickScores, Volleyball Game
TRANSP:OPAQUE
BEGIN:VALARM
TRIGGER:-PT2H
ACTION:DISPLAY
DESCRIPTION:Mount Ida vs. Rivier
END:VALARM
END:VEVENT
BEGIN:VEVENT
UID:gnac-19732665-20150310@quickscores.com
DTSTAMP:20260419T140100Z
DTSTART;TZID=America/New_York:20150310
SUMMARY:Emerson vs. Rivier
DESCRIPTION:2015 Men's Volleyball - Great Northeast Athletic Conference
LOCATION:Bobbi Brown and Steven Plofker Gym
CATEGORIES:QuickScores, Volleyball Game
TRANSP:OPAQUE
BEGIN:VALARM
TRIGGER:-PT2H
ACTION:DISPLAY
DESCRIPTION:Emerson vs. Rivier
END:VALARM
END:VEVENT
BEGIN:VEVENT
UID:gnac-19732696-20150312@quickscores.com
DTSTAMP:20260419T140100Z
DTSTART;TZID=America/New_York:20150312
SUMMARY:Rivier vs. Emmanuel
DESCRIPTION:2015 Men's Volleyball - Great Northeast Athletic Conference
LOCATION:Nashua, NH
CATEGORIES:QuickScores, Volleyball Game
TRANSP:OPAQUE
BEGIN:VALARM
TRIGGER:-PT2H
ACTION:DISPLAY
DESCRIPTION:Rivier vs. Emmanuel
END:VALARM
END:VEVENT
BEGIN:VEVENT
UID:gnac-19732683-20150317@quickscores.com
DTSTAMP:20260419T140100Z
DTSTART;TZID=America/New_York:20150317
SUMMARY:Rivier vs. Albertus Magnus
DESCRIPTION:2015 Men's Volleyball - Great Northeast Athletic Conference
LOCATION:Nashua, NH
CATEGORIES:QuickScores, Volleyball Game
TRANSP:OPAQUE
BEGIN:VALARM
TRIGGER:-PT2H
ACTION:DISPLAY
DESCRIPTION:Rivier vs. Albertus Magnus
END:VALARM
END:VEVENT
BEGIN:VEVENT
UID:gnac-19732702-20150319@quickscores.com
DTSTAMP:20260419T140100Z
DTSTART;TZID=America/New_York:20150319
SUMMARY:Anna Maria vs. Rivier
DESCRIPTION:2015 Men's Volleyball - Great Northeast Athletic Conference
LOCATION:Paxton MA
CATEGORIES:QuickScores, Volleyball Game
TRANSP:OPAQUE
BEGIN:VALARM
TRIGGER:-PT2H
ACTION:DISPLAY
DESCRIPTION:Anna Maria vs. Rivier
END:VALARM
END:VEVENT
BEGIN:VEVENT
UID:gnac-19732666-20150321@quickscores.com
DTSTAMP:20260419T140100Z
DTSTART;TZID=America/New_York:20150321
SUMMARY:Johnson and Wales vs. Rivier
DESCRIPTION:2015 Men's Volleyball - Great Northeast Athletic Conference
LOCATION:Harborside Athletic Center
CATEGORIES:QuickScores, Volleyball Game
TRANSP:OPAQUE
BEGIN:VALARM
TRIGGER:-PT2H
ACTION:DISPLAY
DESCRIPTION:Johnson and Wales vs. Rivier
END:VALARM
END:VEVENT
BEGIN:VEVENT
UID:gnac-19732699-20150321@quickscores.com
DTSTAMP:20260419T140100Z
DTSTART;TZID=America/New_York:20150321
SUMMARY:Lasell vs. Rivier
DESCRIPTION:2015 Men's Volleyball - Great Northeast Athletic Conference
LOCATION:Harborside Athletic Center
CATEGORIES:QuickScores, Volleyball Game
TRANSP:OPAQUE
BEGIN:VALARM
TRIGGER:-PT2H
ACTION:DISPLAY
DESCRIPTION:Lasell vs. Rivier
END:VALARM
END:VEVENT
BEGIN:VEVENT
UID:gnac-19732643-20150324@quickscores.com
DTSTAMP:20260419T140100Z
DTSTART;TZID=America/New_York:20150324
SUMMARY:Rivier vs. Emerson
DESCRIPTION:2015 Men's Volleyball - Great Northeast Athletic Conference
LOCATION:Nashua, NH
CATEGORIES:QuickScores, Volleyball Game
TRANSP:OPAQUE
BEGIN:VALARM
TRIGGER:-PT2H
ACTION:DISPLAY
DESCRIPTION:Rivier vs. Emerson
END:VALARM
END:VEVENT
BEGIN:VEVENT
UID:gnac-19732649-20150326@quickscores.com
DTSTAMP:20260419T140100Z
DTSTART;TZID=America/New_York:20150326
SUMMARY:Wentworth vs. Rivier
DESCRIPTION:2015 Men's Volleyball - Great Northeast Athletic Conference
LOCATION:Wentworth
CATEGORIES:QuickScores, Volleyball Game
TRANSP:OPAQUE
BEGIN:VALARM
TRIGGER:-PT2H
ACTION:DISPLAY
DESCRIPTION:Wentworth vs. Rivier
END:VALARM
END:VEVENT
BEGIN:VEVENT
UID:gnac-19732693-20150328@quickscores.com
DTSTAMP:20260419T140100Z
DTSTART;TZID=America/New_York:20150328
SUMMARY:Rivier vs. Albertus Magnus
DESCRIPTION:2015 Men's Volleyball - Great Northeast Athletic Conference
LOCATION:Jean Yawkey Center
CATEGORIES:QuickScores, Volleyball Game
TRANSP:OPAQUE
BEGIN:VALARM
TRIGGER:-PT2H
ACTION:DISPLAY
DESCRIPTION:Rivier vs. Albertus Magnus
END:VALARM
END:VEVENT
BEGIN:VEVENT
UID:gnac-19732631-20150328@quickscores.com
DTSTAMP:20260419T140100Z
DTSTART;TZID=America/New_York:20150328
SUMMARY:Emmanuel vs. Rivier
DESCRIPTION:2015 Men's Volleyball - Great Northeast Athletic Conference
LOCATION:Jean Yawkey Center
CATEGORIES:QuickScores, Volleyball Game
TRANSP:OPAQUE
BEGIN:VALARM
TRIGGER:-PT2H
ACTION:DISPLAY
DESCRIPTION:Emmanuel vs. Rivier
END:VALARM
END:VEVENT
BEGIN:VEVENT
UID:gnac-19732664-20150402@quickscores.com
DTSTAMP:20260419T140100Z
DTSTART;TZID=America/New_York:20150402
SUMMARY:Rivier vs. Johnson and Wales
DESCRIPTION:2015 Men's Volleyball - Great Northeast Athletic Conference
LOCATION:Nashua, NH
CATEGORIES:QuickScores, Volleyball Game
TRANSP:OPAQUE
BEGIN:VALARM
TRIGGER:-PT2H
ACTION:DISPLAY
DESCRIPTION:Rivier vs. Johnson and Wales
END:VALARM
END:VEVENT
BEGIN:VEVENT
UID:gnac-19732651-20150404@quickscores.com
DTSTAMP:20260419T140100Z
DTSTART;TZID=America/New_York:20150404
SUMMARY:Rivier vs. Wentworth
DESCRIPTION:2015 Men's Volleyball - Great Northeast Athletic Conference
LOCATION:Nashua, NH
CATEGORIES:QuickScores, Volleyball Game
TRANSP:OPAQUE
BEGIN:VALARM
TRIGGER:-PT2H
ACTION:DISPLAY
DESCRIPTION:Rivier vs. Wentworth
END:VALARM
END:VEVENT
BEGIN:VEVENT
UID:gnac-19732622-20150404@quickscores.com
DTSTAMP:20260419T140100Z
DTSTART;TZID=America/New_York:20150404
SUMMARY:Rivier vs. Anna Maria
DESCRIPTION:2015 Men's Volleyball - Great Northeast Athletic Conference
LOCATION:Nashua, NH
CATEGORIES:QuickScores, Volleyball Game
TRANSP:OPAQUE
BEGIN:VALARM
TRIGGER:-PT2H
ACTION:DISPLAY
DESCRIPTION:Rivier vs. Anna Maria
END:VALARM
END:VEVENT
END:VCALENDAR
