BEGIN:VCALENDAR
VERSION:2.0
PRODID:-//QuickScores.com//BQ Dynamic iCal Creator//EN
METHOD:PUBLISH
X-WR-CALNAME:Lasell - 2015 Men&#039;s Volleyball - Spring 2015
X-WR-CALDESC:QuickScores game calendar
X-PUBLISHED-TTL:PT24H
REFRESH-INTERVAL;VALUE=DURATION:PT24H
CALSCALE:GREGORIAN
BEGIN:VTIMEZONE
TZID:America/New_York
X-LIC-LOCATION:America/New_York
BEGIN:DAYLIGHT
TZNAME:EDT
TZOFFSETFROM:-0500
TZOFFSETTO:-0400
DTSTART:19700308T020000
RRULE:FREQ=YEARLY;BYMONTH=3;BYDAY=2SU
END:DAYLIGHT
BEGIN:STANDARD
TZNAME:EST
TZOFFSETFROM:-0400
TZOFFSETTO:-0500
DTSTART:19701101T020000
RRULE:FREQ=YEARLY;BYMONTH=11;BYDAY=1SU
END:STANDARD
END:VTIMEZONE
BEGIN:VEVENT
UID:gnac-19732641-20150226@quickscores.com
DTSTAMP:20260425T114900Z
DTSTART;TZID=America/New_York:20150226
SUMMARY:Lasell vs. Wentworth
DESCRIPTION:2015 Men's Volleyball - Great Northeast Athletic Conference
LOCATION:Lasell Newton
CATEGORIES:QuickScores, Volleyball Game
TRANSP:OPAQUE
BEGIN:VALARM
TRIGGER:-PT2H
ACTION:DISPLAY
DESCRIPTION:Lasell vs. Wentworth
END:VALARM
END:VEVENT
BEGIN:VEVENT
UID:gnac-19732632-20150303@quickscores.com
DTSTAMP:20260425T114900Z
DTSTART;TZID=America/New_York:20150303
SUMMARY:Lasell vs. Rivier
DESCRIPTION:2015 Men's Volleyball - Great Northeast Athletic Conference
LOCATION:Lasell Newton
CATEGORIES:QuickScores, Volleyball Game
TRANSP:OPAQUE
BEGIN:VALARM
TRIGGER:-PT2H
ACTION:DISPLAY
DESCRIPTION:Lasell vs. Rivier
END:VALARM
END:VEVENT
BEGIN:VEVENT
UID:gnac-19732669-20150305@quickscores.com
DTSTAMP:20260425T114900Z
DTSTART;TZID=America/New_York:20150305
SUMMARY:Lasell vs. Johnson and Wales
DESCRIPTION:2015 Men's Volleyball - Great Northeast Athletic Conference
LOCATION:Lasell Newton
CATEGORIES:QuickScores, Volleyball Game
TRANSP:OPAQUE
BEGIN:VALARM
TRIGGER:-PT2H
ACTION:DISPLAY
DESCRIPTION:Lasell vs. Johnson and Wales
END:VALARM
END:VEVENT
BEGIN:VEVENT
UID:gnac-19732638-20150310@quickscores.com
DTSTAMP:20260425T114900Z
DTSTART;TZID=America/New_York:20150310
SUMMARY:Wentworth vs. Lasell
DESCRIPTION:2015 Men's Volleyball - Great Northeast Athletic Conference
LOCATION:Wentworth
CATEGORIES:QuickScores, Volleyball Game
TRANSP:OPAQUE
BEGIN:VALARM
TRIGGER:-PT2H
ACTION:DISPLAY
DESCRIPTION:Wentworth vs. Lasell
END:VALARM
END:VEVENT
BEGIN:VEVENT
UID:gnac-19732616-20150312@quickscores.com
DTSTAMP:20260425T114900Z
DTSTART;TZID=America/New_York:20150312
SUMMARY:Anna Maria vs. Lasell
DESCRIPTION:2015 Men's Volleyball - Great Northeast Athletic Conference
LOCATION:Paxton MA
CATEGORIES:QuickScores, Volleyball Game
TRANSP:OPAQUE
BEGIN:VALARM
TRIGGER:-PT2H
ACTION:DISPLAY
DESCRIPTION:Anna Maria vs. Lasell
END:VALARM
END:VEVENT
BEGIN:VEVENT
UID:gnac-19732660-20150319@quickscores.com
DTSTAMP:20260425T114900Z
DTSTART;TZID=America/New_York:20150319
SUMMARY:Emmanuel vs. Lasell
DESCRIPTION:2015 Men's Volleyball - Great Northeast Athletic Conference
LOCATION:Jean Yawkey Center
CATEGORIES:QuickScores, Volleyball Game
TRANSP:OPAQUE
BEGIN:VALARM
TRIGGER:-PT2H
ACTION:DISPLAY
DESCRIPTION:Emmanuel vs. Lasell
END:VALARM
END:VEVENT
BEGIN:VEVENT
UID:gnac-19732699-20150321@quickscores.com
DTSTAMP:20260425T114900Z
DTSTART;TZID=America/New_York:20150321
SUMMARY:Lasell vs. Rivier
DESCRIPTION:2015 Men's Volleyball - Great Northeast Athletic Conference
LOCATION:Harborside Athletic Center
CATEGORIES:QuickScores, Volleyball Game
TRANSP:OPAQUE
BEGIN:VALARM
TRIGGER:-PT2H
ACTION:DISPLAY
DESCRIPTION:Lasell vs. Rivier
END:VALARM
END:VEVENT
BEGIN:VEVENT
UID:gnac-19732668-20150321@quickscores.com
DTSTAMP:20260425T114900Z
DTSTART;TZID=America/New_York:20150321
SUMMARY:Johnson and Wales vs. Lasell
DESCRIPTION:2015 Men's Volleyball - Great Northeast Athletic Conference
LOCATION:Harborside Athletic Center
CATEGORIES:QuickScores, Volleyball Game
TRANSP:OPAQUE
BEGIN:VALARM
TRIGGER:-PT2H
ACTION:DISPLAY
DESCRIPTION:Johnson and Wales vs. Lasell
END:VALARM
END:VEVENT
BEGIN:VEVENT
UID:gnac-19732663-20150324@quickscores.com
DTSTAMP:20260425T114900Z
DTSTART;TZID=America/New_York:20150324
SUMMARY:Mount Ida vs. Lasell
DESCRIPTION:2015 Men's Volleyball - Great Northeast Athletic Conference
LOCATION:Mount Ida
CATEGORIES:QuickScores, Volleyball Game
TRANSP:OPAQUE
BEGIN:VALARM
TRIGGER:-PT2H
ACTION:DISPLAY
DESCRIPTION:Mount Ida vs. Lasell
END:VALARM
END:VEVENT
BEGIN:VEVENT
UID:gnac-19732634-20150326@quickscores.com
DTSTAMP:20260425T114900Z
DTSTART;TZID=America/New_York:20150326
SUMMARY:Albertus Magnus vs. Lasell
DESCRIPTION:2015 Men's Volleyball - Great Northeast Athletic Conference
LOCATION:New Haven, CT
CATEGORIES:QuickScores, Volleyball Game
TRANSP:OPAQUE
BEGIN:VALARM
TRIGGER:-PT2H
ACTION:DISPLAY
DESCRIPTION:Albertus Magnus vs. Lasell
END:VALARM
END:VEVENT
BEGIN:VEVENT
UID:gnac-19732627-20150328@quickscores.com
DTSTAMP:20260425T114900Z
DTSTART;TZID=America/New_York:20150328
SUMMARY:Lasell vs. Anna Maria
DESCRIPTION:2015 Men's Volleyball - Great Northeast Athletic Conference
LOCATION:Lasell Newton
CATEGORIES:QuickScores, Volleyball Game
TRANSP:OPAQUE
BEGIN:VALARM
TRIGGER:-PT2H
ACTION:DISPLAY
DESCRIPTION:Lasell vs. Anna Maria
END:VALARM
END:VEVENT
BEGIN:VEVENT
UID:gnac-19732681-20150328@quickscores.com
DTSTAMP:20260425T114900Z
DTSTART;TZID=America/New_York:20150328
SUMMARY:Lasell vs. Mount Ida
DESCRIPTION:2015 Men's Volleyball - Great Northeast Athletic Conference
LOCATION:Lasell Newton
CATEGORIES:QuickScores, Volleyball Game
TRANSP:OPAQUE
BEGIN:VALARM
TRIGGER:-PT2H
ACTION:DISPLAY
DESCRIPTION:Lasell vs. Mount Ida
END:VALARM
END:VEVENT
BEGIN:VEVENT
UID:gnac-19732678-20150331@quickscores.com
DTSTAMP:20260425T114900Z
DTSTART;TZID=America/New_York:20150331
SUMMARY:Lasell vs. Emmanuel
DESCRIPTION:2015 Men's Volleyball - Great Northeast Athletic Conference
LOCATION:Lasell Newton
CATEGORIES:QuickScores, Volleyball Game
TRANSP:OPAQUE
BEGIN:VALARM
TRIGGER:-PT2H
ACTION:DISPLAY
DESCRIPTION:Lasell vs. Emmanuel
END:VALARM
END:VEVENT
BEGIN:VEVENT
UID:gnac-19732648-20150402@quickscores.com
DTSTAMP:20260425T114900Z
DTSTART;TZID=America/New_York:20150402
SUMMARY:Lasell vs. Emerson
DESCRIPTION:2015 Men's Volleyball - Great Northeast Athletic Conference
LOCATION:Lasell Newton
CATEGORIES:QuickScores, Volleyball Game
TRANSP:OPAQUE
BEGIN:VALARM
TRIGGER:-PT2H
ACTION:DISPLAY
DESCRIPTION:Lasell vs. Emerson
END:VALARM
END:VEVENT
BEGIN:VEVENT
UID:gnac-19732647-20150404@quickscores.com
DTSTAMP:20260425T114900Z
DTSTART;TZID=America/New_York:20150404
SUMMARY:Emerson vs. Lasell
DESCRIPTION:2015 Men's Volleyball - Great Northeast Athletic Conference
LOCATION:Bobbi Brown and Steven Plofker Gym
CATEGORIES:QuickScores, Volleyball Game
TRANSP:OPAQUE
BEGIN:VALARM
TRIGGER:-PT2H
ACTION:DISPLAY
DESCRIPTION:Emerson vs. Lasell
END:VALARM
END:VEVENT
BEGIN:VEVENT
UID:gnac-19732633-20150404@quickscores.com
DTSTAMP:20260425T114900Z
DTSTART;TZID=America/New_York:20150404
SUMMARY:Albertus Magnus vs. Lasell
DESCRIPTION:2015 Men's Volleyball - Great Northeast Athletic Conference
LOCATION:Bobbi Brown and Steven Plofker Gym
CATEGORIES:QuickScores, Volleyball Game
TRANSP:OPAQUE
BEGIN:VALARM
TRIGGER:-PT2H
ACTION:DISPLAY
DESCRIPTION:Albertus Magnus vs. Lasell
END:VALARM
END:VEVENT
END:VCALENDAR
