BEGIN:VCALENDAR
VERSION:2.0
PRODID:-//QuickScores.com//BQ Dynamic iCal Creator//EN
METHOD:PUBLISH
X-WR-CALNAME:Johnson and Wales - 2015 Men&#039;s Volleyball - Spring 2015
X-WR-CALDESC:QuickScores game calendar
X-PUBLISHED-TTL:PT24H
REFRESH-INTERVAL;VALUE=DURATION:PT24H
CALSCALE:GREGORIAN
BEGIN:VTIMEZONE
TZID:America/New_York
X-LIC-LOCATION:America/New_York
BEGIN:DAYLIGHT
TZNAME:EDT
TZOFFSETFROM:-0500
TZOFFSETTO:-0400
DTSTART:19700308T020000
RRULE:FREQ=YEARLY;BYMONTH=3;BYDAY=2SU
END:DAYLIGHT
BEGIN:STANDARD
TZNAME:EST
TZOFFSETFROM:-0400
TZOFFSETTO:-0500
DTSTART:19701101T020000
RRULE:FREQ=YEARLY;BYMONTH=11;BYDAY=1SU
END:STANDARD
END:VTIMEZONE
BEGIN:VEVENT
UID:gnac-19732690-20150224@quickscores.com
DTSTAMP:20260420T022800Z
DTSTART;TZID=America/New_York:20150224
SUMMARY:Johnson and Wales vs. Wentworth
DESCRIPTION:2015 Men's Volleyball - Great Northeast Athletic Conference
LOCATION:Harborside Athletic Center
CATEGORIES:QuickScores, Volleyball Game
TRANSP:OPAQUE
BEGIN:VALARM
TRIGGER:-PT2H
ACTION:DISPLAY
DESCRIPTION:Johnson and Wales vs. Wentworth
END:VALARM
END:VEVENT
BEGIN:VEVENT
UID:gnac-19732618-20150226@quickscores.com
DTSTAMP:20260420T022800Z
DTSTART;TZID=America/New_York:20150226
SUMMARY:Emerson vs. Johnson and Wales
DESCRIPTION:2015 Men's Volleyball - Great Northeast Athletic Conference
LOCATION:Bobbi Brown and Steven Plofker Gym
CATEGORIES:QuickScores, Volleyball Game
TRANSP:OPAQUE
BEGIN:VALARM
TRIGGER:-PT2H
ACTION:DISPLAY
DESCRIPTION:Emerson vs. Johnson and Wales
END:VALARM
END:VEVENT
BEGIN:VEVENT
UID:gnac-19732628-20150303@quickscores.com
DTSTAMP:20260420T022800Z
DTSTART;TZID=America/New_York:20150303
SUMMARY:Anna Maria vs. Johnson and Wales
DESCRIPTION:2015 Men's Volleyball - Great Northeast Athletic Conference
LOCATION:Paxton MA
CATEGORIES:QuickScores, Volleyball Game
TRANSP:OPAQUE
BEGIN:VALARM
TRIGGER:-PT2H
ACTION:DISPLAY
DESCRIPTION:Anna Maria vs. Johnson and Wales
END:VALARM
END:VEVENT
BEGIN:VEVENT
UID:gnac-19732669-20150305@quickscores.com
DTSTAMP:20260420T022800Z
DTSTART;TZID=America/New_York:20150305
SUMMARY:Lasell vs. Johnson and Wales
DESCRIPTION:2015 Men's Volleyball - Great Northeast Athletic Conference
LOCATION:Lasell Newton
CATEGORIES:QuickScores, Volleyball Game
TRANSP:OPAQUE
BEGIN:VALARM
TRIGGER:-PT2H
ACTION:DISPLAY
DESCRIPTION:Lasell vs. Johnson and Wales
END:VALARM
END:VEVENT
BEGIN:VEVENT
UID:gnac-19732679-20150310@quickscores.com
DTSTAMP:20260420T022800Z
DTSTART;TZID=America/New_York:20150310
SUMMARY:Albertus Magnus vs. Johnson and Wales
DESCRIPTION:2015 Men's Volleyball - Great Northeast Athletic Conference
LOCATION:New Haven, CT
CATEGORIES:QuickScores, Volleyball Game
TRANSP:OPAQUE
BEGIN:VALARM
TRIGGER:-PT2H
ACTION:DISPLAY
DESCRIPTION:Albertus Magnus vs. Johnson and Wales
END:VALARM
END:VEVENT
BEGIN:VEVENT
UID:gnac-19732694-20150317@quickscores.com
DTSTAMP:20260420T022800Z
DTSTART;TZID=America/New_York:20150317
SUMMARY:Johnson and Wales vs. Anna Maria
DESCRIPTION:2015 Men's Volleyball - Great Northeast Athletic Conference
LOCATION:Harborside Athletic Center
CATEGORIES:QuickScores, Volleyball Game
TRANSP:OPAQUE
BEGIN:VALARM
TRIGGER:-PT2H
ACTION:DISPLAY
DESCRIPTION:Johnson and Wales vs. Anna Maria
END:VALARM
END:VEVENT
BEGIN:VEVENT
UID:gnac-19732675-20150319@quickscores.com
DTSTAMP:20260420T022800Z
DTSTART;TZID=America/New_York:20150319
SUMMARY:Johnson and Wales vs. Mount Ida
DESCRIPTION:2015 Men's Volleyball - Great Northeast Athletic Conference
LOCATION:Harborside Athletic Center
CATEGORIES:QuickScores, Volleyball Game
TRANSP:OPAQUE
BEGIN:VALARM
TRIGGER:-PT2H
ACTION:DISPLAY
DESCRIPTION:Johnson and Wales vs. Mount Ida
END:VALARM
END:VEVENT
BEGIN:VEVENT
UID:gnac-19732666-20150321@quickscores.com
DTSTAMP:20260420T022800Z
DTSTART;TZID=America/New_York:20150321
SUMMARY:Johnson and Wales vs. Rivier
DESCRIPTION:2015 Men's Volleyball - Great Northeast Athletic Conference
LOCATION:Harborside Athletic Center
CATEGORIES:QuickScores, Volleyball Game
TRANSP:OPAQUE
BEGIN:VALARM
TRIGGER:-PT2H
ACTION:DISPLAY
DESCRIPTION:Johnson and Wales vs. Rivier
END:VALARM
END:VEVENT
BEGIN:VEVENT
UID:gnac-19732668-20150321@quickscores.com
DTSTAMP:20260420T022800Z
DTSTART;TZID=America/New_York:20150321
SUMMARY:Johnson and Wales vs. Lasell
DESCRIPTION:2015 Men's Volleyball - Great Northeast Athletic Conference
LOCATION:Harborside Athletic Center
CATEGORIES:QuickScores, Volleyball Game
TRANSP:OPAQUE
BEGIN:VALARM
TRIGGER:-PT2H
ACTION:DISPLAY
DESCRIPTION:Johnson and Wales vs. Lasell
END:VALARM
END:VEVENT
BEGIN:VEVENT
UID:gnac-19732639-20150326@quickscores.com
DTSTAMP:20260420T022800Z
DTSTART;TZID=America/New_York:20150326
SUMMARY:Johnson and Wales vs. Emmanuel
DESCRIPTION:2015 Men's Volleyball - Great Northeast Athletic Conference
LOCATION:Harborside Athletic Center
CATEGORIES:QuickScores, Volleyball Game
TRANSP:OPAQUE
BEGIN:VALARM
TRIGGER:-PT2H
ACTION:DISPLAY
DESCRIPTION:Johnson and Wales vs. Emmanuel
END:VALARM
END:VEVENT
BEGIN:VEVENT
UID:gnac-19732644-20150328@quickscores.com
DTSTAMP:20260420T022800Z
DTSTART;TZID=America/New_York:20150328
SUMMARY:Wentworth vs. Johnson and Wales
DESCRIPTION:2015 Men's Volleyball - Great Northeast Athletic Conference
LOCATION:Wentworth
CATEGORIES:QuickScores, Volleyball Game
TRANSP:OPAQUE
BEGIN:VALARM
TRIGGER:-PT2H
ACTION:DISPLAY
DESCRIPTION:Wentworth vs. Johnson and Wales
END:VALARM
END:VEVENT
BEGIN:VEVENT
UID:gnac-19732692-20150328@quickscores.com
DTSTAMP:20260420T022800Z
DTSTART;TZID=America/New_York:20150328
SUMMARY:Johnson and Wales vs. Emerson
DESCRIPTION:2015 Men's Volleyball - Great Northeast Athletic Conference
LOCATION:Wentworth
CATEGORIES:QuickScores, Volleyball Game
TRANSP:OPAQUE
BEGIN:VALARM
TRIGGER:-PT2H
ACTION:DISPLAY
DESCRIPTION:Johnson and Wales vs. Emerson
END:VALARM
END:VEVENT
BEGIN:VEVENT
UID:gnac-19732691-20150331@quickscores.com
DTSTAMP:20260420T022800Z
DTSTART;TZID=America/New_York:20150331
SUMMARY:Johnson and Wales vs. Albertus Magnus
DESCRIPTION:2015 Men's Volleyball - Great Northeast Athletic Conference
LOCATION:Harborside Athletic Center
CATEGORIES:QuickScores, Volleyball Game
TRANSP:OPAQUE
BEGIN:VALARM
TRIGGER:-PT2H
ACTION:DISPLAY
DESCRIPTION:Johnson and Wales vs. Albertus Magnus
END:VALARM
END:VEVENT
BEGIN:VEVENT
UID:gnac-19732664-20150402@quickscores.com
DTSTAMP:20260420T022800Z
DTSTART;TZID=America/New_York:20150402
SUMMARY:Rivier vs. Johnson and Wales
DESCRIPTION:2015 Men's Volleyball - Great Northeast Athletic Conference
LOCATION:Nashua, NH
CATEGORIES:QuickScores, Volleyball Game
TRANSP:OPAQUE
BEGIN:VALARM
TRIGGER:-PT2H
ACTION:DISPLAY
DESCRIPTION:Rivier vs. Johnson and Wales
END:VALARM
END:VEVENT
BEGIN:VEVENT
UID:gnac-19732637-20150404@quickscores.com
DTSTAMP:20260420T022800Z
DTSTART;TZID=America/New_York:20150404
SUMMARY:Emmanuel vs. Johnson and Wales
DESCRIPTION:2015 Men's Volleyball - Great Northeast Athletic Conference
LOCATION:Mount Ida
CATEGORIES:QuickScores, Volleyball Game
TRANSP:OPAQUE
BEGIN:VALARM
TRIGGER:-PT2H
ACTION:DISPLAY
DESCRIPTION:Emmanuel vs. Johnson and Wales
END:VALARM
END:VEVENT
BEGIN:VEVENT
UID:gnac-19732680-20150404@quickscores.com
DTSTAMP:20260420T022800Z
DTSTART;TZID=America/New_York:20150404
SUMMARY:Mount Ida vs. Johnson and Wales
DESCRIPTION:2015 Men's Volleyball - Great Northeast Athletic Conference
LOCATION:Mount Ida
CATEGORIES:QuickScores, Volleyball Game
TRANSP:OPAQUE
BEGIN:VALARM
TRIGGER:-PT2H
ACTION:DISPLAY
DESCRIPTION:Mount Ida vs. Johnson and Wales
END:VALARM
END:VEVENT
END:VCALENDAR
