BEGIN:VCALENDAR
VERSION:2.0
PRODID:-//QuickScores.com//BQ Dynamic iCal Creator//EN
METHOD:PUBLISH
X-WR-CALNAME:Saint Joseph ME - 2014 Men&#039;s Soccer - Fall 2014
X-WR-CALDESC:QuickScores game calendar
X-PUBLISHED-TTL:PT24H
REFRESH-INTERVAL;VALUE=DURATION:PT24H
CALSCALE:GREGORIAN
BEGIN:VTIMEZONE
TZID:America/New_York
X-LIC-LOCATION:America/New_York
BEGIN:DAYLIGHT
TZNAME:EDT
TZOFFSETFROM:-0500
TZOFFSETTO:-0400
DTSTART:19700308T020000
RRULE:FREQ=YEARLY;BYMONTH=3;BYDAY=2SU
END:DAYLIGHT
BEGIN:STANDARD
TZNAME:EST
TZOFFSETFROM:-0400
TZOFFSETTO:-0500
DTSTART:19701101T020000
RRULE:FREQ=YEARLY;BYMONTH=11;BYDAY=1SU
END:STANDARD
END:VTIMEZONE
BEGIN:VEVENT
UID:gnac-18566025-20140913@quickscores.com
DTSTAMP:20260424T050300Z
DTSTART;TZID=America/New_York:20140913
SUMMARY:Saint Joseph ME vs. Lasell
DESCRIPTION:2014 Men's Soccer - Great Northeast Athletic Conference
LOCATION:Standish ME
CATEGORIES:QuickScores, Soccer Game
TRANSP:OPAQUE
BEGIN:VALARM
TRIGGER:-PT2H
ACTION:DISPLAY
DESCRIPTION:Saint Joseph ME vs. Lasell
END:VALARM
END:VEVENT
BEGIN:VEVENT
UID:gnac-18566045-20140920@quickscores.com
DTSTAMP:20260424T050300Z
DTSTART;TZID=America/New_York:20140920
SUMMARY:Anna Maria vs. Saint Joseph ME
DESCRIPTION:NODHP --- 2014 Men's Soccer - Great Northeast Athletic Conference
LOCATION:Paxton MA
CATEGORIES:QuickScores, Soccer Game
TRANSP:OPAQUE
BEGIN:VALARM
TRIGGER:-PT2H
ACTION:DISPLAY
DESCRIPTION:Anna Maria vs. Saint Joseph ME
END:VALARM
END:VEVENT
BEGIN:VEVENT
UID:gnac-18566023-20140927@quickscores.com
DTSTAMP:20260424T050300Z
DTSTART;TZID=America/New_York:20140927
SUMMARY:Albertus Magnus vs. Saint Joseph ME
DESCRIPTION:STJME can share a bus w WVB --- 2014 Men's Soccer - Great Northeast Athletic Conference
LOCATION:New Haven, CT
CATEGORIES:QuickScores, Soccer Game
TRANSP:OPAQUE
BEGIN:VALARM
TRIGGER:-PT2H
ACTION:DISPLAY
DESCRIPTION:Albertus Magnus vs. Saint Joseph ME
END:VALARM
END:VEVENT
BEGIN:VEVENT
UID:gnac-18566060-20141004@quickscores.com
DTSTAMP:20260424T050300Z
DTSTART;TZID=America/New_York:20141004
SUMMARY:Saint Joseph ME vs. Suffolk
DESCRIPTION:2014 Men's Soccer - Great Northeast Athletic Conference
LOCATION:Standish ME
CATEGORIES:QuickScores, Soccer Game
TRANSP:OPAQUE
BEGIN:VALARM
TRIGGER:-PT2H
ACTION:DISPLAY
DESCRIPTION:Saint Joseph ME vs. Suffolk
END:VALARM
END:VEVENT
BEGIN:VEVENT
UID:gnac-18566031-20141011@quickscores.com
DTSTAMP:20260424T050300Z
DTSTART;TZID=America/New_York:20141011
SUMMARY:Norwich vs. Saint Joseph ME
DESCRIPTION:2014 DH. STJME MS & WS can share a bus. --- 2014 Men's Soccer - Great Northeast Athletic Conference
LOCATION:Northfield, VT
CATEGORIES:QuickScores, Soccer Game
TRANSP:OPAQUE
BEGIN:VALARM
TRIGGER:-PT2H
ACTION:DISPLAY
DESCRIPTION:Norwich vs. Saint Joseph ME
END:VALARM
END:VEVENT
BEGIN:VEVENT
UID:gnac-18566033-20141013@quickscores.com
DTSTAMP:20260424T050300Z
DTSTART;TZID=America/New_York:20141013
SUMMARY:Rivier vs. Saint Joseph ME
DESCRIPTION:2014 DH. STJME MS & WS can share a bus --- 2014 Men's Soccer - Great Northeast Athletic Conference
LOCATION:Nashua, NH
CATEGORIES:QuickScores, Soccer Game
TRANSP:OPAQUE
BEGIN:VALARM
TRIGGER:-PT2H
ACTION:DISPLAY
DESCRIPTION:Rivier vs. Saint Joseph ME
END:VALARM
END:VEVENT
BEGIN:VEVENT
UID:gnac-18566059-20141018@quickscores.com
DTSTAMP:20260424T050300Z
DTSTART;TZID=America/New_York:20141018
SUMMARY:Saint Joseph ME vs. Johnson & Wales
DESCRIPTION:2014 Men's Soccer - Great Northeast Athletic Conference
LOCATION:Standish ME
CATEGORIES:QuickScores, Soccer Game
TRANSP:OPAQUE
BEGIN:VALARM
TRIGGER:-PT2H
ACTION:DISPLAY
DESCRIPTION:Saint Joseph ME vs. Johnson & Wales
END:VALARM
END:VEVENT
BEGIN:VEVENT
UID:gnac-18566030-20141022@quickscores.com
DTSTAMP:20260424T050300Z
DTSTART;TZID=America/New_York:20141022
SUMMARY:Mount Ida vs. Saint Joseph ME
DESCRIPTION:2014 Men's Soccer - Great Northeast Athletic Conference
LOCATION:Mount Ida
CATEGORIES:QuickScores, Soccer Game
TRANSP:OPAQUE
BEGIN:VALARM
TRIGGER:-PT2H
ACTION:DISPLAY
DESCRIPTION:Mount Ida vs. Saint Joseph ME
END:VALARM
END:VEVENT
BEGIN:VEVENT
UID:gnac-18566032-20141025@quickscores.com
DTSTAMP:20260424T050300Z
DTSTART;TZID=America/New_York:20141025
SUMMARY:Saint Joseph ME vs. Emmanuel
DESCRIPTION:2014 DH. EMM can share a bus w WS --- 2014 Men's Soccer - Great Northeast Athletic Conference
LOCATION:Standish ME
CATEGORIES:QuickScores, Soccer Game
TRANSP:OPAQUE
BEGIN:VALARM
TRIGGER:-PT2H
ACTION:DISPLAY
DESCRIPTION:Saint Joseph ME vs. Emmanuel
END:VALARM
END:VEVENT
END:VCALENDAR
