BEGIN:VCALENDAR
VERSION:2.0
PRODID:-//QuickScores.com//BQ Dynamic iCal Creator//EN
METHOD:PUBLISH
X-WR-CALNAME:Rivier - 2014 Men&#039;s Soccer - Fall 2014
X-WR-CALDESC:QuickScores game calendar
X-PUBLISHED-TTL:PT24H
REFRESH-INTERVAL;VALUE=DURATION:PT24H
CALSCALE:GREGORIAN
BEGIN:VTIMEZONE
TZID:America/New_York
X-LIC-LOCATION:America/New_York
BEGIN:DAYLIGHT
TZNAME:EDT
TZOFFSETFROM:-0500
TZOFFSETTO:-0400
DTSTART:19700308T020000
RRULE:FREQ=YEARLY;BYMONTH=3;BYDAY=2SU
END:DAYLIGHT
BEGIN:STANDARD
TZNAME:EST
TZOFFSETFROM:-0400
TZOFFSETTO:-0500
DTSTART:19701101T020000
RRULE:FREQ=YEARLY;BYMONTH=11;BYDAY=1SU
END:STANDARD
END:VTIMEZONE
BEGIN:VEVENT
UID:gnac-18566055-20140913@quickscores.com
DTSTAMP:20260424T020600Z
DTSTART;TZID=America/New_York:20140913
SUMMARY:Suffolk vs. Rivier
DESCRIPTION:2014 Men's Soccer - Great Northeast Athletic Conference
LOCATION:Suffolk
CATEGORIES:QuickScores, Soccer Game
TRANSP:OPAQUE
BEGIN:VALARM
TRIGGER:-PT2H
ACTION:DISPLAY
DESCRIPTION:Suffolk vs. Rivier
END:VALARM
END:VEVENT
BEGIN:VEVENT
UID:gnac-18566028-20140920@quickscores.com
DTSTAMP:20260424T020600Z
DTSTART;TZID=America/New_York:20140920
SUMMARY:Emmanuel vs. Rivier
DESCRIPTION:2014 Men's Soccer - Great Northeast Athletic Conference
LOCATION:Roberto Clemente Field
CATEGORIES:QuickScores, Soccer Game
TRANSP:OPAQUE
BEGIN:VALARM
TRIGGER:-PT2H
ACTION:DISPLAY
DESCRIPTION:Emmanuel vs. Rivier
END:VALARM
END:VEVENT
BEGIN:VEVENT
UID:gnac-18566047-20140927@quickscores.com
DTSTAMP:20260424T020600Z
DTSTART;TZID=America/New_York:20140927
SUMMARY:Rivier vs. Mount Ida
DESCRIPTION:Ida has home football on Saturday --- 2014 Men's Soccer - Great Northeast Athletic Conference
LOCATION:Nashua, NH
CATEGORIES:QuickScores, Soccer Game
TRANSP:OPAQUE
BEGIN:VALARM
TRIGGER:-PT2H
ACTION:DISPLAY
DESCRIPTION:Rivier vs. Mount Ida
END:VALARM
END:VEVENT
BEGIN:VEVENT
UID:gnac-18566039-20141004@quickscores.com
DTSTAMP:20260424T020600Z
DTSTART;TZID=America/New_York:20141004
SUMMARY:Rivier vs. Albertus Magnus
DESCRIPTION:2014 Men's Soccer - Great Northeast Athletic Conference
LOCATION:Nashua, NH
CATEGORIES:QuickScores, Soccer Game
TRANSP:OPAQUE
BEGIN:VALARM
TRIGGER:-PT2H
ACTION:DISPLAY
DESCRIPTION:Rivier vs. Albertus Magnus
END:VALARM
END:VEVENT
BEGIN:VEVENT
UID:gnac-18566041-20141011@quickscores.com
DTSTAMP:20260424T020600Z
DTSTART;TZID=America/New_York:20141011
SUMMARY:Lasell vs. Rivier
DESCRIPTION:2014 Men's Soccer - Great Northeast Athletic Conference
LOCATION:Taylor Field at Lasell College
CATEGORIES:QuickScores, Soccer Game
TRANSP:OPAQUE
BEGIN:VALARM
TRIGGER:-PT2H
ACTION:DISPLAY
DESCRIPTION:Lasell vs. Rivier
END:VALARM
END:VEVENT
BEGIN:VEVENT
UID:gnac-18566033-20141013@quickscores.com
DTSTAMP:20260424T020600Z
DTSTART;TZID=America/New_York:20141013
SUMMARY:Rivier vs. Saint Joseph ME
DESCRIPTION:2014 DH. STJME MS & WS can share a bus --- 2014 Men's Soccer - Great Northeast Athletic Conference
LOCATION:Nashua, NH
CATEGORIES:QuickScores, Soccer Game
TRANSP:OPAQUE
BEGIN:VALARM
TRIGGER:-PT2H
ACTION:DISPLAY
DESCRIPTION:Rivier vs. Saint Joseph ME
END:VALARM
END:VEVENT
BEGIN:VEVENT
UID:gnac-18566046-20141018@quickscores.com
DTSTAMP:20260424T020600Z
DTSTART;TZID=America/New_York:20141018
SUMMARY:Rivier vs. Norwich
DESCRIPTION:2014 DH w WS. NOR could share a bus. --- 2014 Men's Soccer - Great Northeast Athletic Conference
LOCATION:Nashua, NH
CATEGORIES:QuickScores, Soccer Game
TRANSP:OPAQUE
BEGIN:VALARM
TRIGGER:-PT2H
ACTION:DISPLAY
DESCRIPTION:Rivier vs. Norwich
END:VALARM
END:VEVENT
BEGIN:VEVENT
UID:gnac-18566070-20141022@quickscores.com
DTSTAMP:20260424T020600Z
DTSTART;TZID=America/New_York:20141022
SUMMARY:Anna Maria vs. Rivier
DESCRIPTION:2014 Men's Soccer - Great Northeast Athletic Conference
LOCATION:Paxton MA
CATEGORIES:QuickScores, Soccer Game
TRANSP:OPAQUE
BEGIN:VALARM
TRIGGER:-PT2H
ACTION:DISPLAY
DESCRIPTION:Anna Maria vs. Rivier
END:VALARM
END:VEVENT
BEGIN:VEVENT
UID:gnac-18566016-20141025@quickscores.com
DTSTAMP:20260424T020600Z
DTSTART;TZID=America/New_York:20141025
SUMMARY:Johnson & Wales vs. Rivier
DESCRIPTION:2014 Men's Soccer - Great Northeast Athletic Conference
LOCATION:Providence, RI
CATEGORIES:QuickScores, Soccer Game
TRANSP:OPAQUE
BEGIN:VALARM
TRIGGER:-PT2H
ACTION:DISPLAY
DESCRIPTION:Johnson & Wales vs. Rivier
END:VALARM
END:VEVENT
END:VCALENDAR
