BEGIN:VCALENDAR
VERSION:2.0
PRODID:-//QuickScores.com//BQ Dynamic iCal Creator//EN
METHOD:PUBLISH
X-WR-CALNAME:Mount Ida - 2014 Men&#039;s Soccer - Fall 2014
X-WR-CALDESC:QuickScores game calendar
X-PUBLISHED-TTL:PT24H
REFRESH-INTERVAL;VALUE=DURATION:PT24H
CALSCALE:GREGORIAN
BEGIN:VTIMEZONE
TZID:America/New_York
X-LIC-LOCATION:America/New_York
BEGIN:DAYLIGHT
TZNAME:EDT
TZOFFSETFROM:-0500
TZOFFSETTO:-0400
DTSTART:19700308T020000
RRULE:FREQ=YEARLY;BYMONTH=3;BYDAY=2SU
END:DAYLIGHT
BEGIN:STANDARD
TZNAME:EST
TZOFFSETFROM:-0400
TZOFFSETTO:-0500
DTSTART:19701101T020000
RRULE:FREQ=YEARLY;BYMONTH=11;BYDAY=1SU
END:STANDARD
END:VTIMEZONE
BEGIN:VEVENT
UID:gnac-18566044-20140913@quickscores.com
DTSTAMP:20260425T074800Z
DTSTART;TZID=America/New_York:20140913
SUMMARY:Mount Ida vs. Anna Maria
DESCRIPTION:Maria can share a bus w WS --- 2014 Men's Soccer - Great Northeast Athletic Conference
LOCATION:Mount Ida
CATEGORIES:QuickScores, Soccer Game
TRANSP:OPAQUE
BEGIN:VALARM
TRIGGER:-PT2H
ACTION:DISPLAY
DESCRIPTION:Mount Ida vs. Anna Maria
END:VALARM
END:VEVENT
BEGIN:VEVENT
UID:gnac-18566058-20140920@quickscores.com
DTSTAMP:20260425T074800Z
DTSTART;TZID=America/New_York:20140920
SUMMARY:Johnson & Wales vs. Mount Ida
DESCRIPTION:2014 Men's Soccer - Great Northeast Athletic Conference
LOCATION:Providence, RI
CATEGORIES:QuickScores, Soccer Game
TRANSP:OPAQUE
BEGIN:VALARM
TRIGGER:-PT2H
ACTION:DISPLAY
DESCRIPTION:Johnson & Wales vs. Mount Ida
END:VALARM
END:VEVENT
BEGIN:VEVENT
UID:gnac-18566047-20140927@quickscores.com
DTSTAMP:20260425T074800Z
DTSTART;TZID=America/New_York:20140927
SUMMARY:Rivier vs. Mount Ida
DESCRIPTION:Ida has home football on Saturday --- 2014 Men's Soccer - Great Northeast Athletic Conference
LOCATION:Nashua, NH
CATEGORIES:QuickScores, Soccer Game
TRANSP:OPAQUE
BEGIN:VALARM
TRIGGER:-PT2H
ACTION:DISPLAY
DESCRIPTION:Rivier vs. Mount Ida
END:VALARM
END:VEVENT
BEGIN:VEVENT
UID:gnac-18566040-20141004@quickscores.com
DTSTAMP:20260425T074800Z
DTSTART;TZID=America/New_York:20141004
SUMMARY:Mount Ida vs. Emmanuel
DESCRIPTION:IDA Homecoming --- 2014 Men's Soccer - Great Northeast Athletic Conference
LOCATION:Mount Ida
CATEGORIES:QuickScores, Soccer Game
TRANSP:OPAQUE
BEGIN:VALARM
TRIGGER:-PT2H
ACTION:DISPLAY
DESCRIPTION:Mount Ida vs. Emmanuel
END:VALARM
END:VEVENT
BEGIN:VEVENT
UID:gnac-18566051-20141011@quickscores.com
DTSTAMP:20260425T074800Z
DTSTART;TZID=America/New_York:20141011
SUMMARY:Mount Ida vs. Suffolk
DESCRIPTION:2014 Men's Soccer - Great Northeast Athletic Conference
LOCATION:Mount Ida
CATEGORIES:QuickScores, Soccer Game
TRANSP:OPAQUE
BEGIN:VALARM
TRIGGER:-PT2H
ACTION:DISPLAY
DESCRIPTION:Mount Ida vs. Suffolk
END:VALARM
END:VEVENT
BEGIN:VEVENT
UID:gnac-18566050-20141013@quickscores.com
DTSTAMP:20260425T074800Z
DTSTART;TZID=America/New_York:20141013
SUMMARY:Albertus Magnus vs. Mount Ida
DESCRIPTION:2014 Men's Soccer - Great Northeast Athletic Conference
LOCATION:New Haven, CT
CATEGORIES:QuickScores, Soccer Game
TRANSP:OPAQUE
BEGIN:VALARM
TRIGGER:-PT2H
ACTION:DISPLAY
DESCRIPTION:Albertus Magnus vs. Mount Ida
END:VALARM
END:VEVENT
BEGIN:VEVENT
UID:gnac-18566061-20141018@quickscores.com
DTSTAMP:20260425T074800Z
DTSTART;TZID=America/New_York:20141018
SUMMARY:Lasell vs. Mount Ida
DESCRIPTION:LAS Homecoming. IDA has home football Saturday --- 2014 Men's Soccer - Great Northeast Athletic Conference
LOCATION:Taylor Field at Lasell College
CATEGORIES:QuickScores, Soccer Game
TRANSP:OPAQUE
BEGIN:VALARM
TRIGGER:-PT2H
ACTION:DISPLAY
DESCRIPTION:Lasell vs. Mount Ida
END:VALARM
END:VEVENT
BEGIN:VEVENT
UID:gnac-18566030-20141022@quickscores.com
DTSTAMP:20260425T074800Z
DTSTART;TZID=America/New_York:20141022
SUMMARY:Mount Ida vs. Saint Joseph ME
DESCRIPTION:2014 Men's Soccer - Great Northeast Athletic Conference
LOCATION:Mount Ida
CATEGORIES:QuickScores, Soccer Game
TRANSP:OPAQUE
BEGIN:VALARM
TRIGGER:-PT2H
ACTION:DISPLAY
DESCRIPTION:Mount Ida vs. Saint Joseph ME
END:VALARM
END:VEVENT
BEGIN:VEVENT
UID:gnac-18566018-20141025@quickscores.com
DTSTAMP:20260425T074800Z
DTSTART;TZID=America/New_York:20141025
SUMMARY:Norwich vs. Mount Ida
DESCRIPTION:2014 Men's Soccer - Great Northeast Athletic Conference
LOCATION:Northfield, VT
CATEGORIES:QuickScores, Soccer Game
TRANSP:OPAQUE
BEGIN:VALARM
TRIGGER:-PT2H
ACTION:DISPLAY
DESCRIPTION:Norwich vs. Mount Ida
END:VALARM
END:VEVENT
END:VCALENDAR
