BEGIN:VCALENDAR
VERSION:2.0
PRODID:-//QuickScores.com//BQ Dynamic iCal Creator//EN
METHOD:PUBLISH
X-WR-CALNAME:Anna Maria - 2014 Men&#039;s Soccer - Fall 2014
X-WR-CALDESC:QuickScores game calendar
X-PUBLISHED-TTL:PT24H
REFRESH-INTERVAL;VALUE=DURATION:PT24H
CALSCALE:GREGORIAN
BEGIN:VTIMEZONE
TZID:America/New_York
X-LIC-LOCATION:America/New_York
BEGIN:DAYLIGHT
TZNAME:EDT
TZOFFSETFROM:-0500
TZOFFSETTO:-0400
DTSTART:19700308T020000
RRULE:FREQ=YEARLY;BYMONTH=3;BYDAY=2SU
END:DAYLIGHT
BEGIN:STANDARD
TZNAME:EST
TZOFFSETFROM:-0400
TZOFFSETTO:-0500
DTSTART:19701101T020000
RRULE:FREQ=YEARLY;BYMONTH=11;BYDAY=1SU
END:STANDARD
END:VTIMEZONE
BEGIN:VEVENT
UID:gnac-18566044-20140913@quickscores.com
DTSTAMP:20260424T050300Z
DTSTART;TZID=America/New_York:20140913
SUMMARY:Mount Ida vs. Anna Maria
DESCRIPTION:Maria can share a bus w WS --- 2014 Men's Soccer - Great Northeast Athletic Conference
LOCATION:Mount Ida
CATEGORIES:QuickScores, Soccer Game
TRANSP:OPAQUE
BEGIN:VALARM
TRIGGER:-PT2H
ACTION:DISPLAY
DESCRIPTION:Mount Ida vs. Anna Maria
END:VALARM
END:VEVENT
BEGIN:VEVENT
UID:gnac-18566045-20140920@quickscores.com
DTSTAMP:20260424T050300Z
DTSTART;TZID=America/New_York:20140920
SUMMARY:Anna Maria vs. Saint Joseph ME
DESCRIPTION:NODHP --- 2014 Men's Soccer - Great Northeast Athletic Conference
LOCATION:Paxton MA
CATEGORIES:QuickScores, Soccer Game
TRANSP:OPAQUE
BEGIN:VALARM
TRIGGER:-PT2H
ACTION:DISPLAY
DESCRIPTION:Anna Maria vs. Saint Joseph ME
END:VALARM
END:VEVENT
BEGIN:VEVENT
UID:gnac-18566069-20140927@quickscores.com
DTSTAMP:20260424T050300Z
DTSTART;TZID=America/New_York:20140927
SUMMARY:Emmanuel vs. Anna Maria
DESCRIPTION:2014 Men's Soccer - Great Northeast Athletic Conference
LOCATION:Roberto Clemente Field
CATEGORIES:QuickScores, Soccer Game
TRANSP:OPAQUE
BEGIN:VALARM
TRIGGER:-PT2H
ACTION:DISPLAY
DESCRIPTION:Emmanuel vs. Anna Maria
END:VALARM
END:VEVENT
BEGIN:VEVENT
UID:gnac-18566065-20141004@quickscores.com
DTSTAMP:20260424T050300Z
DTSTART;TZID=America/New_York:20141004
SUMMARY:Norwich vs. Anna Maria
DESCRIPTION:Maria can share a bus w WVB --- 2014 Men's Soccer - Great Northeast Athletic Conference
LOCATION:Northfield, VT
CATEGORIES:QuickScores, Soccer Game
TRANSP:OPAQUE
BEGIN:VALARM
TRIGGER:-PT2H
ACTION:DISPLAY
DESCRIPTION:Norwich vs. Anna Maria
END:VALARM
END:VEVENT
BEGIN:VEVENT
UID:gnac-18566015-20141011@quickscores.com
DTSTAMP:20260424T050300Z
DTSTART;TZID=America/New_York:20141011
SUMMARY:Anna Maria vs. Johnson & Wales
DESCRIPTION:2014 Men's Soccer - Great Northeast Athletic Conference
LOCATION:Paxton MA
CATEGORIES:QuickScores, Soccer Game
TRANSP:OPAQUE
BEGIN:VALARM
TRIGGER:-PT2H
ACTION:DISPLAY
DESCRIPTION:Anna Maria vs. Johnson & Wales
END:VALARM
END:VEVENT
BEGIN:VEVENT
UID:gnac-18566071-20141013@quickscores.com
DTSTAMP:20260424T050300Z
DTSTART;TZID=America/New_York:20141013
SUMMARY:Suffolk vs. Anna Maria
DESCRIPTION:2014 Men's Soccer - Great Northeast Athletic Conference
LOCATION:Suffolk
CATEGORIES:QuickScores, Soccer Game
TRANSP:OPAQUE
BEGIN:VALARM
TRIGGER:-PT2H
ACTION:DISPLAY
DESCRIPTION:Suffolk vs. Anna Maria
END:VALARM
END:VEVENT
BEGIN:VEVENT
UID:gnac-18566043-20141018@quickscores.com
DTSTAMP:20260424T050300Z
DTSTART;TZID=America/New_York:20141018
SUMMARY:Anna Maria vs. Albertus Magnus
DESCRIPTION:2014 DH Albertus can share a bus w WS --- 2014 Men's Soccer - Great Northeast Athletic Conference
LOCATION:Paxton MA
CATEGORIES:QuickScores, Soccer Game
TRANSP:OPAQUE
BEGIN:VALARM
TRIGGER:-PT2H
ACTION:DISPLAY
DESCRIPTION:Anna Maria vs. Albertus Magnus
END:VALARM
END:VEVENT
BEGIN:VEVENT
UID:gnac-18566070-20141022@quickscores.com
DTSTAMP:20260424T050300Z
DTSTART;TZID=America/New_York:20141022
SUMMARY:Anna Maria vs. Rivier
DESCRIPTION:2014 Men's Soccer - Great Northeast Athletic Conference
LOCATION:Paxton MA
CATEGORIES:QuickScores, Soccer Game
TRANSP:OPAQUE
BEGIN:VALARM
TRIGGER:-PT2H
ACTION:DISPLAY
DESCRIPTION:Anna Maria vs. Rivier
END:VALARM
END:VEVENT
BEGIN:VEVENT
UID:gnac-18566066-20141025@quickscores.com
DTSTAMP:20260424T050300Z
DTSTART;TZID=America/New_York:20141025
SUMMARY:Anna Maria vs. Lasell
DESCRIPTION:LAS can share a bus W FH --- 2014 Men's Soccer - Great Northeast Athletic Conference
LOCATION:Paxton MA
CATEGORIES:QuickScores, Soccer Game
TRANSP:OPAQUE
BEGIN:VALARM
TRIGGER:-PT2H
ACTION:DISPLAY
DESCRIPTION:Anna Maria vs. Lasell
END:VALARM
END:VEVENT
END:VCALENDAR
