BEGIN:VCALENDAR
VERSION:2.0
PRODID:-//QuickScores.com//BQ Dynamic iCal Creator//EN
METHOD:PUBLISH
X-WR-CALNAME:Emerson - 2014 Men&#039;s Volleyball 3/3/13 - Spring 2014
X-WR-CALDESC:QuickScores game calendar
X-PUBLISHED-TTL:PT24H
REFRESH-INTERVAL;VALUE=DURATION:PT24H
CALSCALE:GREGORIAN
BEGIN:VTIMEZONE
TZID:America/New_York
X-LIC-LOCATION:America/New_York
BEGIN:DAYLIGHT
TZNAME:EDT
TZOFFSETFROM:-0500
TZOFFSETTO:-0400
DTSTART:19700308T020000
RRULE:FREQ=YEARLY;BYMONTH=3;BYDAY=2SU
END:DAYLIGHT
BEGIN:STANDARD
TZNAME:EST
TZOFFSETFROM:-0400
TZOFFSETTO:-0500
DTSTART:19701101T020000
RRULE:FREQ=YEARLY;BYMONTH=11;BYDAY=1SU
END:STANDARD
END:VTIMEZONE
BEGIN:VEVENT
UID:gnac-16667864-20140227@quickscores.com
DTSTAMP:20260424T144400Z
DTSTART;TZID=America/New_York:20140227
SUMMARY:Emerson vs. Anna Maria
DESCRIPTION:2014 Men's Volleyball 3/3/13 - Great Northeast Athletic Conference
LOCATION:Bobbi Brown and Steven Plofker Gym
CATEGORIES:QuickScores, Volleyball Game
TRANSP:OPAQUE
BEGIN:VALARM
TRIGGER:-PT2H
ACTION:DISPLAY
DESCRIPTION:Emerson vs. Anna Maria
END:VALARM
END:VEVENT
BEGIN:VEVENT
UID:gnac-16667801-20140304@quickscores.com
DTSTAMP:20260424T144400Z
DTSTART;TZID=America/New_York:20140304
SUMMARY:Emerson vs. Albertus Magnus
DESCRIPTION:2014 Men's Volleyball 3/3/13 - Great Northeast Athletic Conference
LOCATION:Bobbi Brown and Steven Plofker Gym
CATEGORIES:QuickScores, Volleyball Game
TRANSP:OPAQUE
BEGIN:VALARM
TRIGGER:-PT2H
ACTION:DISPLAY
DESCRIPTION:Emerson vs. Albertus Magnus
END:VALARM
END:VEVENT
BEGIN:VEVENT
UID:gnac-16667856-20140306@quickscores.com
DTSTAMP:20260424T144400Z
DTSTART;TZID=America/New_York:20140306
SUMMARY:Mount Ida vs. Emerson
DESCRIPTION:2014 Men's Volleyball 3/3/13 - Great Northeast Athletic Conference
LOCATION:Mount Ida
CATEGORIES:QuickScores, Volleyball Game
TRANSP:OPAQUE
BEGIN:VALARM
TRIGGER:-PT2H
ACTION:DISPLAY
DESCRIPTION:Mount Ida vs. Emerson
END:VALARM
END:VEVENT
BEGIN:VEVENT
UID:gnac-16667822-20140311@quickscores.com
DTSTAMP:20260424T144400Z
DTSTART;TZID=America/New_York:20140311
SUMMARY:Wentworth vs. Emerson
DESCRIPTION:2014 Men's Volleyball 3/3/13 - Great Northeast Athletic Conference
LOCATION:Wentworth
CATEGORIES:QuickScores, Volleyball Game
TRANSP:OPAQUE
BEGIN:VALARM
TRIGGER:-PT2H
ACTION:DISPLAY
DESCRIPTION:Wentworth vs. Emerson
END:VALARM
END:VEVENT
BEGIN:VEVENT
UID:gnac-16667809-20140313@quickscores.com
DTSTAMP:20260424T144400Z
DTSTART;TZID=America/New_York:20140313
SUMMARY:Emerson vs. Lasell
DESCRIPTION:2014 Men's Volleyball 3/3/13 - Great Northeast Athletic Conference
LOCATION:Bobbi Brown and Steven Plofker Gym
CATEGORIES:QuickScores, Volleyball Game
TRANSP:OPAQUE
BEGIN:VALARM
TRIGGER:-PT2H
ACTION:DISPLAY
DESCRIPTION:Emerson vs. Lasell
END:VALARM
END:VEVENT
BEGIN:VEVENT
UID:gnac-16667843-20140318@quickscores.com
DTSTAMP:20260424T144400Z
DTSTART;TZID=America/New_York:20140318
SUMMARY:Emerson vs. Emmanuel
DESCRIPTION:2014 Men's Volleyball 3/3/13 - Great Northeast Athletic Conference
LOCATION:Bobbi Brown and Steven Plofker Gym
CATEGORIES:QuickScores, Volleyball Game
TRANSP:OPAQUE
BEGIN:VALARM
TRIGGER:-PT2H
ACTION:DISPLAY
DESCRIPTION:Emerson vs. Emmanuel
END:VALARM
END:VEVENT
BEGIN:VEVENT
UID:gnac-16667804-20140320@quickscores.com
DTSTAMP:20260424T144400Z
DTSTART;TZID=America/New_York:20140320
SUMMARY:Rivier vs. Emerson
DESCRIPTION:2014 Men's Volleyball 3/3/13 - Great Northeast Athletic Conference
LOCATION:Nashua, NH
CATEGORIES:QuickScores, Volleyball Game
TRANSP:OPAQUE
BEGIN:VALARM
TRIGGER:-PT2H
ACTION:DISPLAY
DESCRIPTION:Rivier vs. Emerson
END:VALARM
END:VEVENT
BEGIN:VEVENT
UID:gnac-16667853-20140322@quickscores.com
DTSTAMP:20260424T144400Z
DTSTART;TZID=America/New_York:20140322
SUMMARY:Emerson vs. Johnson and Wales
DESCRIPTION:2014 Men's Volleyball 3/3/13 - Great Northeast Athletic Conference
LOCATION:Bobbi Brown and Steven Plofker Gym
CATEGORIES:QuickScores, Volleyball Game
TRANSP:OPAQUE
BEGIN:VALARM
TRIGGER:-PT2H
ACTION:DISPLAY
DESCRIPTION:Emerson vs. Johnson and Wales
END:VALARM
END:VEVENT
BEGIN:VEVENT
UID:gnac-16667823-20140322@quickscores.com
DTSTAMP:20260424T144400Z
DTSTART;TZID=America/New_York:20140322
SUMMARY:Emerson vs. Wentworth
DESCRIPTION:2014 Men's Volleyball 3/3/13 - Great Northeast Athletic Conference
LOCATION:Bobbi Brown and Steven Plofker Gym
CATEGORIES:QuickScores, Volleyball Game
TRANSP:OPAQUE
BEGIN:VALARM
TRIGGER:-PT2H
ACTION:DISPLAY
DESCRIPTION:Emerson vs. Wentworth
END:VALARM
END:VEVENT
BEGIN:VEVENT
UID:gnac-16667791-20140327@quickscores.com
DTSTAMP:20260424T144400Z
DTSTART;TZID=America/New_York:20140327
SUMMARY:Emerson vs. Mount Ida
DESCRIPTION:2014 Men's Volleyball 3/3/13 - Great Northeast Athletic Conference
LOCATION:Bobbi Brown and Steven Plofker Gym
CATEGORIES:QuickScores, Volleyball Game
TRANSP:OPAQUE
BEGIN:VALARM
TRIGGER:-PT2H
ACTION:DISPLAY
DESCRIPTION:Emerson vs. Mount Ida
END:VALARM
END:VEVENT
BEGIN:VEVENT
UID:gnac-16667785-20140329@quickscores.com
DTSTAMP:20260424T144400Z
DTSTART;TZID=America/New_York:20140329
SUMMARY:Anna Maria vs. Emerson
DESCRIPTION:2014 Men's Volleyball 3/3/13 - Great Northeast Athletic Conference
LOCATION:Jean Yawkey Center
CATEGORIES:QuickScores, Volleyball Game
TRANSP:OPAQUE
BEGIN:VALARM
TRIGGER:-PT2H
ACTION:DISPLAY
DESCRIPTION:Anna Maria vs. Emerson
END:VALARM
END:VEVENT
BEGIN:VEVENT
UID:gnac-16667834-20140329@quickscores.com
DTSTAMP:20260424T144400Z
DTSTART;TZID=America/New_York:20140329
SUMMARY:Emmanuel vs. Emerson
DESCRIPTION:2014 Men's Volleyball 3/3/13 - Great Northeast Athletic Conference
LOCATION:Jean Yawkey Center
CATEGORIES:QuickScores, Volleyball Game
TRANSP:OPAQUE
BEGIN:VALARM
TRIGGER:-PT2H
ACTION:DISPLAY
DESCRIPTION:Emmanuel vs. Emerson
END:VALARM
END:VEVENT
BEGIN:VEVENT
UID:gnac-16667779-20140401@quickscores.com
DTSTAMP:20260424T144400Z
DTSTART;TZID=America/New_York:20140401
SUMMARY:Johnson and Wales vs. Emerson
DESCRIPTION:2014 Men's Volleyball 3/3/13 - Great Northeast Athletic Conference
LOCATION:Harborside Athletic Center
CATEGORIES:QuickScores, Volleyball Game
TRANSP:OPAQUE
BEGIN:VALARM
TRIGGER:-PT2H
ACTION:DISPLAY
DESCRIPTION:Johnson and Wales vs. Emerson
END:VALARM
END:VEVENT
BEGIN:VEVENT
UID:gnac-16667826-20140403@quickscores.com
DTSTAMP:20260424T144400Z
DTSTART;TZID=America/New_York:20140403
SUMMARY:Emerson vs. Rivier
DESCRIPTION:2014 Men's Volleyball 3/3/13 - Great Northeast Athletic Conference
LOCATION:Bobbi Brown and Steven Plofker Gym
CATEGORIES:QuickScores, Volleyball Game
TRANSP:OPAQUE
BEGIN:VALARM
TRIGGER:-PT2H
ACTION:DISPLAY
DESCRIPTION:Emerson vs. Rivier
END:VALARM
END:VEVENT
BEGIN:VEVENT
UID:gnac-16667808-20140405@quickscores.com
DTSTAMP:20260424T144400Z
DTSTART;TZID=America/New_York:20140405
SUMMARY:Lasell vs. Emerson
DESCRIPTION:2014 Men's Volleyball 3/3/13 - Great Northeast Athletic Conference
LOCATION:Lasell Newton
CATEGORIES:QuickScores, Volleyball Game
TRANSP:OPAQUE
BEGIN:VALARM
TRIGGER:-PT2H
ACTION:DISPLAY
DESCRIPTION:Lasell vs. Emerson
END:VALARM
END:VEVENT
BEGIN:VEVENT
UID:gnac-16667797-20140405@quickscores.com
DTSTAMP:20260424T144400Z
DTSTART;TZID=America/New_York:20140405
SUMMARY:Albertus Magnus vs. Emerson
DESCRIPTION:2014 Men's Volleyball 3/3/13 - Great Northeast Athletic Conference
LOCATION:Lasell Newton
CATEGORIES:QuickScores, Volleyball Game
TRANSP:OPAQUE
BEGIN:VALARM
TRIGGER:-PT2H
ACTION:DISPLAY
DESCRIPTION:Albertus Magnus vs. Emerson
END:VALARM
END:VEVENT
END:VCALENDAR
