BEGIN:VCALENDAR
VERSION:2.0
PRODID:-//QuickScores.com//BQ Dynamic iCal Creator//EN
METHOD:PUBLISH
X-WR-CALNAME:Rivier - 2014 Men&#039;s Volleyball 3/3/13 - Spring 2014
X-WR-CALDESC:QuickScores game calendar
X-PUBLISHED-TTL:PT24H
REFRESH-INTERVAL;VALUE=DURATION:PT24H
CALSCALE:GREGORIAN
BEGIN:VTIMEZONE
TZID:America/New_York
X-LIC-LOCATION:America/New_York
BEGIN:DAYLIGHT
TZNAME:EDT
TZOFFSETFROM:-0500
TZOFFSETTO:-0400
DTSTART:19700308T020000
RRULE:FREQ=YEARLY;BYMONTH=3;BYDAY=2SU
END:DAYLIGHT
BEGIN:STANDARD
TZNAME:EST
TZOFFSETFROM:-0400
TZOFFSETTO:-0500
DTSTART:19701101T020000
RRULE:FREQ=YEARLY;BYMONTH=11;BYDAY=1SU
END:STANDARD
END:VTIMEZONE
BEGIN:VEVENT
UID:gnac-16667825-20140225@quickscores.com
DTSTAMP:20260424T223400Z
DTSTART;TZID=America/New_York:20140225
SUMMARY:Johnson and Wales vs. Rivier
DESCRIPTION:2014 Men's Volleyball 3/3/13 - Great Northeast Athletic Conference
LOCATION:Harborside Athletic Center
CATEGORIES:QuickScores, Volleyball Game
TRANSP:OPAQUE
BEGIN:VALARM
TRIGGER:-PT2H
ACTION:DISPLAY
DESCRIPTION:Johnson and Wales vs. Rivier
END:VALARM
END:VEVENT
BEGIN:VEVENT
UID:gnac-16667838-20140227@quickscores.com
DTSTAMP:20260424T223400Z
DTSTART;TZID=America/New_York:20140227
SUMMARY:Mount Ida vs. Rivier
DESCRIPTION:2014 Men's Volleyball 3/3/13 - Great Northeast Athletic Conference
LOCATION:Mount Ida
CATEGORIES:QuickScores, Volleyball Game
TRANSP:OPAQUE
BEGIN:VALARM
TRIGGER:-PT2H
ACTION:DISPLAY
DESCRIPTION:Mount Ida vs. Rivier
END:VALARM
END:VEVENT
BEGIN:VEVENT
UID:gnac-16667857-20140306@quickscores.com
DTSTAMP:20260424T223400Z
DTSTART;TZID=America/New_York:20140306
SUMMARY:Emmanuel vs. Rivier
DESCRIPTION:2014 Men's Volleyball 3/3/13 - Great Northeast Athletic Conference
LOCATION:Jean Yawkey Center
CATEGORIES:QuickScores, Volleyball Game
TRANSP:OPAQUE
BEGIN:VALARM
TRIGGER:-PT2H
ACTION:DISPLAY
DESCRIPTION:Emmanuel vs. Rivier
END:VALARM
END:VEVENT
BEGIN:VEVENT
UID:gnac-16667844-20140311@quickscores.com
DTSTAMP:20260424T223400Z
DTSTART;TZID=America/New_York:20140311
SUMMARY:Rivier vs. Albertus Magnus
DESCRIPTION:2014 Men's Volleyball 3/3/13 - Great Northeast Athletic Conference
LOCATION:Nashua, NH
CATEGORIES:QuickScores, Volleyball Game
TRANSP:OPAQUE
BEGIN:VALARM
TRIGGER:-PT2H
ACTION:DISPLAY
DESCRIPTION:Rivier vs. Albertus Magnus
END:VALARM
END:VEVENT
BEGIN:VEVENT
UID:gnac-16667810-20140313@quickscores.com
DTSTAMP:20260424T223400Z
DTSTART;TZID=America/New_York:20140313
SUMMARY:Rivier vs. Wentworth
DESCRIPTION:2014 Men's Volleyball 3/3/13 - Great Northeast Athletic Conference
LOCATION:Nashua, NH
CATEGORIES:QuickScores, Volleyball Game
TRANSP:OPAQUE
BEGIN:VALARM
TRIGGER:-PT2H
ACTION:DISPLAY
DESCRIPTION:Rivier vs. Wentworth
END:VALARM
END:VEVENT
BEGIN:VEVENT
UID:gnac-16667863-20140318@quickscores.com
DTSTAMP:20260424T223400Z
DTSTART;TZID=America/New_York:20140318
SUMMARY:Anna Maria vs. Rivier
DESCRIPTION:2014 Men's Volleyball 3/3/13 - Great Northeast Athletic Conference
LOCATION:Paxton MA
CATEGORIES:QuickScores, Volleyball Game
TRANSP:OPAQUE
BEGIN:VALARM
TRIGGER:-PT2H
ACTION:DISPLAY
DESCRIPTION:Anna Maria vs. Rivier
END:VALARM
END:VEVENT
BEGIN:VEVENT
UID:gnac-16667804-20140320@quickscores.com
DTSTAMP:20260424T223400Z
DTSTART;TZID=America/New_York:20140320
SUMMARY:Rivier vs. Emerson
DESCRIPTION:2014 Men's Volleyball 3/3/13 - Great Northeast Athletic Conference
LOCATION:Nashua, NH
CATEGORIES:QuickScores, Volleyball Game
TRANSP:OPAQUE
BEGIN:VALARM
TRIGGER:-PT2H
ACTION:DISPLAY
DESCRIPTION:Rivier vs. Emerson
END:VALARM
END:VEVENT
BEGIN:VEVENT
UID:gnac-16667854-20140322@quickscores.com
DTSTAMP:20260424T223400Z
DTSTART;TZID=America/New_York:20140322
SUMMARY:Albertus Magnus vs. Rivier
DESCRIPTION:2014 Men's Volleyball 3/3/13 - Great Northeast Athletic Conference
LOCATION:New Haven, CT
CATEGORIES:QuickScores, Volleyball Game
TRANSP:OPAQUE
BEGIN:VALARM
TRIGGER:-PT2H
ACTION:DISPLAY
DESCRIPTION:Albertus Magnus vs. Rivier
END:VALARM
END:VEVENT
BEGIN:VEVENT
UID:gnac-16667792-20140322@quickscores.com
DTSTAMP:20260424T223400Z
DTSTART;TZID=America/New_York:20140322
SUMMARY:Rivier vs. Emmanuel
DESCRIPTION:2014 Men's Volleyball 3/3/13 - Great Northeast Athletic Conference
LOCATION:New Haven, CT
CATEGORIES:QuickScores, Volleyball Game
TRANSP:OPAQUE
BEGIN:VALARM
TRIGGER:-PT2H
ACTION:DISPLAY
DESCRIPTION:Rivier vs. Emmanuel
END:VALARM
END:VEVENT
BEGIN:VEVENT
UID:gnac-16667793-20140325@quickscores.com
DTSTAMP:20260424T223400Z
DTSTART;TZID=America/New_York:20140325
SUMMARY:Lasell vs. Rivier
DESCRIPTION:2014 Men's Volleyball 3/3/13 - Great Northeast Athletic Conference
LOCATION:Lasell Newton
CATEGORIES:QuickScores, Volleyball Game
TRANSP:OPAQUE
BEGIN:VALARM
TRIGGER:-PT2H
ACTION:DISPLAY
DESCRIPTION:Lasell vs. Rivier
END:VALARM
END:VEVENT
BEGIN:VEVENT
UID:gnac-16667827-20140329@quickscores.com
DTSTAMP:20260424T223400Z
DTSTART;TZID=America/New_York:20140329
SUMMARY:Rivier vs. Johnson and Wales
DESCRIPTION:2014 Men's Volleyball 3/3/13 - Great Northeast Athletic Conference
LOCATION:Nashua, NH
CATEGORIES:QuickScores, Volleyball Game
TRANSP:OPAQUE
BEGIN:VALARM
TRIGGER:-PT2H
ACTION:DISPLAY
DESCRIPTION:Rivier vs. Johnson and Wales
END:VALARM
END:VEVENT
BEGIN:VEVENT
UID:gnac-16667860-20140329@quickscores.com
DTSTAMP:20260424T223400Z
DTSTART;TZID=America/New_York:20140329
SUMMARY:Rivier vs. Lasell
DESCRIPTION:2014 Men's Volleyball 3/3/13 - Great Northeast Athletic Conference
LOCATION:Nashua, NH
CATEGORIES:QuickScores, Volleyball Game
TRANSP:OPAQUE
BEGIN:VALARM
TRIGGER:-PT2H
ACTION:DISPLAY
DESCRIPTION:Rivier vs. Lasell
END:VALARM
END:VEVENT
BEGIN:VEVENT
UID:gnac-16667832-20140401@quickscores.com
DTSTAMP:20260424T223400Z
DTSTART;TZID=America/New_York:20140401
SUMMARY:Rivier vs. Mount Ida
DESCRIPTION:2014 Men's Volleyball 3/3/13 - Great Northeast Athletic Conference
LOCATION:Nashua, NH
CATEGORIES:QuickScores, Volleyball Game
TRANSP:OPAQUE
BEGIN:VALARM
TRIGGER:-PT2H
ACTION:DISPLAY
DESCRIPTION:Rivier vs. Mount Ida
END:VALARM
END:VEVENT
BEGIN:VEVENT
UID:gnac-16667826-20140403@quickscores.com
DTSTAMP:20260424T223400Z
DTSTART;TZID=America/New_York:20140403
SUMMARY:Emerson vs. Rivier
DESCRIPTION:2014 Men's Volleyball 3/3/13 - Great Northeast Athletic Conference
LOCATION:Bobbi Brown and Steven Plofker Gym
CATEGORIES:QuickScores, Volleyball Game
TRANSP:OPAQUE
BEGIN:VALARM
TRIGGER:-PT2H
ACTION:DISPLAY
DESCRIPTION:Emerson vs. Rivier
END:VALARM
END:VEVENT
BEGIN:VEVENT
UID:gnac-16667812-20140405@quickscores.com
DTSTAMP:20260424T223400Z
DTSTART;TZID=America/New_York:20140405
SUMMARY:Wentworth vs. Rivier
DESCRIPTION:2014 Men's Volleyball 3/3/13 - Great Northeast Athletic Conference
LOCATION:Wentworth
CATEGORIES:QuickScores, Volleyball Game
TRANSP:OPAQUE
BEGIN:VALARM
TRIGGER:-PT2H
ACTION:DISPLAY
DESCRIPTION:Wentworth vs. Rivier
END:VALARM
END:VEVENT
BEGIN:VEVENT
UID:gnac-16667783-20140405@quickscores.com
DTSTAMP:20260424T223400Z
DTSTART;TZID=America/New_York:20140405
SUMMARY:Rivier vs. Anna Maria
DESCRIPTION:2014 Men's Volleyball 3/3/13 - Great Northeast Athletic Conference
LOCATION:Wentworth
CATEGORIES:QuickScores, Volleyball Game
TRANSP:OPAQUE
BEGIN:VALARM
TRIGGER:-PT2H
ACTION:DISPLAY
DESCRIPTION:Rivier vs. Anna Maria
END:VALARM
END:VEVENT
END:VCALENDAR
