BEGIN:VCALENDAR
VERSION:2.0
PRODID:-//QuickScores.com//BQ Dynamic iCal Creator//EN
METHOD:PUBLISH
X-WR-CALNAME:Albertus Magnus - 2014 Men&#039;s Volleyball 3/3/13 - Spring 2014
X-WR-CALDESC:QuickScores game calendar
X-PUBLISHED-TTL:PT24H
REFRESH-INTERVAL;VALUE=DURATION:PT24H
CALSCALE:GREGORIAN
BEGIN:VTIMEZONE
TZID:America/New_York
X-LIC-LOCATION:America/New_York
BEGIN:DAYLIGHT
TZNAME:EDT
TZOFFSETFROM:-0500
TZOFFSETTO:-0400
DTSTART:19700308T020000
RRULE:FREQ=YEARLY;BYMONTH=3;BYDAY=2SU
END:DAYLIGHT
BEGIN:STANDARD
TZNAME:EST
TZOFFSETFROM:-0400
TZOFFSETTO:-0500
DTSTART:19701101T020000
RRULE:FREQ=YEARLY;BYMONTH=11;BYDAY=1SU
END:STANDARD
END:VTIMEZONE
BEGIN:VEVENT
UID:gnac-16667828-20140227@quickscores.com
DTSTAMP:20260424T044000Z
DTSTART;TZID=America/New_York:20140227
SUMMARY:Emmanuel vs. Albertus Magnus
DESCRIPTION:2014 Men's Volleyball 3/3/13 - Great Northeast Athletic Conference
LOCATION:Jean Yawkey Center
CATEGORIES:QuickScores, Volleyball Game
TRANSP:OPAQUE
BEGIN:VALARM
TRIGGER:-PT2H
ACTION:DISPLAY
DESCRIPTION:Emmanuel vs. Albertus Magnus
END:VALARM
END:VEVENT
BEGIN:VEVENT
UID:gnac-16667801-20140304@quickscores.com
DTSTAMP:20260424T044000Z
DTSTART;TZID=America/New_York:20140304
SUMMARY:Emerson vs. Albertus Magnus
DESCRIPTION:2014 Men's Volleyball 3/3/13 - Great Northeast Athletic Conference
LOCATION:Bobbi Brown and Steven Plofker Gym
CATEGORIES:QuickScores, Volleyball Game
TRANSP:OPAQUE
BEGIN:VALARM
TRIGGER:-PT2H
ACTION:DISPLAY
DESCRIPTION:Emerson vs. Albertus Magnus
END:VALARM
END:VEVENT
BEGIN:VEVENT
UID:gnac-16667795-20140306@quickscores.com
DTSTAMP:20260424T044000Z
DTSTART;TZID=America/New_York:20140306
SUMMARY:Albertus Magnus vs. Lasell
DESCRIPTION:2014 Men's Volleyball 3/3/13 - Great Northeast Athletic Conference
LOCATION:New Haven, CT
CATEGORIES:QuickScores, Volleyball Game
TRANSP:OPAQUE
BEGIN:VALARM
TRIGGER:-PT2H
ACTION:DISPLAY
DESCRIPTION:Albertus Magnus vs. Lasell
END:VALARM
END:VEVENT
BEGIN:VEVENT
UID:gnac-16667844-20140311@quickscores.com
DTSTAMP:20260424T044000Z
DTSTART;TZID=America/New_York:20140311
SUMMARY:Rivier vs. Albertus Magnus
DESCRIPTION:2014 Men's Volleyball 3/3/13 - Great Northeast Athletic Conference
LOCATION:Nashua, NH
CATEGORIES:QuickScores, Volleyball Game
TRANSP:OPAQUE
BEGIN:VALARM
TRIGGER:-PT2H
ACTION:DISPLAY
DESCRIPTION:Rivier vs. Albertus Magnus
END:VALARM
END:VEVENT
BEGIN:VEVENT
UID:gnac-16667796-20140313@quickscores.com
DTSTAMP:20260424T044000Z
DTSTART;TZID=America/New_York:20140313
SUMMARY:Albertus Magnus vs. Mount Ida
DESCRIPTION:2014 Men's Volleyball 3/3/13 - Great Northeast Athletic Conference
LOCATION:New Haven, CT
CATEGORIES:QuickScores, Volleyball Game
TRANSP:OPAQUE
BEGIN:VALARM
TRIGGER:-PT2H
ACTION:DISPLAY
DESCRIPTION:Albertus Magnus vs. Mount Ida
END:VALARM
END:VEVENT
BEGIN:VEVENT
UID:gnac-16667852-20140320@quickscores.com
DTSTAMP:20260424T044000Z
DTSTART;TZID=America/New_York:20140320
SUMMARY:Johnson and Wales vs. Albertus Magnus
DESCRIPTION:2014 Men's Volleyball 3/3/13 - Great Northeast Athletic Conference
LOCATION:Harborside Athletic Center
CATEGORIES:QuickScores, Volleyball Game
TRANSP:OPAQUE
BEGIN:VALARM
TRIGGER:-PT2H
ACTION:DISPLAY
DESCRIPTION:Johnson and Wales vs. Albertus Magnus
END:VALARM
END:VEVENT
BEGIN:VEVENT
UID:gnac-16667854-20140322@quickscores.com
DTSTAMP:20260424T044000Z
DTSTART;TZID=America/New_York:20140322
SUMMARY:Albertus Magnus vs. Rivier
DESCRIPTION:2014 Men's Volleyball 3/3/13 - Great Northeast Athletic Conference
LOCATION:New Haven, CT
CATEGORIES:QuickScores, Volleyball Game
TRANSP:OPAQUE
BEGIN:VALARM
TRIGGER:-PT2H
ACTION:DISPLAY
DESCRIPTION:Albertus Magnus vs. Rivier
END:VALARM
END:VEVENT
BEGIN:VEVENT
UID:gnac-16667780-20140322@quickscores.com
DTSTAMP:20260424T044000Z
DTSTART;TZID=America/New_York:20140322
SUMMARY:Albertus Magnus vs. Emmanuel
DESCRIPTION:2014 Men's Volleyball 3/3/13 - Great Northeast Athletic Conference
LOCATION:New Haven, CT
CATEGORIES:QuickScores, Volleyball Game
TRANSP:OPAQUE
BEGIN:VALARM
TRIGGER:-PT2H
ACTION:DISPLAY
DESCRIPTION:Albertus Magnus vs. Emmanuel
END:VALARM
END:VEVENT
BEGIN:VEVENT
UID:gnac-16667833-20140325@quickscores.com
DTSTAMP:20260424T044000Z
DTSTART;TZID=America/New_York:20140325
SUMMARY:Wentworth vs. Albertus Magnus
DESCRIPTION:2014 Men's Volleyball 3/3/13 - Great Northeast Athletic Conference
LOCATION:Wentworth
CATEGORIES:QuickScores, Volleyball Game
TRANSP:OPAQUE
BEGIN:VALARM
TRIGGER:-PT2H
ACTION:DISPLAY
DESCRIPTION:Wentworth vs. Albertus Magnus
END:VALARM
END:VEVENT
BEGIN:VEVENT
UID:gnac-16667840-20140327@quickscores.com
DTSTAMP:20260424T044000Z
DTSTART;TZID=America/New_York:20140327
SUMMARY:Albertus Magnus vs. Johnson and Wales
DESCRIPTION:2014 Men's Volleyball 3/3/13 - Great Northeast Athletic Conference
LOCATION:New Haven, CT
CATEGORIES:QuickScores, Volleyball Game
TRANSP:OPAQUE
BEGIN:VALARM
TRIGGER:-PT2H
ACTION:DISPLAY
DESCRIPTION:Albertus Magnus vs. Johnson and Wales
END:VALARM
END:VEVENT
BEGIN:VEVENT
UID:gnac-16667811-20140329@quickscores.com
DTSTAMP:20260424T044000Z
DTSTART;TZID=America/New_York:20140329
SUMMARY:Mount Ida vs. Albertus Magnus
DESCRIPTION:2014 Men's Volleyball 3/3/13 - Great Northeast Athletic Conference
LOCATION:Mount Ida
CATEGORIES:QuickScores, Volleyball Game
TRANSP:OPAQUE
BEGIN:VALARM
TRIGGER:-PT2H
ACTION:DISPLAY
DESCRIPTION:Mount Ida vs. Albertus Magnus
END:VALARM
END:VEVENT
BEGIN:VEVENT
UID:gnac-16667835-20140329@quickscores.com
DTSTAMP:20260424T044000Z
DTSTART;TZID=America/New_York:20140329
SUMMARY:Albertus Magnus vs. Wentworth
DESCRIPTION:2014 Men's Volleyball 3/3/13 - Great Northeast Athletic Conference
LOCATION:Mount Ida
CATEGORIES:QuickScores, Volleyball Game
TRANSP:OPAQUE
BEGIN:VALARM
TRIGGER:-PT2H
ACTION:DISPLAY
DESCRIPTION:Albertus Magnus vs. Wentworth
END:VALARM
END:VEVENT
BEGIN:VEVENT
UID:gnac-16667807-20140401@quickscores.com
DTSTAMP:20260424T044000Z
DTSTART;TZID=America/New_York:20140401
SUMMARY:Albertus Magnus vs. Anna Maria
DESCRIPTION:2014 Men's Volleyball 3/3/13 - Great Northeast Athletic Conference
LOCATION:New Haven, CT
CATEGORIES:QuickScores, Volleyball Game
TRANSP:OPAQUE
BEGIN:VALARM
TRIGGER:-PT2H
ACTION:DISPLAY
DESCRIPTION:Albertus Magnus vs. Anna Maria
END:VALARM
END:VEVENT
BEGIN:VEVENT
UID:gnac-16667786-20140403@quickscores.com
DTSTAMP:20260424T044000Z
DTSTART;TZID=America/New_York:20140403
SUMMARY:Anna Maria vs. Albertus Magnus
DESCRIPTION:2014 Men's Volleyball 3/3/13 - Great Northeast Athletic Conference
LOCATION:Paxton MA
CATEGORIES:QuickScores, Volleyball Game
TRANSP:OPAQUE
BEGIN:VALARM
TRIGGER:-PT2H
ACTION:DISPLAY
DESCRIPTION:Anna Maria vs. Albertus Magnus
END:VALARM
END:VEVENT
BEGIN:VEVENT
UID:gnac-16667797-20140405@quickscores.com
DTSTAMP:20260424T044000Z
DTSTART;TZID=America/New_York:20140405
SUMMARY:Albertus Magnus vs. Emerson
DESCRIPTION:2014 Men's Volleyball 3/3/13 - Great Northeast Athletic Conference
LOCATION:Lasell Newton
CATEGORIES:QuickScores, Volleyball Game
TRANSP:OPAQUE
BEGIN:VALARM
TRIGGER:-PT2H
ACTION:DISPLAY
DESCRIPTION:Albertus Magnus vs. Emerson
END:VALARM
END:VEVENT
BEGIN:VEVENT
UID:gnac-16667794-20140405@quickscores.com
DTSTAMP:20260424T044000Z
DTSTART;TZID=America/New_York:20140405
SUMMARY:Lasell vs. Albertus Magnus
DESCRIPTION:2014 Men's Volleyball 3/3/13 - Great Northeast Athletic Conference
LOCATION:Lasell Newton
CATEGORIES:QuickScores, Volleyball Game
TRANSP:OPAQUE
BEGIN:VALARM
TRIGGER:-PT2H
ACTION:DISPLAY
DESCRIPTION:Lasell vs. Albertus Magnus
END:VALARM
END:VEVENT
END:VCALENDAR
