BEGIN:VCALENDAR
VERSION:2.0
PRODID:-//QuickScores.com//BQ Dynamic iCal Creator//EN
METHOD:PUBLISH
X-WR-CALNAME:Rivier - 2013 Men&#039;s Soccer - Fall 2013
X-WR-CALDESC:QuickScores game calendar
X-PUBLISHED-TTL:PT24H
REFRESH-INTERVAL;VALUE=DURATION:PT24H
CALSCALE:GREGORIAN
BEGIN:VTIMEZONE
TZID:America/New_York
X-LIC-LOCATION:America/New_York
BEGIN:DAYLIGHT
TZNAME:EDT
TZOFFSETFROM:-0500
TZOFFSETTO:-0400
DTSTART:19700308T020000
RRULE:FREQ=YEARLY;BYMONTH=3;BYDAY=2SU
END:DAYLIGHT
BEGIN:STANDARD
TZNAME:EST
TZOFFSETFROM:-0400
TZOFFSETTO:-0500
DTSTART:19701101T020000
RRULE:FREQ=YEARLY;BYMONTH=11;BYDAY=1SU
END:STANDARD
END:VTIMEZONE
BEGIN:VEVENT
UID:gnac-14856539-20130914@quickscores.com
DTSTAMP:20260420T115200Z
DTSTART;TZID=America/New_York:20130914
SUMMARY:Rivier vs. Johnson & Wales
DESCRIPTION:2013 Men's Soccer - Great Northeast Athletic Conference
LOCATION:Nashua, NH
CATEGORIES:QuickScores, Soccer Game
TRANSP:OPAQUE
BEGIN:VALARM
TRIGGER:-PT2H
ACTION:DISPLAY
DESCRIPTION:Rivier vs. Johnson & Wales
END:VALARM
END:VEVENT
BEGIN:VEVENT
UID:gnac-14856484-20130922@quickscores.com
DTSTAMP:20260420T115200Z
DTSTART;TZID=America/New_York:20130922
SUMMARY:Mount Ida vs. Rivier
DESCRIPTION:Ida has home football on Saturday --- 2013 Men's Soccer - Great Northeast Athletic Conference
LOCATION:Mount Ida
CATEGORIES:QuickScores, Soccer Game
TRANSP:OPAQUE
BEGIN:VALARM
TRIGGER:-PT2H
ACTION:DISPLAY
DESCRIPTION:Mount Ida vs. Rivier
END:VALARM
END:VEVENT
BEGIN:VEVENT
UID:gnac-14856507-20130928@quickscores.com
DTSTAMP:20260420T115200Z
DTSTART;TZID=America/New_York:20130928
SUMMARY:Rivier vs. Emmanuel
DESCRIPTION:2013 Men's Soccer - Great Northeast Athletic Conference
LOCATION:Nashua, NH
CATEGORIES:QuickScores, Soccer Game
TRANSP:OPAQUE
BEGIN:VALARM
TRIGGER:-PT2H
ACTION:DISPLAY
DESCRIPTION:Rivier vs. Emmanuel
END:VALARM
END:VEVENT
BEGIN:VEVENT
UID:gnac-14856538-20131005@quickscores.com
DTSTAMP:20260420T115200Z
DTSTART;TZID=America/New_York:20131005
SUMMARY:Albertus Magnus vs. Rivier
DESCRIPTION:NODHP --- 2013 Men's Soccer - Great Northeast Athletic Conference
LOCATION:New Haven, CT
CATEGORIES:QuickScores, Soccer Game
TRANSP:OPAQUE
BEGIN:VALARM
TRIGGER:-PT2H
ACTION:DISPLAY
DESCRIPTION:Albertus Magnus vs. Rivier
END:VALARM
END:VEVENT
BEGIN:VEVENT
UID:gnac-14856471-20131012@quickscores.com
DTSTAMP:20260420T115200Z
DTSTART;TZID=America/New_York:20131012
SUMMARY:Rivier vs. Anna Maria
DESCRIPTION:2013 Anna Maria can share a a bus w WS --- 2013 Men's Soccer - Great Northeast Athletic Conference
LOCATION:Nashua, NH
CATEGORIES:QuickScores, Soccer Game
TRANSP:OPAQUE
BEGIN:VALARM
TRIGGER:-PT2H
ACTION:DISPLAY
DESCRIPTION:Rivier vs. Anna Maria
END:VALARM
END:VEVENT
BEGIN:VEVENT
UID:gnac-14856502-20131014@quickscores.com
DTSTAMP:20260420T115200Z
DTSTART;TZID=America/New_York:20131014
SUMMARY:Saint Joseph ME vs. Rivier
DESCRIPTION:2013 DH. RIV MS & WS can share a bus --- 2013 Men's Soccer - Great Northeast Athletic Conference
LOCATION:Standish ME
CATEGORIES:QuickScores, Soccer Game
TRANSP:OPAQUE
BEGIN:VALARM
TRIGGER:-PT2H
ACTION:DISPLAY
DESCRIPTION:Saint Joseph ME vs. Rivier
END:VALARM
END:VEVENT
BEGIN:VEVENT
UID:gnac-14856483-20131019@quickscores.com
DTSTAMP:20260420T115200Z
DTSTART;TZID=America/New_York:20131019
SUMMARY:Norwich vs. Rivier
DESCRIPTION:2013 DH w WS. RIV could share a bus. --- 2013 Men's Soccer - Great Northeast Athletic Conference
LOCATION:Northfield, VT
CATEGORIES:QuickScores, Soccer Game
TRANSP:OPAQUE
BEGIN:VALARM
TRIGGER:-PT2H
ACTION:DISPLAY
DESCRIPTION:Norwich vs. Rivier
END:VALARM
END:VEVENT
BEGIN:VEVENT
UID:gnac-14856503-20131023@quickscores.com
DTSTAMP:20260420T115200Z
DTSTART;TZID=America/New_York:20131023
SUMMARY:Rivier vs. Lasell
DESCRIPTION:LAS can share a bus w WVB --- 2013 Men's Soccer - Great Northeast Athletic Conference
LOCATION:Nashua, NH
CATEGORIES:QuickScores, Soccer Game
TRANSP:OPAQUE
BEGIN:VALARM
TRIGGER:-PT2H
ACTION:DISPLAY
DESCRIPTION:Rivier vs. Lasell
END:VALARM
END:VEVENT
BEGIN:VEVENT
UID:gnac-14856528-20131026@quickscores.com
DTSTAMP:20260420T115200Z
DTSTART;TZID=America/New_York:20131026
SUMMARY:Rivier vs. Suffolk
DESCRIPTION:SUF can share a bus w WVB --- 2013 Men's Soccer - Great Northeast Athletic Conference
LOCATION:Nashua, NH
CATEGORIES:QuickScores, Soccer Game
TRANSP:OPAQUE
BEGIN:VALARM
TRIGGER:-PT2H
ACTION:DISPLAY
DESCRIPTION:Rivier vs. Suffolk
END:VALARM
END:VEVENT
END:VCALENDAR
