BEGIN:VCALENDAR
VERSION:2.0
PRODID:-//QuickScores.com//BQ Dynamic iCal Creator//EN
METHOD:PUBLISH
X-WR-CALNAME:Lasell - 2013 Men&#039;s Soccer - Fall 2013
X-WR-CALDESC:QuickScores game calendar
X-PUBLISHED-TTL:PT24H
REFRESH-INTERVAL;VALUE=DURATION:PT24H
CALSCALE:GREGORIAN
BEGIN:VTIMEZONE
TZID:America/New_York
X-LIC-LOCATION:America/New_York
BEGIN:DAYLIGHT
TZNAME:EDT
TZOFFSETFROM:-0500
TZOFFSETTO:-0400
DTSTART:19700308T020000
RRULE:FREQ=YEARLY;BYMONTH=3;BYDAY=2SU
END:DAYLIGHT
BEGIN:STANDARD
TZNAME:EST
TZOFFSETFROM:-0400
TZOFFSETTO:-0500
DTSTART:19701101T020000
RRULE:FREQ=YEARLY;BYMONTH=11;BYDAY=1SU
END:STANDARD
END:VTIMEZONE
BEGIN:VEVENT
UID:gnac-14856476-20130914@quickscores.com
DTSTAMP:20260420T161100Z
DTSTART;TZID=America/New_York:20130914
SUMMARY:Lasell vs. Anna Maria
DESCRIPTION:Anna Maria can share a bus w WS --- 2013 Men's Soccer - Great Northeast Athletic Conference
LOCATION:Taylor Field at Lasell College
CATEGORIES:QuickScores, Soccer Game
TRANSP:OPAQUE
BEGIN:VALARM
TRIGGER:-PT2H
ACTION:DISPLAY
DESCRIPTION:Lasell vs. Anna Maria
END:VALARM
END:VEVENT
BEGIN:VEVENT
UID:gnac-14856522-20130921@quickscores.com
DTSTAMP:20260420T161100Z
DTSTART;TZID=America/New_York:20130921
SUMMARY:Albertus Magnus vs. Lasell
DESCRIPTION:2013 DH. LAS MS & WS can share a bus. --- 2013 Men's Soccer - Great Northeast Athletic Conference
LOCATION:New Haven, CT
CATEGORIES:QuickScores, Soccer Game
TRANSP:OPAQUE
BEGIN:VALARM
TRIGGER:-PT2H
ACTION:DISPLAY
DESCRIPTION:Albertus Magnus vs. Lasell
END:VALARM
END:VEVENT
BEGIN:VEVENT
UID:gnac-14856524-20130928@quickscores.com
DTSTAMP:20260420T161100Z
DTSTART;TZID=America/New_York:20130928
SUMMARY:Lasell vs. Suffolk
DESCRIPTION:2013 Men's Soccer - Great Northeast Athletic Conference
LOCATION:Taylor Field at Lasell College
CATEGORIES:QuickScores, Soccer Game
TRANSP:OPAQUE
BEGIN:VALARM
TRIGGER:-PT2H
ACTION:DISPLAY
DESCRIPTION:Lasell vs. Suffolk
END:VALARM
END:VEVENT
BEGIN:VEVENT
UID:gnac-14856526-20131006@quickscores.com
DTSTAMP:20260420T161100Z
DTSTART;TZID=America/New_York:20131006
SUMMARY:Mount Ida vs. Lasell
DESCRIPTION:IDA has home football Saturday --- 2013 Men's Soccer - Great Northeast Athletic Conference
LOCATION:Mount Ida
CATEGORIES:QuickScores, Soccer Game
TRANSP:OPAQUE
BEGIN:VALARM
TRIGGER:-PT2H
ACTION:DISPLAY
DESCRIPTION:Mount Ida vs. Lasell
END:VALARM
END:VEVENT
BEGIN:VEVENT
UID:gnac-14856545-20131012@quickscores.com
DTSTAMP:20260420T161100Z
DTSTART;TZID=America/New_York:20131012
SUMMARY:Johnson & Wales vs. Lasell
DESCRIPTION:2013 LAS can share a bus w WS --- 2013 Men's Soccer - Great Northeast Athletic Conference
LOCATION:Providence, RI
CATEGORIES:QuickScores, Soccer Game
TRANSP:OPAQUE
BEGIN:VALARM
TRIGGER:-PT2H
ACTION:DISPLAY
DESCRIPTION:Johnson & Wales vs. Lasell
END:VALARM
END:VEVENT
BEGIN:VEVENT
UID:gnac-14856487-20131014@quickscores.com
DTSTAMP:20260420T161100Z
DTSTART;TZID=America/New_York:20131014
SUMMARY:Norwich vs. Lasell
DESCRIPTION:NO DH possible. NOR WS @ LAS. --- 2013 Men's Soccer - Great Northeast Athletic Conference
LOCATION:Northfield, VT
CATEGORIES:QuickScores, Soccer Game
TRANSP:OPAQUE
BEGIN:VALARM
TRIGGER:-PT2H
ACTION:DISPLAY
DESCRIPTION:Norwich vs. Lasell
END:VALARM
END:VEVENT
BEGIN:VEVENT
UID:gnac-14856530-20131019@quickscores.com
DTSTAMP:20260420T161100Z
DTSTART;TZID=America/New_York:20131019
SUMMARY:Lasell vs. Emmanuel
DESCRIPTION:2013 Men's Soccer - Great Northeast Athletic Conference
LOCATION:Taylor Field at Lasell College
CATEGORIES:QuickScores, Soccer Game
TRANSP:OPAQUE
BEGIN:VALARM
TRIGGER:-PT2H
ACTION:DISPLAY
DESCRIPTION:Lasell vs. Emmanuel
END:VALARM
END:VEVENT
BEGIN:VEVENT
UID:gnac-14856503-20131023@quickscores.com
DTSTAMP:20260420T161100Z
DTSTART;TZID=America/New_York:20131023
SUMMARY:Rivier vs. Lasell
DESCRIPTION:LAS can share a bus w WVB --- 2013 Men's Soccer - Great Northeast Athletic Conference
LOCATION:Nashua, NH
CATEGORIES:QuickScores, Soccer Game
TRANSP:OPAQUE
BEGIN:VALARM
TRIGGER:-PT2H
ACTION:DISPLAY
DESCRIPTION:Rivier vs. Lasell
END:VALARM
END:VEVENT
BEGIN:VEVENT
UID:gnac-14856513-20131026@quickscores.com
DTSTAMP:20260420T161100Z
DTSTART;TZID=America/New_York:20131026
SUMMARY:Lasell vs. Saint Joseph ME
DESCRIPTION:DH. STJME MS &WS can share a bus --- 2013 Men's Soccer - Great Northeast Athletic Conference
LOCATION:Taylor Field at Lasell College
CATEGORIES:QuickScores, Soccer Game
TRANSP:OPAQUE
BEGIN:VALARM
TRIGGER:-PT2H
ACTION:DISPLAY
DESCRIPTION:Lasell vs. Saint Joseph ME
END:VALARM
END:VEVENT
END:VCALENDAR
