BEGIN:VCALENDAR
VERSION:2.0
PRODID:-//QuickScores.com//BQ Dynamic iCal Creator//EN
METHOD:PUBLISH
X-WR-CALNAME:Johnson &amp; Wales - 2013 Men&#039;s Soccer - Fall 2013
X-WR-CALDESC:QuickScores game calendar
X-PUBLISHED-TTL:PT24H
REFRESH-INTERVAL;VALUE=DURATION:PT24H
CALSCALE:GREGORIAN
BEGIN:VTIMEZONE
TZID:America/New_York
X-LIC-LOCATION:America/New_York
BEGIN:DAYLIGHT
TZNAME:EDT
TZOFFSETFROM:-0500
TZOFFSETTO:-0400
DTSTART:19700308T020000
RRULE:FREQ=YEARLY;BYMONTH=3;BYDAY=2SU
END:DAYLIGHT
BEGIN:STANDARD
TZNAME:EST
TZOFFSETFROM:-0400
TZOFFSETTO:-0500
DTSTART:19701101T020000
RRULE:FREQ=YEARLY;BYMONTH=11;BYDAY=1SU
END:STANDARD
END:VTIMEZONE
BEGIN:VEVENT
UID:gnac-14856539-20130914@quickscores.com
DTSTAMP:20260420T161700Z
DTSTART;TZID=America/New_York:20130914
SUMMARY:Rivier vs. Johnson & Wales
DESCRIPTION:2013 Men's Soccer - Great Northeast Athletic Conference
LOCATION:Nashua, NH
CATEGORIES:QuickScores, Soccer Game
TRANSP:OPAQUE
BEGIN:VALARM
TRIGGER:-PT2H
ACTION:DISPLAY
DESCRIPTION:Rivier vs. Johnson & Wales
END:VALARM
END:VEVENT
BEGIN:VEVENT
UID:gnac-14856480-20130921@quickscores.com
DTSTAMP:20260420T161700Z
DTSTART;TZID=America/New_York:20130921
SUMMARY:Emmanuel vs. Johnson & Wales
DESCRIPTION:2013 Men's Soccer - Great Northeast Athletic Conference
LOCATION:Roberto Clemente Field
CATEGORIES:QuickScores, Soccer Game
TRANSP:OPAQUE
BEGIN:VALARM
TRIGGER:-PT2H
ACTION:DISPLAY
DESCRIPTION:Emmanuel vs. Johnson & Wales
END:VALARM
END:VEVENT
BEGIN:VEVENT
UID:gnac-14856482-20130928@quickscores.com
DTSTAMP:20260420T161700Z
DTSTART;TZID=America/New_York:20130928
SUMMARY:Johnson & Wales vs. Norwich
DESCRIPTION:NOR MS&WS can share a bus --- 2013 Men's Soccer - Great Northeast Athletic Conference
LOCATION:Providence, RI
CATEGORIES:QuickScores, Soccer Game
TRANSP:OPAQUE
BEGIN:VALARM
TRIGGER:-PT2H
ACTION:DISPLAY
DESCRIPTION:Johnson & Wales vs. Norwich
END:VALARM
END:VEVENT
BEGIN:VEVENT
UID:gnac-14856519-20131005@quickscores.com
DTSTAMP:20260420T161700Z
DTSTART;TZID=America/New_York:20131005
SUMMARY:Johnson & Wales vs. Suffolk
DESCRIPTION:2013 Men's Soccer - Great Northeast Athletic Conference
LOCATION:Providence, RI
CATEGORIES:QuickScores, Soccer Game
TRANSP:OPAQUE
BEGIN:VALARM
TRIGGER:-PT2H
ACTION:DISPLAY
DESCRIPTION:Johnson & Wales vs. Suffolk
END:VALARM
END:VEVENT
BEGIN:VEVENT
UID:gnac-14856545-20131012@quickscores.com
DTSTAMP:20260420T161700Z
DTSTART;TZID=America/New_York:20131012
SUMMARY:Johnson & Wales vs. Lasell
DESCRIPTION:2013 LAS can share a bus w WS --- 2013 Men's Soccer - Great Northeast Athletic Conference
LOCATION:Providence, RI
CATEGORIES:QuickScores, Soccer Game
TRANSP:OPAQUE
BEGIN:VALARM
TRIGGER:-PT2H
ACTION:DISPLAY
DESCRIPTION:Johnson & Wales vs. Lasell
END:VALARM
END:VEVENT
BEGIN:VEVENT
UID:gnac-14856531-20131014@quickscores.com
DTSTAMP:20260420T161700Z
DTSTART;TZID=America/New_York:20131014
SUMMARY:Mount Ida vs. Johnson & Wales
DESCRIPTION:2013 Columbus Day --- 2013 Men's Soccer - Great Northeast Athletic Conference
LOCATION:Mount Ida
CATEGORIES:QuickScores, Soccer Game
TRANSP:OPAQUE
BEGIN:VALARM
TRIGGER:-PT2H
ACTION:DISPLAY
DESCRIPTION:Mount Ida vs. Johnson & Wales
END:VALARM
END:VEVENT
BEGIN:VEVENT
UID:gnac-14856532-20131019@quickscores.com
DTSTAMP:20260420T161700Z
DTSTART;TZID=America/New_York:20131019
SUMMARY:Johnson & Wales vs. Saint Joseph ME
DESCRIPTION:No doubleheader possible with WS. Opposite sites --- 2013 Men's Soccer - Great Northeast Athletic Conference
LOCATION:Providence, RI
CATEGORIES:QuickScores, Soccer Game
TRANSP:OPAQUE
BEGIN:VALARM
TRIGGER:-PT2H
ACTION:DISPLAY
DESCRIPTION:Johnson & Wales vs. Saint Joseph ME
END:VALARM
END:VEVENT
BEGIN:VEVENT
UID:gnac-14856510-20131023@quickscores.com
DTSTAMP:20260420T161700Z
DTSTART;TZID=America/New_York:20131023
SUMMARY:Albertus Magnus vs. Johnson & Wales
DESCRIPTION:2013 DH. JWU MS&WVB can share a bus. --- 2013 Men's Soccer - Great Northeast Athletic Conference
LOCATION:New Haven, CT
CATEGORIES:QuickScores, Soccer Game
TRANSP:OPAQUE
BEGIN:VALARM
TRIGGER:-PT2H
ACTION:DISPLAY
DESCRIPTION:Albertus Magnus vs. Johnson & Wales
END:VALARM
END:VEVENT
BEGIN:VEVENT
UID:gnac-14856495-20131026@quickscores.com
DTSTAMP:20260420T161700Z
DTSTART;TZID=America/New_York:20131026
SUMMARY:Johnson & Wales vs. Anna Maria
DESCRIPTION:DH. Anna Maria share a bus w WS --- 2013 Men's Soccer - Great Northeast Athletic Conference
LOCATION:Providence, RI
CATEGORIES:QuickScores, Soccer Game
TRANSP:OPAQUE
BEGIN:VALARM
TRIGGER:-PT2H
ACTION:DISPLAY
DESCRIPTION:Johnson & Wales vs. Anna Maria
END:VALARM
END:VEVENT
END:VCALENDAR
