BEGIN:VCALENDAR
VERSION:2.0
PRODID:-//QuickScores.com//BQ Dynamic iCal Creator//EN
METHOD:PUBLISH
X-WR-CALNAME:Emmanuel - 2013 Men&#039;s Soccer - Fall 2013
X-WR-CALDESC:QuickScores game calendar
X-PUBLISHED-TTL:PT24H
REFRESH-INTERVAL;VALUE=DURATION:PT24H
CALSCALE:GREGORIAN
BEGIN:VTIMEZONE
TZID:America/New_York
X-LIC-LOCATION:America/New_York
BEGIN:DAYLIGHT
TZNAME:EDT
TZOFFSETFROM:-0500
TZOFFSETTO:-0400
DTSTART:19700308T020000
RRULE:FREQ=YEARLY;BYMONTH=3;BYDAY=2SU
END:DAYLIGHT
BEGIN:STANDARD
TZNAME:EST
TZOFFSETFROM:-0400
TZOFFSETTO:-0500
DTSTART:19701101T020000
RRULE:FREQ=YEARLY;BYMONTH=11;BYDAY=1SU
END:STANDARD
END:VTIMEZONE
BEGIN:VEVENT
UID:gnac-14856541-20130914@quickscores.com
DTSTAMP:20260420T130200Z
DTSTART;TZID=America/New_York:20130914
SUMMARY:Emmanuel vs. Mount Ida
DESCRIPTION:IDA has home football --- 2013 Men's Soccer - Great Northeast Athletic Conference
LOCATION:Roberto Clemente Field
CATEGORIES:QuickScores, Soccer Game
TRANSP:OPAQUE
BEGIN:VALARM
TRIGGER:-PT2H
ACTION:DISPLAY
DESCRIPTION:Emmanuel vs. Mount Ida
END:VALARM
END:VEVENT
BEGIN:VEVENT
UID:gnac-14856480-20130921@quickscores.com
DTSTAMP:20260420T130200Z
DTSTART;TZID=America/New_York:20130921
SUMMARY:Emmanuel vs. Johnson & Wales
DESCRIPTION:2013 Men's Soccer - Great Northeast Athletic Conference
LOCATION:Roberto Clemente Field
CATEGORIES:QuickScores, Soccer Game
TRANSP:OPAQUE
BEGIN:VALARM
TRIGGER:-PT2H
ACTION:DISPLAY
DESCRIPTION:Emmanuel vs. Johnson & Wales
END:VALARM
END:VEVENT
BEGIN:VEVENT
UID:gnac-14856507-20130928@quickscores.com
DTSTAMP:20260420T130200Z
DTSTART;TZID=America/New_York:20130928
SUMMARY:Rivier vs. Emmanuel
DESCRIPTION:2013 Men's Soccer - Great Northeast Athletic Conference
LOCATION:Nashua, NH
CATEGORIES:QuickScores, Soccer Game
TRANSP:OPAQUE
BEGIN:VALARM
TRIGGER:-PT2H
ACTION:DISPLAY
DESCRIPTION:Rivier vs. Emmanuel
END:VALARM
END:VEVENT
BEGIN:VEVENT
UID:gnac-14856499-20131005@quickscores.com
DTSTAMP:20260420T130200Z
DTSTART;TZID=America/New_York:20131005
SUMMARY:Norwich vs. Emmanuel
DESCRIPTION:2013 DH. EMM can share a bus w WS --- 2013 Men's Soccer - Great Northeast Athletic Conference
LOCATION:Northfield, VT
CATEGORIES:QuickScores, Soccer Game
TRANSP:OPAQUE
BEGIN:VALARM
TRIGGER:-PT2H
ACTION:DISPLAY
DESCRIPTION:Norwich vs. Emmanuel
END:VALARM
END:VEVENT
BEGIN:VEVENT
UID:gnac-14856501-20131012@quickscores.com
DTSTAMP:20260420T130200Z
DTSTART;TZID=America/New_York:20131012
SUMMARY:Emmanuel vs. Saint Joseph ME
DESCRIPTION:EMM 2013 Family Weekend. STJME can share a bus w WS --- 2013 Men's Soccer - Great Northeast Athletic Conference
LOCATION:Roberto Clemente Field
CATEGORIES:QuickScores, Soccer Game
TRANSP:OPAQUE
BEGIN:VALARM
TRIGGER:-PT2H
ACTION:DISPLAY
DESCRIPTION:Emmanuel vs. Saint Joseph ME
END:VALARM
END:VEVENT
BEGIN:VEVENT
UID:gnac-14856475-20131014@quickscores.com
DTSTAMP:20260420T130200Z
DTSTART;TZID=America/New_York:20131014
SUMMARY:Anna Maria vs. Emmanuel
DESCRIPTION:2013 DH share a bus w WS --- 2013 Men's Soccer - Great Northeast Athletic Conference
LOCATION:Paxton MA
CATEGORIES:QuickScores, Soccer Game
TRANSP:OPAQUE
BEGIN:VALARM
TRIGGER:-PT2H
ACTION:DISPLAY
DESCRIPTION:Anna Maria vs. Emmanuel
END:VALARM
END:VEVENT
BEGIN:VEVENT
UID:gnac-14856530-20131019@quickscores.com
DTSTAMP:20260420T130200Z
DTSTART;TZID=America/New_York:20131019
SUMMARY:Lasell vs. Emmanuel
DESCRIPTION:2013 Men's Soccer - Great Northeast Athletic Conference
LOCATION:Taylor Field at Lasell College
CATEGORIES:QuickScores, Soccer Game
TRANSP:OPAQUE
BEGIN:VALARM
TRIGGER:-PT2H
ACTION:DISPLAY
DESCRIPTION:Lasell vs. Emmanuel
END:VALARM
END:VEVENT
BEGIN:VEVENT
UID:gnac-14856506-20131023@quickscores.com
DTSTAMP:20260420T130200Z
DTSTART;TZID=America/New_York:20131023
SUMMARY:Emmanuel vs. Suffolk
DESCRIPTION:2013 Men's Soccer - Great Northeast Athletic Conference
LOCATION:Roberto Clemente Field
CATEGORIES:QuickScores, Soccer Game
TRANSP:OPAQUE
BEGIN:VALARM
TRIGGER:-PT2H
ACTION:DISPLAY
DESCRIPTION:Emmanuel vs. Suffolk
END:VALARM
END:VEVENT
BEGIN:VEVENT
UID:gnac-14856523-20131026@quickscores.com
DTSTAMP:20260420T130200Z
DTSTART;TZID=America/New_York:20131026
SUMMARY:Emmanuel vs. Albertus Magnus
DESCRIPTION:2013 DH. AMC can share a bus with WS --- 2013 Men's Soccer - Great Northeast Athletic Conference
LOCATION:Roberto Clemente Field
CATEGORIES:QuickScores, Soccer Game
TRANSP:OPAQUE
BEGIN:VALARM
TRIGGER:-PT2H
ACTION:DISPLAY
DESCRIPTION:Emmanuel vs. Albertus Magnus
END:VALARM
END:VEVENT
END:VCALENDAR
