BEGIN:VCALENDAR
VERSION:2.0
PRODID:-//QuickScores.com//BQ Dynamic iCal Creator//EN
METHOD:PUBLISH
X-WR-CALNAME:Suffolk - 2012 Men&#039;s Soccer - Fall 2012
X-WR-CALDESC:QuickScores game calendar
X-PUBLISHED-TTL:PT24H
REFRESH-INTERVAL;VALUE=DURATION:PT24H
CALSCALE:GREGORIAN
BEGIN:VTIMEZONE
TZID:America/New_York
X-LIC-LOCATION:America/New_York
BEGIN:DAYLIGHT
TZNAME:EDT
TZOFFSETFROM:-0500
TZOFFSETTO:-0400
DTSTART:19700308T020000
RRULE:FREQ=YEARLY;BYMONTH=3;BYDAY=2SU
END:DAYLIGHT
BEGIN:STANDARD
TZNAME:EST
TZOFFSETFROM:-0400
TZOFFSETTO:-0500
DTSTART:19701101T020000
RRULE:FREQ=YEARLY;BYMONTH=11;BYDAY=1SU
END:STANDARD
END:VTIMEZONE
BEGIN:VEVENT
UID:gnac-11057048-20120908@quickscores.com
DTSTAMP:20260420T183500Z
DTSTART;TZID=America/New_York:20120908
SUMMARY:Suffolk vs. Anna Maria
DESCRIPTION:Anna Maria MS could share a bus w WS going to LAS --- 2012 Men's Soccer - Great Northeast Athletic Conference
LOCATION:Dilboy Stadium Somerville
CATEGORIES:QuickScores, Soccer Game
TRANSP:OPAQUE
BEGIN:VALARM
TRIGGER:-PT2H
ACTION:DISPLAY
DESCRIPTION:Suffolk vs. Anna Maria
END:VALARM
END:VEVENT
BEGIN:VEVENT
UID:gnac-11057062-20120912@quickscores.com
DTSTAMP:20260420T183500Z
DTSTART;TZID=America/New_York:20120912
SUMMARY:Mount Ida vs. Suffolk
DESCRIPTION:IDA has home football on Saturday 10/6/12 and all GNAC schools have Columbus Day Monday games --- 2012 Men's Soccer - Great Northeast Athletic Conference
LOCATION:Mount Ida
CATEGORIES:QuickScores, Soccer Game
TRANSP:OPAQUE
BEGIN:VALARM
TRIGGER:-PT2H
ACTION:DISPLAY
DESCRIPTION:Mount Ida vs. Suffolk
END:VALARM
END:VEVENT
BEGIN:VEVENT
UID:gnac-11057066-20120915@quickscores.com
DTSTAMP:20260420T183500Z
DTSTART;TZID=America/New_York:20120915
SUMMARY:Norwich vs. Suffolk
DESCRIPTION:2012 DH. MS & WS can share bus --- 2012 Men's Soccer - Great Northeast Athletic Conference
LOCATION:Northfield, VT
CATEGORIES:QuickScores, Soccer Game
TRANSP:OPAQUE
BEGIN:VALARM
TRIGGER:-PT2H
ACTION:DISPLAY
DESCRIPTION:Norwich vs. Suffolk
END:VALARM
END:VEVENT
BEGIN:VEVENT
UID:gnac-11057087-20120919@quickscores.com
DTSTAMP:20260420T183500Z
DTSTART;TZID=America/New_York:20120919
SUMMARY:Suffolk vs. Emmanuel
DESCRIPTION:2012 Men's Soccer - Great Northeast Athletic Conference
LOCATION:Dilboy Stadium Somerville
CATEGORIES:QuickScores, Soccer Game
TRANSP:OPAQUE
BEGIN:VALARM
TRIGGER:-PT2H
ACTION:DISPLAY
DESCRIPTION:Suffolk vs. Emmanuel
END:VALARM
END:VEVENT
BEGIN:VEVENT
UID:gnac-11057100-20120922@quickscores.com
DTSTAMP:20260420T183500Z
DTSTART;TZID=America/New_York:20120922
SUMMARY:Suffolk vs. Johnson & Wales
DESCRIPTION:2012 Men's Soccer - Great Northeast Athletic Conference
LOCATION:Dilboy Stadium Somerville
CATEGORIES:QuickScores, Soccer Game
TRANSP:OPAQUE
BEGIN:VALARM
TRIGGER:-PT2H
ACTION:DISPLAY
DESCRIPTION:Suffolk vs. Johnson & Wales
END:VALARM
END:VEVENT
BEGIN:VEVENT
UID:gnac-11057114-20120925@quickscores.com
DTSTAMP:20260420T183500Z
DTSTART;TZID=America/New_York:20120925
SUMMARY:Saint Joseph ME vs. Suffolk
DESCRIPTION:2012 Men's Soccer - Great Northeast Athletic Conference
LOCATION:Standish ME
CATEGORIES:QuickScores, Soccer Game
TRANSP:OPAQUE
BEGIN:VALARM
TRIGGER:-PT2H
ACTION:DISPLAY
DESCRIPTION:Saint Joseph ME vs. Suffolk
END:VALARM
END:VEVENT
BEGIN:VEVENT
UID:gnac-11057115-20120929@quickscores.com
DTSTAMP:20260420T183500Z
DTSTART;TZID=America/New_York:20120929
SUMMARY:Emerson vs. Suffolk
DESCRIPTION:2012 Men's Soccer - Great Northeast Athletic Conference
LOCATION:Rotch Field
CATEGORIES:QuickScores, Soccer Game
TRANSP:OPAQUE
BEGIN:VALARM
TRIGGER:-PT2H
ACTION:DISPLAY
DESCRIPTION:Emerson vs. Suffolk
END:VALARM
END:VEVENT
BEGIN:VEVENT
UID:gnac-11057092-20121008@quickscores.com
DTSTAMP:20260420T183500Z
DTSTART;TZID=America/New_York:20121008
SUMMARY:Albertus Magnus vs. Suffolk
DESCRIPTION:Columbus Day 2012. Triple Header WVB, MS & WS can share a bus --- 2012 Men's Soccer - Great Northeast Athletic Conference
LOCATION:New Haven, CT
CATEGORIES:QuickScores, Soccer Game
TRANSP:OPAQUE
BEGIN:VALARM
TRIGGER:-PT2H
ACTION:DISPLAY
DESCRIPTION:Albertus Magnus vs. Suffolk
END:VALARM
END:VEVENT
BEGIN:VEVENT
UID:gnac-11057105-20121017@quickscores.com
DTSTAMP:20260420T183500Z
DTSTART;TZID=America/New_York:20121017
SUMMARY:Suffolk vs. Lasell
DESCRIPTION:2012 Men's Soccer - Great Northeast Athletic Conference
LOCATION:Dilboy Stadium Somerville
CATEGORIES:QuickScores, Soccer Game
TRANSP:OPAQUE
BEGIN:VALARM
TRIGGER:-PT2H
ACTION:DISPLAY
DESCRIPTION:Suffolk vs. Lasell
END:VALARM
END:VEVENT
BEGIN:VEVENT
UID:gnac-11057109-20121020@quickscores.com
DTSTAMP:20260420T183500Z
DTSTART;TZID=America/New_York:20121020
SUMMARY:Suffolk vs. Rivier
DESCRIPTION:SUF Family Weekend --- 2012 Men's Soccer - Great Northeast Athletic Conference
LOCATION:Dilboy Stadium Somerville
CATEGORIES:QuickScores, Soccer Game
TRANSP:OPAQUE
BEGIN:VALARM
TRIGGER:-PT2H
ACTION:DISPLAY
DESCRIPTION:Suffolk vs. Rivier
END:VALARM
END:VEVENT
END:VCALENDAR
