BEGIN:VCALENDAR
VERSION:2.0
PRODID:-//QuickScores.com//BQ Dynamic iCal Creator//EN
METHOD:PUBLISH
X-WR-CALNAME:Rivier - 2012 Men&#039;s Soccer - Fall 2012
X-WR-CALDESC:QuickScores game calendar
X-PUBLISHED-TTL:PT24H
REFRESH-INTERVAL;VALUE=DURATION:PT24H
CALSCALE:GREGORIAN
BEGIN:VTIMEZONE
TZID:America/New_York
X-LIC-LOCATION:America/New_York
BEGIN:DAYLIGHT
TZNAME:EDT
TZOFFSETFROM:-0500
TZOFFSETTO:-0400
DTSTART:19700308T020000
RRULE:FREQ=YEARLY;BYMONTH=3;BYDAY=2SU
END:DAYLIGHT
BEGIN:STANDARD
TZNAME:EST
TZOFFSETFROM:-0400
TZOFFSETTO:-0500
DTSTART:19701101T020000
RRULE:FREQ=YEARLY;BYMONTH=11;BYDAY=1SU
END:STANDARD
END:VTIMEZONE
BEGIN:VEVENT
UID:gnac-11057064-20120908@quickscores.com
DTSTAMP:20260420T075300Z
DTSTART;TZID=America/New_York:20120908
SUMMARY:Rivier vs. Norwich
DESCRIPTION:2012 DH MS & WS could share a bus. --- 2012 Men's Soccer - Great Northeast Athletic Conference
LOCATION:Nashua, NH
CATEGORIES:QuickScores, Soccer Game
TRANSP:OPAQUE
BEGIN:VALARM
TRIGGER:-PT2H
ACTION:DISPLAY
DESCRIPTION:Rivier vs. Norwich
END:VALARM
END:VEVENT
BEGIN:VEVENT
UID:gnac-11057052-20120915@quickscores.com
DTSTAMP:20260420T075300Z
DTSTART;TZID=America/New_York:20120915
SUMMARY:Anna Maria vs. Rivier
DESCRIPTION:2012 DH. MS & WS can share a bus --- 2012 Men's Soccer - Great Northeast Athletic Conference
LOCATION:Paxton MA
CATEGORIES:QuickScores, Soccer Game
TRANSP:OPAQUE
BEGIN:VALARM
TRIGGER:-PT2H
ACTION:DISPLAY
DESCRIPTION:Anna Maria vs. Rivier
END:VALARM
END:VEVENT
BEGIN:VEVENT
UID:gnac-11057119-20120922@quickscores.com
DTSTAMP:20260420T075300Z
DTSTART;TZID=America/New_York:20120922
SUMMARY:Rivier vs. Albertus Magnus
DESCRIPTION:No DH possible. Opposite sites --- 2012 Men's Soccer - Great Northeast Athletic Conference
LOCATION:Nashua, NH
CATEGORIES:QuickScores, Soccer Game
TRANSP:OPAQUE
BEGIN:VALARM
TRIGGER:-PT2H
ACTION:DISPLAY
DESCRIPTION:Rivier vs. Albertus Magnus
END:VALARM
END:VEVENT
BEGIN:VEVENT
UID:gnac-11057088-20120925@quickscores.com
DTSTAMP:20260420T075300Z
DTSTART;TZID=America/New_York:20120925
SUMMARY:Emmanuel vs. Rivier
DESCRIPTION:2012 Men's Soccer - Great Northeast Athletic Conference
LOCATION:Roberto Clemente Field
CATEGORIES:QuickScores, Soccer Game
TRANSP:OPAQUE
BEGIN:VALARM
TRIGGER:-PT2H
ACTION:DISPLAY
DESCRIPTION:Emmanuel vs. Rivier
END:VALARM
END:VEVENT
BEGIN:VEVENT
UID:gnac-11057084-20120929@quickscores.com
DTSTAMP:20260420T075300Z
DTSTART;TZID=America/New_York:20120929
SUMMARY:Lasell vs. Rivier
DESCRIPTION:2012 Men's Soccer - Great Northeast Athletic Conference
LOCATION:Lasell Newton
CATEGORIES:QuickScores, Soccer Game
TRANSP:OPAQUE
BEGIN:VALARM
TRIGGER:-PT2H
ACTION:DISPLAY
DESCRIPTION:Lasell vs. Rivier
END:VALARM
END:VEVENT
BEGIN:VEVENT
UID:gnac-11057065-20121003@quickscores.com
DTSTAMP:20260420T075300Z
DTSTART;TZID=America/New_York:20121003
SUMMARY:Rivier vs. Mount Ida
DESCRIPTION:2012 Men's Soccer - Great Northeast Athletic Conference
LOCATION:Nashua, NH
CATEGORIES:QuickScores, Soccer Game
TRANSP:OPAQUE
BEGIN:VALARM
TRIGGER:-PT2H
ACTION:DISPLAY
DESCRIPTION:Rivier vs. Mount Ida
END:VALARM
END:VEVENT
BEGIN:VEVENT
UID:gnac-11057089-20121008@quickscores.com
DTSTAMP:20260420T075300Z
DTSTART;TZID=America/New_York:20121008
SUMMARY:Rivier vs. Emerson
DESCRIPTION:Columbus Day 2012. Triple Header WVB, MS & WS can share a bus --- 2012 Men's Soccer - Great Northeast Athletic Conference
LOCATION:Nashua, NH
CATEGORIES:QuickScores, Soccer Game
TRANSP:OPAQUE
BEGIN:VALARM
TRIGGER:-PT2H
ACTION:DISPLAY
DESCRIPTION:Rivier vs. Emerson
END:VALARM
END:VEVENT
BEGIN:VEVENT
UID:gnac-11057083-20121013@quickscores.com
DTSTAMP:20260420T075300Z
DTSTART;TZID=America/New_York:20121013
SUMMARY:Rivier vs. Saint Joseph ME
DESCRIPTION:2012 DH. MS & WS can share a bus --- 2012 Men's Soccer - Great Northeast Athletic Conference
LOCATION:Nashua, NH
CATEGORIES:QuickScores, Soccer Game
TRANSP:OPAQUE
BEGIN:VALARM
TRIGGER:-PT2H
ACTION:DISPLAY
DESCRIPTION:Rivier vs. Saint Joseph ME
END:VALARM
END:VEVENT
BEGIN:VEVENT
UID:gnac-11057120-20121017@quickscores.com
DTSTAMP:20260420T075300Z
DTSTART;TZID=America/New_York:20121017
SUMMARY:Johnson & Wales vs. Rivier
DESCRIPTION:2012 Men's Soccer - Great Northeast Athletic Conference
LOCATION:Providence, RI
CATEGORIES:QuickScores, Soccer Game
TRANSP:OPAQUE
BEGIN:VALARM
TRIGGER:-PT2H
ACTION:DISPLAY
DESCRIPTION:Johnson & Wales vs. Rivier
END:VALARM
END:VEVENT
BEGIN:VEVENT
UID:gnac-11057109-20121020@quickscores.com
DTSTAMP:20260420T075300Z
DTSTART;TZID=America/New_York:20121020
SUMMARY:Suffolk vs. Rivier
DESCRIPTION:SUF Family Weekend --- 2012 Men's Soccer - Great Northeast Athletic Conference
LOCATION:Dilboy Stadium Somerville
CATEGORIES:QuickScores, Soccer Game
TRANSP:OPAQUE
BEGIN:VALARM
TRIGGER:-PT2H
ACTION:DISPLAY
DESCRIPTION:Suffolk vs. Rivier
END:VALARM
END:VEVENT
END:VCALENDAR
