BEGIN:VCALENDAR
VERSION:2.0
PRODID:-//QuickScores.com//BQ Dynamic iCal Creator//EN
METHOD:PUBLISH
X-WR-CALNAME:Lasell - 2012 Men&#039;s Soccer - Fall 2012
X-WR-CALDESC:QuickScores game calendar
X-PUBLISHED-TTL:PT24H
REFRESH-INTERVAL;VALUE=DURATION:PT24H
CALSCALE:GREGORIAN
BEGIN:VTIMEZONE
TZID:America/New_York
X-LIC-LOCATION:America/New_York
BEGIN:DAYLIGHT
TZNAME:EDT
TZOFFSETFROM:-0500
TZOFFSETTO:-0400
DTSTART:19700308T020000
RRULE:FREQ=YEARLY;BYMONTH=3;BYDAY=2SU
END:DAYLIGHT
BEGIN:STANDARD
TZNAME:EST
TZOFFSETFROM:-0400
TZOFFSETTO:-0500
DTSTART:19701101T020000
RRULE:FREQ=YEARLY;BYMONTH=11;BYDAY=1SU
END:STANDARD
END:VTIMEZONE
BEGIN:VEVENT
UID:gnac-11057111-20120908@quickscores.com
DTSTAMP:20260420T075400Z
DTSTART;TZID=America/New_York:20120908
SUMMARY:Emmanuel vs. Lasell
DESCRIPTION:2012 Men's Soccer - Great Northeast Athletic Conference
LOCATION:Roberto Clemente Field
CATEGORIES:QuickScores, Soccer Game
TRANSP:OPAQUE
BEGIN:VALARM
TRIGGER:-PT2H
ACTION:DISPLAY
DESCRIPTION:Emmanuel vs. Lasell
END:VALARM
END:VEVENT
BEGIN:VEVENT
UID:gnac-11057068-20120919@quickscores.com
DTSTAMP:20260420T075400Z
DTSTART;TZID=America/New_York:20120919
SUMMARY:Lasell vs. Norwich
DESCRIPTION:2012 Men's Soccer - Great Northeast Athletic Conference
LOCATION:Lasell Newton
CATEGORIES:QuickScores, Soccer Game
TRANSP:OPAQUE
BEGIN:VALARM
TRIGGER:-PT2H
ACTION:DISPLAY
DESCRIPTION:Lasell vs. Norwich
END:VALARM
END:VEVENT
BEGIN:VEVENT
UID:gnac-11057107-20120922@quickscores.com
DTSTAMP:20260420T075400Z
DTSTART;TZID=America/New_York:20120922
SUMMARY:Lasell vs. Mount Ida
DESCRIPTION:2012 Men's Soccer - Great Northeast Athletic Conference
LOCATION:Lasell Newton
CATEGORIES:QuickScores, Soccer Game
TRANSP:OPAQUE
BEGIN:VALARM
TRIGGER:-PT2H
ACTION:DISPLAY
DESCRIPTION:Lasell vs. Mount Ida
END:VALARM
END:VEVENT
BEGIN:VEVENT
UID:gnac-11057084-20120929@quickscores.com
DTSTAMP:20260420T075400Z
DTSTART;TZID=America/New_York:20120929
SUMMARY:Lasell vs. Rivier
DESCRIPTION:2012 Men's Soccer - Great Northeast Athletic Conference
LOCATION:Lasell Newton
CATEGORIES:QuickScores, Soccer Game
TRANSP:OPAQUE
BEGIN:VALARM
TRIGGER:-PT2H
ACTION:DISPLAY
DESCRIPTION:Lasell vs. Rivier
END:VALARM
END:VEVENT
BEGIN:VEVENT
UID:gnac-11057106-20121003@quickscores.com
DTSTAMP:20260420T075400Z
DTSTART;TZID=America/New_York:20121003
SUMMARY:Emerson vs. Lasell
DESCRIPTION:2012 Men's Soccer - Great Northeast Athletic Conference
LOCATION:Rotch Field
CATEGORIES:QuickScores, Soccer Game
TRANSP:OPAQUE
BEGIN:VALARM
TRIGGER:-PT2H
ACTION:DISPLAY
DESCRIPTION:Emerson vs. Lasell
END:VALARM
END:VEVENT
BEGIN:VEVENT
UID:gnac-11057057-20121006@quickscores.com
DTSTAMP:20260420T075400Z
DTSTART;TZID=America/New_York:20121006
SUMMARY:Anna Maria vs. Lasell
DESCRIPTION:no DH possible --- 2012 Men's Soccer - Great Northeast Athletic Conference
LOCATION:Paxton MA
CATEGORIES:QuickScores, Soccer Game
TRANSP:OPAQUE
BEGIN:VALARM
TRIGGER:-PT2H
ACTION:DISPLAY
DESCRIPTION:Anna Maria vs. Lasell
END:VALARM
END:VEVENT
BEGIN:VEVENT
UID:gnac-11057126-20121008@quickscores.com
DTSTAMP:20260420T075400Z
DTSTART;TZID=America/New_York:20121008
SUMMARY:Lasell vs. Johnson & Wales
DESCRIPTION:Columbus Day 2012. JWU can share a bus with WS going to EMM --- 2012 Men's Soccer - Great Northeast Athletic Conference
LOCATION:Lasell Newton
CATEGORIES:QuickScores, Soccer Game
TRANSP:OPAQUE
BEGIN:VALARM
TRIGGER:-PT2H
ACTION:DISPLAY
DESCRIPTION:Lasell vs. Johnson & Wales
END:VALARM
END:VEVENT
BEGIN:VEVENT
UID:gnac-11057103-20121013@quickscores.com
DTSTAMP:20260420T075400Z
DTSTART;TZID=America/New_York:20121013
SUMMARY:Lasell vs. Albertus Magnus
DESCRIPTION:LAS Family Weekend 2012. DH MS & WS can share a bus. --- 2012 Men's Soccer - Great Northeast Athletic Conference
LOCATION:Lasell Newton
CATEGORIES:QuickScores, Soccer Game
TRANSP:OPAQUE
BEGIN:VALARM
TRIGGER:-PT2H
ACTION:DISPLAY
DESCRIPTION:Lasell vs. Albertus Magnus
END:VALARM
END:VEVENT
BEGIN:VEVENT
UID:gnac-11057105-20121017@quickscores.com
DTSTAMP:20260420T075400Z
DTSTART;TZID=America/New_York:20121017
SUMMARY:Suffolk vs. Lasell
DESCRIPTION:2012 Men's Soccer - Great Northeast Athletic Conference
LOCATION:Dilboy Stadium Somerville
CATEGORIES:QuickScores, Soccer Game
TRANSP:OPAQUE
BEGIN:VALARM
TRIGGER:-PT2H
ACTION:DISPLAY
DESCRIPTION:Suffolk vs. Lasell
END:VALARM
END:VEVENT
BEGIN:VEVENT
UID:gnac-11057094-20121020@quickscores.com
DTSTAMP:20260420T075400Z
DTSTART;TZID=America/New_York:20121020
SUMMARY:Saint Joseph ME vs. Lasell
DESCRIPTION:2012 STJME Homecoming. DH LAS MS &WS can share a bus --- 2012 Men's Soccer - Great Northeast Athletic Conference
LOCATION:Standish ME
CATEGORIES:QuickScores, Soccer Game
TRANSP:OPAQUE
BEGIN:VALARM
TRIGGER:-PT2H
ACTION:DISPLAY
DESCRIPTION:Saint Joseph ME vs. Lasell
END:VALARM
END:VEVENT
END:VCALENDAR
