BEGIN:VCALENDAR
VERSION:2.0
PRODID:-//QuickScores.com//BQ Dynamic iCal Creator//EN
METHOD:PUBLISH
X-WR-CALNAME:Emerson - 2012 Men&#039;s Soccer - Fall 2012
X-WR-CALDESC:QuickScores game calendar
X-PUBLISHED-TTL:PT24H
REFRESH-INTERVAL;VALUE=DURATION:PT24H
CALSCALE:GREGORIAN
BEGIN:VTIMEZONE
TZID:America/New_York
X-LIC-LOCATION:America/New_York
BEGIN:DAYLIGHT
TZNAME:EDT
TZOFFSETFROM:-0500
TZOFFSETTO:-0400
DTSTART:19700308T020000
RRULE:FREQ=YEARLY;BYMONTH=3;BYDAY=2SU
END:DAYLIGHT
BEGIN:STANDARD
TZNAME:EST
TZOFFSETFROM:-0400
TZOFFSETTO:-0500
DTSTART:19701101T020000
RRULE:FREQ=YEARLY;BYMONTH=11;BYDAY=1SU
END:STANDARD
END:VTIMEZONE
BEGIN:VEVENT
UID:gnac-11057097-20120915@quickscores.com
DTSTAMP:20260420T074900Z
DTSTART;TZID=America/New_York:20120915
SUMMARY:Emerson vs. Albertus Magnus
DESCRIPTION:EME 2012 Homecoming. AMC MS, WS and WT can share a bus --- 2012 Men's Soccer - Great Northeast Athletic Conference
LOCATION:Rotch Field
CATEGORIES:QuickScores, Soccer Game
TRANSP:OPAQUE
BEGIN:VALARM
TRIGGER:-PT2H
ACTION:DISPLAY
DESCRIPTION:Emerson vs. Albertus Magnus
END:VALARM
END:VEVENT
BEGIN:VEVENT
UID:gnac-11057101-20120922@quickscores.com
DTSTAMP:20260420T074900Z
DTSTART;TZID=America/New_York:20120922
SUMMARY:Saint Joseph ME vs. Emerson
DESCRIPTION:STJME Homecoming. DH MS & WS can share a bus --- 2012 Men's Soccer - Great Northeast Athletic Conference
LOCATION:Standish ME
CATEGORIES:QuickScores, Soccer Game
TRANSP:OPAQUE
BEGIN:VALARM
TRIGGER:-PT2H
ACTION:DISPLAY
DESCRIPTION:Saint Joseph ME vs. Emerson
END:VALARM
END:VEVENT
BEGIN:VEVENT
UID:gnac-11057081-20120925@quickscores.com
DTSTAMP:20260420T074900Z
DTSTART;TZID=America/New_York:20120925
SUMMARY:Johnson & Wales vs. Emerson
DESCRIPTION:2012 Men's Soccer - Great Northeast Athletic Conference
LOCATION:Providence, RI
CATEGORIES:QuickScores, Soccer Game
TRANSP:OPAQUE
BEGIN:VALARM
TRIGGER:-PT2H
ACTION:DISPLAY
DESCRIPTION:Johnson & Wales vs. Emerson
END:VALARM
END:VEVENT
BEGIN:VEVENT
UID:gnac-11057115-20120929@quickscores.com
DTSTAMP:20260420T074900Z
DTSTART;TZID=America/New_York:20120929
SUMMARY:Emerson vs. Suffolk
DESCRIPTION:2012 Men's Soccer - Great Northeast Athletic Conference
LOCATION:Rotch Field
CATEGORIES:QuickScores, Soccer Game
TRANSP:OPAQUE
BEGIN:VALARM
TRIGGER:-PT2H
ACTION:DISPLAY
DESCRIPTION:Emerson vs. Suffolk
END:VALARM
END:VEVENT
BEGIN:VEVENT
UID:gnac-11057106-20121003@quickscores.com
DTSTAMP:20260420T074900Z
DTSTART;TZID=America/New_York:20121003
SUMMARY:Emerson vs. Lasell
DESCRIPTION:2012 Men's Soccer - Great Northeast Athletic Conference
LOCATION:Rotch Field
CATEGORIES:QuickScores, Soccer Game
TRANSP:OPAQUE
BEGIN:VALARM
TRIGGER:-PT2H
ACTION:DISPLAY
DESCRIPTION:Emerson vs. Lasell
END:VALARM
END:VEVENT
BEGIN:VEVENT
UID:gnac-11057096-20121006@quickscores.com
DTSTAMP:20260420T074900Z
DTSTART;TZID=America/New_York:20121006
SUMMARY:Emmanuel vs. Emerson
DESCRIPTION:2012 Men's Soccer - Great Northeast Athletic Conference
LOCATION:Roberto Clemente Field
CATEGORIES:QuickScores, Soccer Game
TRANSP:OPAQUE
BEGIN:VALARM
TRIGGER:-PT2H
ACTION:DISPLAY
DESCRIPTION:Emmanuel vs. Emerson
END:VALARM
END:VEVENT
BEGIN:VEVENT
UID:gnac-11057089-20121008@quickscores.com
DTSTAMP:20260420T074900Z
DTSTART;TZID=America/New_York:20121008
SUMMARY:Rivier vs. Emerson
DESCRIPTION:Columbus Day 2012. Triple Header WVB, MS & WS can share a bus --- 2012 Men's Soccer - Great Northeast Athletic Conference
LOCATION:Nashua, NH
CATEGORIES:QuickScores, Soccer Game
TRANSP:OPAQUE
BEGIN:VALARM
TRIGGER:-PT2H
ACTION:DISPLAY
DESCRIPTION:Rivier vs. Emerson
END:VALARM
END:VEVENT
BEGIN:VEVENT
UID:gnac-11057124-20121013@quickscores.com
DTSTAMP:20260420T074900Z
DTSTART;TZID=America/New_York:20121013
SUMMARY:Emerson vs. Norwich
DESCRIPTION:2012 DH. MS&WS can share a bus --- 2012 Men's Soccer - Great Northeast Athletic Conference
LOCATION:Rotch Field
CATEGORIES:QuickScores, Soccer Game
TRANSP:OPAQUE
BEGIN:VALARM
TRIGGER:-PT2H
ACTION:DISPLAY
DESCRIPTION:Emerson vs. Norwich
END:VALARM
END:VEVENT
BEGIN:VEVENT
UID:gnac-11057060-20121017@quickscores.com
DTSTAMP:20260420T074900Z
DTSTART;TZID=America/New_York:20121017
SUMMARY:Emerson vs. Anna Maria
DESCRIPTION:2012 Men's Soccer - Great Northeast Athletic Conference
LOCATION:Rotch Field
CATEGORIES:QuickScores, Soccer Game
TRANSP:OPAQUE
BEGIN:VALARM
TRIGGER:-PT2H
ACTION:DISPLAY
DESCRIPTION:Emerson vs. Anna Maria
END:VALARM
END:VEVENT
BEGIN:VEVENT
UID:gnac-11057067-20121021@quickscores.com
DTSTAMP:20260420T074900Z
DTSTART;TZID=America/New_York:20121021
SUMMARY:Mount Ida vs. Emerson
DESCRIPTION:IDA has home football on Saturday --- 2012 Men's Soccer - Great Northeast Athletic Conference
LOCATION:Mount Ida
CATEGORIES:QuickScores, Soccer Game
TRANSP:OPAQUE
BEGIN:VALARM
TRIGGER:-PT2H
ACTION:DISPLAY
DESCRIPTION:Mount Ida vs. Emerson
END:VALARM
END:VEVENT
END:VCALENDAR
