BEGIN:VCALENDAR
VERSION:2.0
PRODID:-//QuickScores.com//BQ Dynamic iCal Creator//EN
METHOD:PUBLISH
X-WR-CALNAME:Anna Maria - 2012 Men&#039;s Soccer - Fall 2012
X-WR-CALDESC:QuickScores game calendar
X-PUBLISHED-TTL:PT24H
REFRESH-INTERVAL;VALUE=DURATION:PT24H
CALSCALE:GREGORIAN
BEGIN:VTIMEZONE
TZID:America/New_York
X-LIC-LOCATION:America/New_York
BEGIN:DAYLIGHT
TZNAME:EDT
TZOFFSETFROM:-0500
TZOFFSETTO:-0400
DTSTART:19700308T020000
RRULE:FREQ=YEARLY;BYMONTH=3;BYDAY=2SU
END:DAYLIGHT
BEGIN:STANDARD
TZNAME:EST
TZOFFSETFROM:-0400
TZOFFSETTO:-0500
DTSTART:19701101T020000
RRULE:FREQ=YEARLY;BYMONTH=11;BYDAY=1SU
END:STANDARD
END:VTIMEZONE
BEGIN:VEVENT
UID:gnac-11057048-20120908@quickscores.com
DTSTAMP:20260420T075100Z
DTSTART;TZID=America/New_York:20120908
SUMMARY:Suffolk vs. Anna Maria
DESCRIPTION:Anna Maria MS could share a bus w WS going to LAS --- 2012 Men's Soccer - Great Northeast Athletic Conference
LOCATION:Dilboy Stadium Somerville
CATEGORIES:QuickScores, Soccer Game
TRANSP:OPAQUE
BEGIN:VALARM
TRIGGER:-PT2H
ACTION:DISPLAY
DESCRIPTION:Suffolk vs. Anna Maria
END:VALARM
END:VEVENT
BEGIN:VEVENT
UID:gnac-11057052-20120915@quickscores.com
DTSTAMP:20260420T075100Z
DTSTART;TZID=America/New_York:20120915
SUMMARY:Anna Maria vs. Rivier
DESCRIPTION:2012 DH. MS & WS can share a bus --- 2012 Men's Soccer - Great Northeast Athletic Conference
LOCATION:Paxton MA
CATEGORIES:QuickScores, Soccer Game
TRANSP:OPAQUE
BEGIN:VALARM
TRIGGER:-PT2H
ACTION:DISPLAY
DESCRIPTION:Anna Maria vs. Rivier
END:VALARM
END:VEVENT
BEGIN:VEVENT
UID:gnac-11057078-20120919@quickscores.com
DTSTAMP:20260420T075100Z
DTSTART;TZID=America/New_York:20120919
SUMMARY:Anna Maria vs. Albertus Magnus
DESCRIPTION:AMC can share a bus w WS --- 2012 Men's Soccer - Great Northeast Athletic Conference
LOCATION:Paxton MA
CATEGORIES:QuickScores, Soccer Game
TRANSP:OPAQUE
BEGIN:VALARM
TRIGGER:-PT2H
ACTION:DISPLAY
DESCRIPTION:Anna Maria vs. Albertus Magnus
END:VALARM
END:VEVENT
BEGIN:VEVENT
UID:gnac-11057059-20120922@quickscores.com
DTSTAMP:20260420T075100Z
DTSTART;TZID=America/New_York:20120922
SUMMARY:Norwich vs. Anna Maria
DESCRIPTION:2012 DH. MS & WS can share a bus --- 2012 Men's Soccer - Great Northeast Athletic Conference
LOCATION:Northfield, VT
CATEGORIES:QuickScores, Soccer Game
TRANSP:OPAQUE
BEGIN:VALARM
TRIGGER:-PT2H
ACTION:DISPLAY
DESCRIPTION:Norwich vs. Anna Maria
END:VALARM
END:VEVENT
BEGIN:VEVENT
UID:gnac-11057074-20120925@quickscores.com
DTSTAMP:20260420T075100Z
DTSTART;TZID=America/New_York:20120925
SUMMARY:Mount Ida vs. Anna Maria
DESCRIPTION:Anna Maria could share a bus w WVB going to LAS --- 2012 Men's Soccer - Great Northeast Athletic Conference
LOCATION:Mount Ida
CATEGORIES:QuickScores, Soccer Game
TRANSP:OPAQUE
BEGIN:VALARM
TRIGGER:-PT2H
ACTION:DISPLAY
DESCRIPTION:Mount Ida vs. Anna Maria
END:VALARM
END:VEVENT
BEGIN:VEVENT
UID:gnac-11057076-20120929@quickscores.com
DTSTAMP:20260420T075100Z
DTSTART;TZID=America/New_York:20120929
SUMMARY:Anna Maria vs. Johnson & Wales
DESCRIPTION:DH MS & WS can share a bus --- 2012 Men's Soccer - Great Northeast Athletic Conference
LOCATION:Paxton MA
CATEGORIES:QuickScores, Soccer Game
TRANSP:OPAQUE
BEGIN:VALARM
TRIGGER:-PT2H
ACTION:DISPLAY
DESCRIPTION:Anna Maria vs. Johnson & Wales
END:VALARM
END:VEVENT
BEGIN:VEVENT
UID:gnac-11057057-20121006@quickscores.com
DTSTAMP:20260420T075100Z
DTSTART;TZID=America/New_York:20121006
SUMMARY:Anna Maria vs. Lasell
DESCRIPTION:no DH possible --- 2012 Men's Soccer - Great Northeast Athletic Conference
LOCATION:Paxton MA
CATEGORIES:QuickScores, Soccer Game
TRANSP:OPAQUE
BEGIN:VALARM
TRIGGER:-PT2H
ACTION:DISPLAY
DESCRIPTION:Anna Maria vs. Lasell
END:VALARM
END:VEVENT
BEGIN:VEVENT
UID:gnac-11057073-20121008@quickscores.com
DTSTAMP:20260420T075100Z
DTSTART;TZID=America/New_York:20121008
SUMMARY:Anna Maria vs. Saint Joseph ME
DESCRIPTION:Columbus Day 2012. --- 2012 Men's Soccer - Great Northeast Athletic Conference
LOCATION:Paxton MA
CATEGORIES:QuickScores, Soccer Game
TRANSP:OPAQUE
BEGIN:VALARM
TRIGGER:-PT2H
ACTION:DISPLAY
DESCRIPTION:Anna Maria vs. Saint Joseph ME
END:VALARM
END:VEVENT
BEGIN:VEVENT
UID:gnac-11057056-20121013@quickscores.com
DTSTAMP:20260420T075100Z
DTSTART;TZID=America/New_York:20121013
SUMMARY:Emmanuel vs. Anna Maria
DESCRIPTION:2012 EMM Family Weekend. Anna Maria MS, WS and WT can share a bus --- 2012 Men's Soccer - Great Northeast Athletic Conference
LOCATION:Roberto Clemente Field
CATEGORIES:QuickScores, Soccer Game
TRANSP:OPAQUE
BEGIN:VALARM
TRIGGER:-PT2H
ACTION:DISPLAY
DESCRIPTION:Emmanuel vs. Anna Maria
END:VALARM
END:VEVENT
BEGIN:VEVENT
UID:gnac-11057060-20121017@quickscores.com
DTSTAMP:20260420T075100Z
DTSTART;TZID=America/New_York:20121017
SUMMARY:Emerson vs. Anna Maria
DESCRIPTION:2012 Men's Soccer - Great Northeast Athletic Conference
LOCATION:Rotch Field
CATEGORIES:QuickScores, Soccer Game
TRANSP:OPAQUE
BEGIN:VALARM
TRIGGER:-PT2H
ACTION:DISPLAY
DESCRIPTION:Emerson vs. Anna Maria
END:VALARM
END:VEVENT
END:VCALENDAR
