BEGIN:VCALENDAR
VERSION:2.0
PRODID:-//QuickScores.com//BQ Dynamic iCal Creator//EN
METHOD:PUBLISH
X-WR-CALNAME:Saint Joseph CT - 2012 Softball - Spring 2012
X-WR-CALDESC:QuickScores game calendar
X-PUBLISHED-TTL:PT24H
REFRESH-INTERVAL;VALUE=DURATION:PT24H
CALSCALE:GREGORIAN
BEGIN:VTIMEZONE
TZID:America/New_York
X-LIC-LOCATION:America/New_York
BEGIN:DAYLIGHT
TZNAME:EDT
TZOFFSETFROM:-0500
TZOFFSETTO:-0400
DTSTART:19700308T020000
RRULE:FREQ=YEARLY;BYMONTH=3;BYDAY=2SU
END:DAYLIGHT
BEGIN:STANDARD
TZNAME:EST
TZOFFSETFROM:-0400
TZOFFSETTO:-0500
DTSTART:19701101T020000
RRULE:FREQ=YEARLY;BYMONTH=11;BYDAY=1SU
END:STANDARD
END:VTIMEZONE
BEGIN:VEVENT
UID:gnac-9584048-20120321@quickscores.com
DTSTAMP:20260421T120800Z
DTSTART;TZID=America/New_York:20120321
SUMMARY:Pine Manor vs. Saint Joseph CT
DESCRIPTION:STJCT can share a bus w WLAX --- 2012 Softball - Great Northeast Athletic Conference
LOCATION:Chestnut Hill, MA
CATEGORIES:QuickScores, Softball Game
TRANSP:OPAQUE
BEGIN:VALARM
TRIGGER:-PT2H
ACTION:DISPLAY
DESCRIPTION:Pine Manor vs. Saint Joseph CT
END:VALARM
END:VEVENT
BEGIN:VEVENT
UID:gnac-9584066-20120324@quickscores.com
DTSTAMP:20260421T120800Z
DTSTART;TZID=America/New_York:20120324
SUMMARY:Saint Joseph CT vs. Emmanuel
DESCRIPTION:EMM can share a bus w WLAX --- 2012 Softball - Great Northeast Athletic Conference
LOCATION:W. Hartford, CT
CATEGORIES:QuickScores, Softball Game
TRANSP:OPAQUE
BEGIN:VALARM
TRIGGER:-PT2H
ACTION:DISPLAY
DESCRIPTION:Saint Joseph CT vs. Emmanuel
END:VALARM
END:VEVENT
BEGIN:VEVENT
UID:gnac-9584038-20120325@quickscores.com
DTSTAMP:20260421T120800Z
DTSTART;TZID=America/New_York:20120325
SUMMARY:Saint Joseph CT vs. Norwich
DESCRIPTION:2012 Softball - Great Northeast Athletic Conference
LOCATION:W. Hartford, CT
CATEGORIES:QuickScores, Softball Game
TRANSP:OPAQUE
BEGIN:VALARM
TRIGGER:-PT2H
ACTION:DISPLAY
DESCRIPTION:Saint Joseph CT vs. Norwich
END:VALARM
END:VEVENT
BEGIN:VEVENT
UID:gnac-9584029-20120330@quickscores.com
DTSTAMP:20260421T120800Z
DTSTART;TZID=America/New_York:20120330
SUMMARY:Saint Joseph CT vs. Albertus Magnus
DESCRIPTION:2012 Softball - Great Northeast Athletic Conference
LOCATION:W. Hartford, CT
CATEGORIES:QuickScores, Softball Game
TRANSP:OPAQUE
BEGIN:VALARM
TRIGGER:-PT2H
ACTION:DISPLAY
DESCRIPTION:Saint Joseph CT vs. Albertus Magnus
END:VALARM
END:VEVENT
BEGIN:VEVENT
UID:gnac-9584009-20120331@quickscores.com
DTSTAMP:20260421T120800Z
DTSTART;TZID=America/New_York:20120331
SUMMARY:Suffolk vs. Saint Joseph CT
DESCRIPTION:2012 Softball - Great Northeast Athletic Conference
LOCATION:Puopolo Field Boston's North End
CATEGORIES:QuickScores, Softball Game
TRANSP:OPAQUE
BEGIN:VALARM
TRIGGER:-PT2H
ACTION:DISPLAY
DESCRIPTION:Suffolk vs. Saint Joseph CT
END:VALARM
END:VEVENT
BEGIN:VEVENT
UID:gnac-9584018-20120401@quickscores.com
DTSTAMP:20260421T120800Z
DTSTART;TZID=America/New_York:20120401
SUMMARY:Johnson & Wales vs. Saint Joseph CT
DESCRIPTION:2012 Softball - Great Northeast Athletic Conference
LOCATION:Providence, RI
CATEGORIES:QuickScores, Softball Game
TRANSP:OPAQUE
BEGIN:VALARM
TRIGGER:-PT2H
ACTION:DISPLAY
DESCRIPTION:Johnson & Wales vs. Saint Joseph CT
END:VALARM
END:VEVENT
BEGIN:VEVENT
UID:gnac-9584003-20120405@quickscores.com
DTSTAMP:20260421T120800Z
DTSTART;TZID=America/New_York:20120405
SUMMARY:Anna Maria vs. Saint Joseph CT
DESCRIPTION:Cannot play GOOD FRIDAY --- 2012 Softball - Great Northeast Athletic Conference
LOCATION:Paxton MA
CATEGORIES:QuickScores, Softball Game
TRANSP:OPAQUE
BEGIN:VALARM
TRIGGER:-PT2H
ACTION:DISPLAY
DESCRIPTION:Anna Maria vs. Saint Joseph CT
END:VALARM
END:VEVENT
BEGIN:VEVENT
UID:gnac-9584052-20120407@quickscores.com
DTSTAMP:20260421T120800Z
DTSTART;TZID=America/New_York:20120407
SUMMARY:Saint Joseph CT vs. Emerson
DESCRIPTION:EME has home MLAX --- 2012 Softball - Great Northeast Athletic Conference
LOCATION:W. Hartford, CT
CATEGORIES:QuickScores, Softball Game
TRANSP:OPAQUE
BEGIN:VALARM
TRIGGER:-PT2H
ACTION:DISPLAY
DESCRIPTION:Saint Joseph CT vs. Emerson
END:VALARM
END:VEVENT
BEGIN:VEVENT
UID:gnac-9584014-20120413@quickscores.com
DTSTAMP:20260421T120800Z
DTSTART;TZID=America/New_York:20120413
SUMMARY:Saint Joseph CT vs. Lasell
DESCRIPTION:2012 Softball - Great Northeast Athletic Conference
LOCATION:W. Hartford, CT
CATEGORIES:QuickScores, Softball Game
TRANSP:OPAQUE
BEGIN:VALARM
TRIGGER:-PT2H
ACTION:DISPLAY
DESCRIPTION:Saint Joseph CT vs. Lasell
END:VALARM
END:VEVENT
BEGIN:VEVENT
UID:gnac-9584047-20120414@quickscores.com
DTSTAMP:20260421T120800Z
DTSTART;TZID=America/New_York:20120414
SUMMARY:Saint Joseph CT vs. Simmons
DESCRIPTION:SIM can share a bus w WLAX --- 2012 Softball - Great Northeast Athletic Conference
LOCATION:W. Hartford, CT
CATEGORIES:QuickScores, Softball Game
TRANSP:OPAQUE
BEGIN:VALARM
TRIGGER:-PT2H
ACTION:DISPLAY
DESCRIPTION:Saint Joseph CT vs. Simmons
END:VALARM
END:VEVENT
BEGIN:VEVENT
UID:gnac-9584034-20120415@quickscores.com
DTSTAMP:20260421T120800Z
DTSTART;TZID=America/New_York:20120415
SUMMARY:Mount Ida vs. Saint Joseph CT
DESCRIPTION:No DH possible. WLAX & SB opposite sites --- 2012 Softball - Great Northeast Athletic Conference
LOCATION:Mount Ida
CATEGORIES:QuickScores, Softball Game
TRANSP:OPAQUE
BEGIN:VALARM
TRIGGER:-PT2H
ACTION:DISPLAY
DESCRIPTION:Mount Ida vs. Saint Joseph CT
END:VALARM
END:VEVENT
BEGIN:VEVENT
UID:gnac-9584023-20120418@quickscores.com
DTSTAMP:20260421T120800Z
DTSTART;TZID=America/New_York:20120418
SUMMARY:Rivier vs. Saint Joseph CT
DESCRIPTION:STJCT can share a bus w WLAX --- 2012 Softball - Great Northeast Athletic Conference
LOCATION:Nashua, NH
CATEGORIES:QuickScores, Softball Game
TRANSP:OPAQUE
BEGIN:VALARM
TRIGGER:-PT2H
ACTION:DISPLAY
DESCRIPTION:Rivier vs. Saint Joseph CT
END:VALARM
END:VEVENT
BEGIN:VEVENT
UID:gnac-9584060-20120421@quickscores.com
DTSTAMP:20260421T120800Z
DTSTART;TZID=America/New_York:20120421
SUMMARY:Saint Joseph's ME vs. Saint Joseph CT
DESCRIPTION:2012 Softball - Great Northeast Athletic Conference
LOCATION:Standish ME
CATEGORIES:QuickScores, Softball Game
TRANSP:OPAQUE
BEGIN:VALARM
TRIGGER:-PT2H
ACTION:DISPLAY
DESCRIPTION:Saint Joseph's ME vs. Saint Joseph CT
END:VALARM
END:VEVENT
END:VCALENDAR
