BEGIN:VCALENDAR
VERSION:2.0
PRODID:-//QuickScores.com//BQ Dynamic iCal Creator//EN
METHOD:PUBLISH
X-WR-CALNAME:Saint Joseph&#039;s ME - 2012 Softball - Spring 2012
X-WR-CALDESC:QuickScores game calendar
X-PUBLISHED-TTL:PT24H
REFRESH-INTERVAL;VALUE=DURATION:PT24H
CALSCALE:GREGORIAN
BEGIN:VTIMEZONE
TZID:America/New_York
X-LIC-LOCATION:America/New_York
BEGIN:DAYLIGHT
TZNAME:EDT
TZOFFSETFROM:-0500
TZOFFSETTO:-0400
DTSTART:19700308T020000
RRULE:FREQ=YEARLY;BYMONTH=3;BYDAY=2SU
END:DAYLIGHT
BEGIN:STANDARD
TZNAME:EST
TZOFFSETFROM:-0400
TZOFFSETTO:-0500
DTSTART:19701101T020000
RRULE:FREQ=YEARLY;BYMONTH=11;BYDAY=1SU
END:STANDARD
END:VTIMEZONE
BEGIN:VEVENT
UID:gnac-9584055-20120321@quickscores.com
DTSTAMP:20260422T051400Z
DTSTART;TZID=America/New_York:20120321
SUMMARY:Lasell vs. Saint Joseph's ME
DESCRIPTION:STJME can share a bus w WLAX --- 2012 Softball - Great Northeast Athletic Conference
LOCATION:Lasell Newton
CATEGORIES:QuickScores, Softball Game
TRANSP:OPAQUE
BEGIN:VALARM
TRIGGER:-PT2H
ACTION:DISPLAY
DESCRIPTION:Lasell vs. Saint Joseph's ME
END:VALARM
END:VEVENT
BEGIN:VEVENT
UID:gnac-9584020-20120324@quickscores.com
DTSTAMP:20260422T051400Z
DTSTART;TZID=America/New_York:20120324
SUMMARY:Albertus Magnus vs. Saint Joseph's ME
DESCRIPTION:2012 Softball - Great Northeast Athletic Conference
LOCATION:New Haven, CT
CATEGORIES:QuickScores, Softball Game
TRANSP:OPAQUE
BEGIN:VALARM
TRIGGER:-PT2H
ACTION:DISPLAY
DESCRIPTION:Albertus Magnus vs. Saint Joseph's ME
END:VALARM
END:VEVENT
BEGIN:VEVENT
UID:gnac-9583995-20120325@quickscores.com
DTSTAMP:20260422T051400Z
DTSTART;TZID=America/New_York:20120325
SUMMARY:Saint Joseph's ME vs. Pine Manor
DESCRIPTION:2012 Softball - Great Northeast Athletic Conference
LOCATION:Standish ME
CATEGORIES:QuickScores, Softball Game
TRANSP:OPAQUE
BEGIN:VALARM
TRIGGER:-PT2H
ACTION:DISPLAY
DESCRIPTION:Saint Joseph's ME vs. Pine Manor
END:VALARM
END:VEVENT
BEGIN:VEVENT
UID:gnac-9583993-20120328@quickscores.com
DTSTAMP:20260422T051400Z
DTSTART;TZID=America/New_York:20120328
SUMMARY:Saint Joseph's ME vs. Emerson
DESCRIPTION:EME can share a bus w WLAX --- 2012 Softball - Great Northeast Athletic Conference
LOCATION:Standish ME
CATEGORIES:QuickScores, Softball Game
TRANSP:OPAQUE
BEGIN:VALARM
TRIGGER:-PT2H
ACTION:DISPLAY
DESCRIPTION:Saint Joseph's ME vs. Emerson
END:VALARM
END:VEVENT
BEGIN:VEVENT
UID:gnac-9583996-20120331@quickscores.com
DTSTAMP:20260422T051400Z
DTSTART;TZID=America/New_York:20120331
SUMMARY:Anna Maria vs. Saint Joseph's ME
DESCRIPTION:2012 Softball - Great Northeast Athletic Conference
LOCATION:Paxton MA
CATEGORIES:QuickScores, Softball Game
TRANSP:OPAQUE
BEGIN:VALARM
TRIGGER:-PT2H
ACTION:DISPLAY
DESCRIPTION:Anna Maria vs. Saint Joseph's ME
END:VALARM
END:VEVENT
BEGIN:VEVENT
UID:gnac-9584025-20120401@quickscores.com
DTSTAMP:20260422T051400Z
DTSTART;TZID=America/New_York:20120401
SUMMARY:Suffolk vs. Saint Joseph's ME
DESCRIPTION:2012 Softball - Great Northeast Athletic Conference
LOCATION:Puopolo Field Boston's North End
CATEGORIES:QuickScores, Softball Game
TRANSP:OPAQUE
BEGIN:VALARM
TRIGGER:-PT2H
ACTION:DISPLAY
DESCRIPTION:Suffolk vs. Saint Joseph's ME
END:VALARM
END:VEVENT
BEGIN:VEVENT
UID:gnac-9584004-20120405@quickscores.com
DTSTAMP:20260422T051400Z
DTSTART;TZID=America/New_York:20120405
SUMMARY:Emmanuel vs. Saint Joseph's ME
DESCRIPTION:Cannot play Good Friday --- 2012 Softball - Great Northeast Athletic Conference
LOCATION:Roberto Clemente Field
CATEGORIES:QuickScores, Softball Game
TRANSP:OPAQUE
BEGIN:VALARM
TRIGGER:-PT2H
ACTION:DISPLAY
DESCRIPTION:Emmanuel vs. Saint Joseph's ME
END:VALARM
END:VEVENT
BEGIN:VEVENT
UID:gnac-9584051-20120407@quickscores.com
DTSTAMP:20260422T051400Z
DTSTART;TZID=America/New_York:20120407
SUMMARY:Saint Joseph's ME vs. Johnson & Wales
DESCRIPTION:2012 Softball - Great Northeast Athletic Conference
LOCATION:Standish ME
CATEGORIES:QuickScores, Softball Game
TRANSP:OPAQUE
BEGIN:VALARM
TRIGGER:-PT2H
ACTION:DISPLAY
DESCRIPTION:Saint Joseph's ME vs. Johnson & Wales
END:VALARM
END:VEVENT
BEGIN:VEVENT
UID:gnac-9584073-20120413@quickscores.com
DTSTAMP:20260422T051400Z
DTSTART;TZID=America/New_York:20120413
SUMMARY:Rivier vs. Saint Joseph's ME
DESCRIPTION:2012 Softball - Great Northeast Athletic Conference
LOCATION:Nashua, NH
CATEGORIES:QuickScores, Softball Game
TRANSP:OPAQUE
BEGIN:VALARM
TRIGGER:-PT2H
ACTION:DISPLAY
DESCRIPTION:Rivier vs. Saint Joseph's ME
END:VALARM
END:VEVENT
BEGIN:VEVENT
UID:gnac-9583980-20120414@quickscores.com
DTSTAMP:20260422T051400Z
DTSTART;TZID=America/New_York:20120414
SUMMARY:Saint Joseph's ME vs. Norwich
DESCRIPTION:NOR can share a bus w WLAX --- 2012 Softball - Great Northeast Athletic Conference
LOCATION:Standish ME
CATEGORIES:QuickScores, Softball Game
TRANSP:OPAQUE
BEGIN:VALARM
TRIGGER:-PT2H
ACTION:DISPLAY
DESCRIPTION:Saint Joseph's ME vs. Norwich
END:VALARM
END:VEVENT
BEGIN:VEVENT
UID:gnac-9584040-20120415@quickscores.com
DTSTAMP:20260422T051400Z
DTSTART;TZID=America/New_York:20120415
SUMMARY:Simmons vs. Saint Joseph's ME
DESCRIPTION:2012 Softball - Great Northeast Athletic Conference
LOCATION:Simmons
CATEGORIES:QuickScores, Softball Game
TRANSP:OPAQUE
BEGIN:VALARM
TRIGGER:-PT2H
ACTION:DISPLAY
DESCRIPTION:Simmons vs. Saint Joseph's ME
END:VALARM
END:VEVENT
BEGIN:VEVENT
UID:gnac-9584068-20120418@quickscores.com
DTSTAMP:20260422T051400Z
DTSTART;TZID=America/New_York:20120418
SUMMARY:Saint Joseph's ME vs. Mount Ida
DESCRIPTION:IDA can share a bus w WLAX --- 2012 Softball - Great Northeast Athletic Conference
LOCATION:Standish ME
CATEGORIES:QuickScores, Softball Game
TRANSP:OPAQUE
BEGIN:VALARM
TRIGGER:-PT2H
ACTION:DISPLAY
DESCRIPTION:Saint Joseph's ME vs. Mount Ida
END:VALARM
END:VEVENT
BEGIN:VEVENT
UID:gnac-9584060-20120421@quickscores.com
DTSTAMP:20260422T051400Z
DTSTART;TZID=America/New_York:20120421
SUMMARY:Saint Joseph's ME vs. Saint Joseph CT
DESCRIPTION:2012 Softball - Great Northeast Athletic Conference
LOCATION:Standish ME
CATEGORIES:QuickScores, Softball Game
TRANSP:OPAQUE
BEGIN:VALARM
TRIGGER:-PT2H
ACTION:DISPLAY
DESCRIPTION:Saint Joseph's ME vs. Saint Joseph CT
END:VALARM
END:VEVENT
END:VCALENDAR
