BEGIN:VCALENDAR
VERSION:2.0
PRODID:-//QuickScores.com//BQ Dynamic iCal Creator//EN
METHOD:PUBLISH
X-WR-CALNAME:Pine Manor - 2012 Softball - Spring 2012
X-WR-CALDESC:QuickScores game calendar
X-PUBLISHED-TTL:PT24H
REFRESH-INTERVAL;VALUE=DURATION:PT24H
CALSCALE:GREGORIAN
BEGIN:VTIMEZONE
TZID:America/New_York
X-LIC-LOCATION:America/New_York
BEGIN:DAYLIGHT
TZNAME:EDT
TZOFFSETFROM:-0500
TZOFFSETTO:-0400
DTSTART:19700308T020000
RRULE:FREQ=YEARLY;BYMONTH=3;BYDAY=2SU
END:DAYLIGHT
BEGIN:STANDARD
TZNAME:EST
TZOFFSETFROM:-0400
TZOFFSETTO:-0500
DTSTART:19701101T020000
RRULE:FREQ=YEARLY;BYMONTH=11;BYDAY=1SU
END:STANDARD
END:VTIMEZONE
BEGIN:VEVENT
UID:gnac-9584048-20120321@quickscores.com
DTSTAMP:20260421T120300Z
DTSTART;TZID=America/New_York:20120321
SUMMARY:Pine Manor vs. Saint Joseph CT
DESCRIPTION:STJCT can share a bus w WLAX --- 2012 Softball - Great Northeast Athletic Conference
LOCATION:Chestnut Hill, MA
CATEGORIES:QuickScores, Softball Game
TRANSP:OPAQUE
BEGIN:VALARM
TRIGGER:-PT2H
ACTION:DISPLAY
DESCRIPTION:Pine Manor vs. Saint Joseph CT
END:VALARM
END:VEVENT
BEGIN:VEVENT
UID:gnac-9584057-20120324@quickscores.com
DTSTAMP:20260421T120300Z
DTSTART;TZID=America/New_York:20120324
SUMMARY:Pine Manor vs. Lasell
DESCRIPTION:2012 Softball - Great Northeast Athletic Conference
LOCATION:Chestnut Hill, MA
CATEGORIES:QuickScores, Softball Game
TRANSP:OPAQUE
BEGIN:VALARM
TRIGGER:-PT2H
ACTION:DISPLAY
DESCRIPTION:Pine Manor vs. Lasell
END:VALARM
END:VEVENT
BEGIN:VEVENT
UID:gnac-9583995-20120325@quickscores.com
DTSTAMP:20260421T120300Z
DTSTART;TZID=America/New_York:20120325
SUMMARY:Saint Joseph's ME vs. Pine Manor
DESCRIPTION:2012 Softball - Great Northeast Athletic Conference
LOCATION:Standish ME
CATEGORIES:QuickScores, Softball Game
TRANSP:OPAQUE
BEGIN:VALARM
TRIGGER:-PT2H
ACTION:DISPLAY
DESCRIPTION:Saint Joseph's ME vs. Pine Manor
END:VALARM
END:VEVENT
BEGIN:VEVENT
UID:gnac-9584043-20120329@quickscores.com
DTSTAMP:20260421T120300Z
DTSTART;TZID=America/New_York:20120329
SUMMARY:Emmanuel vs. Pine Manor
DESCRIPTION:Field not available Friday --- 2012 Softball - Great Northeast Athletic Conference
LOCATION:Roberto Clemente Field
CATEGORIES:QuickScores, Softball Game
TRANSP:OPAQUE
BEGIN:VALARM
TRIGGER:-PT2H
ACTION:DISPLAY
DESCRIPTION:Emmanuel vs. Pine Manor
END:VALARM
END:VEVENT
BEGIN:VEVENT
UID:gnac-9584008-20120331@quickscores.com
DTSTAMP:20260421T120300Z
DTSTART;TZID=America/New_York:20120331
SUMMARY:Pine Manor vs. Emerson
DESCRIPTION:EME has home LAX --- 2012 Softball - Great Northeast Athletic Conference
LOCATION:Chestnut Hill, MA
CATEGORIES:QuickScores, Softball Game
TRANSP:OPAQUE
BEGIN:VALARM
TRIGGER:-PT2H
ACTION:DISPLAY
DESCRIPTION:Pine Manor vs. Emerson
END:VALARM
END:VEVENT
BEGIN:VEVENT
UID:gnac-9584015-20120401@quickscores.com
DTSTAMP:20260421T120300Z
DTSTART;TZID=America/New_York:20120401
SUMMARY:Pine Manor vs. Rivier
DESCRIPTION:2012 Softball - Great Northeast Athletic Conference
LOCATION:Chestnut Hill, MA
CATEGORIES:QuickScores, Softball Game
TRANSP:OPAQUE
BEGIN:VALARM
TRIGGER:-PT2H
ACTION:DISPLAY
DESCRIPTION:Pine Manor vs. Rivier
END:VALARM
END:VEVENT
BEGIN:VEVENT
UID:gnac-9584053-20120406@quickscores.com
DTSTAMP:20260421T120300Z
DTSTART;TZID=America/New_York:20120406
SUMMARY:Pine Manor vs. Albertus Magnus
DESCRIPTION:2012 Softball - Great Northeast Athletic Conference
LOCATION:Chestnut Hill, MA
CATEGORIES:QuickScores, Softball Game
TRANSP:OPAQUE
BEGIN:VALARM
TRIGGER:-PT2H
ACTION:DISPLAY
DESCRIPTION:Pine Manor vs. Albertus Magnus
END:VALARM
END:VEVENT
BEGIN:VEVENT
UID:gnac-9584042-20120407@quickscores.com
DTSTAMP:20260421T120300Z
DTSTART;TZID=America/New_York:20120407
SUMMARY:Mount Ida vs. Pine Manor
DESCRIPTION:IDA LAX is away --- 2012 Softball - Great Northeast Athletic Conference
LOCATION:Mount Ida
CATEGORIES:QuickScores, Softball Game
TRANSP:OPAQUE
BEGIN:VALARM
TRIGGER:-PT2H
ACTION:DISPLAY
DESCRIPTION:Mount Ida vs. Pine Manor
END:VALARM
END:VEVENT
BEGIN:VEVENT
UID:gnac-9584011-20120411@quickscores.com
DTSTAMP:20260421T120300Z
DTSTART;TZID=America/New_York:20120411
SUMMARY:Norwich vs. Pine Manor
DESCRIPTION:PMC can share a bus w WLAX --- 2012 Softball - Great Northeast Athletic Conference
LOCATION:Northfield, VT
CATEGORIES:QuickScores, Softball Game
TRANSP:OPAQUE
BEGIN:VALARM
TRIGGER:-PT2H
ACTION:DISPLAY
DESCRIPTION:Norwich vs. Pine Manor
END:VALARM
END:VEVENT
BEGIN:VEVENT
UID:gnac-9584028-20120414@quickscores.com
DTSTAMP:20260421T120300Z
DTSTART;TZID=America/New_York:20120414
SUMMARY:Pine Manor vs. Anna Maria
DESCRIPTION:2012 Softball - Great Northeast Athletic Conference
LOCATION:Chestnut Hill, MA
CATEGORIES:QuickScores, Softball Game
TRANSP:OPAQUE
BEGIN:VALARM
TRIGGER:-PT2H
ACTION:DISPLAY
DESCRIPTION:Pine Manor vs. Anna Maria
END:VALARM
END:VEVENT
BEGIN:VEVENT
UID:gnac-9584037-20120415@quickscores.com
DTSTAMP:20260421T120300Z
DTSTART;TZID=America/New_York:20120415
SUMMARY:Pine Manor vs. Johnson & Wales
DESCRIPTION:2012 Softball - Great Northeast Athletic Conference
LOCATION:Chestnut Hill, MA
CATEGORIES:QuickScores, Softball Game
TRANSP:OPAQUE
BEGIN:VALARM
TRIGGER:-PT2H
ACTION:DISPLAY
DESCRIPTION:Pine Manor vs. Johnson & Wales
END:VALARM
END:VEVENT
BEGIN:VEVENT
UID:gnac-9584065-20120420@quickscores.com
DTSTAMP:20260421T120300Z
DTSTART;TZID=America/New_York:20120420
SUMMARY:Simmons vs. Pine Manor
DESCRIPTION:2012 Softball - Great Northeast Athletic Conference
LOCATION:Simmons
CATEGORIES:QuickScores, Softball Game
TRANSP:OPAQUE
BEGIN:VALARM
TRIGGER:-PT2H
ACTION:DISPLAY
DESCRIPTION:Simmons vs. Pine Manor
END:VALARM
END:VEVENT
BEGIN:VEVENT
UID:gnac-9584071-20120421@quickscores.com
DTSTAMP:20260421T120300Z
DTSTART;TZID=America/New_York:20120421
SUMMARY:Suffolk vs. Pine Manor
DESCRIPTION:2012 Softball - Great Northeast Athletic Conference
LOCATION:Puopolo Field Boston's North End
CATEGORIES:QuickScores, Softball Game
TRANSP:OPAQUE
BEGIN:VALARM
TRIGGER:-PT2H
ACTION:DISPLAY
DESCRIPTION:Suffolk vs. Pine Manor
END:VALARM
END:VEVENT
END:VCALENDAR
