BEGIN:VCALENDAR
VERSION:2.0
PRODID:-//QuickScores.com//BQ Dynamic iCal Creator//EN
METHOD:PUBLISH
X-WR-CALNAME:Norwich - 2012 Softball - Spring 2012
X-WR-CALDESC:QuickScores game calendar
X-PUBLISHED-TTL:PT24H
REFRESH-INTERVAL;VALUE=DURATION:PT24H
CALSCALE:GREGORIAN
BEGIN:VTIMEZONE
TZID:America/New_York
X-LIC-LOCATION:America/New_York
BEGIN:DAYLIGHT
TZNAME:EDT
TZOFFSETFROM:-0500
TZOFFSETTO:-0400
DTSTART:19700308T020000
RRULE:FREQ=YEARLY;BYMONTH=3;BYDAY=2SU
END:DAYLIGHT
BEGIN:STANDARD
TZNAME:EST
TZOFFSETFROM:-0400
TZOFFSETTO:-0500
DTSTART:19701101T020000
RRULE:FREQ=YEARLY;BYMONTH=11;BYDAY=1SU
END:STANDARD
END:VTIMEZONE
BEGIN:VEVENT
UID:gnac-9584056-20120323@quickscores.com
DTSTAMP:20260421T084800Z
DTSTART;TZID=America/New_York:20120323
SUMMARY:Mount Ida vs. Norwich
DESCRIPTION:2012 Softball - Great Northeast Athletic Conference
LOCATION:Mount Ida
CATEGORIES:QuickScores, Softball Game
TRANSP:OPAQUE
BEGIN:VALARM
TRIGGER:-PT2H
ACTION:DISPLAY
DESCRIPTION:Mount Ida vs. Norwich
END:VALARM
END:VEVENT
BEGIN:VEVENT
UID:gnac-9584072-20120324@quickscores.com
DTSTAMP:20260421T084800Z
DTSTART;TZID=America/New_York:20120324
SUMMARY:Emerson vs. Norwich
DESCRIPTION:EME Lax away --- 2012 Softball - Great Northeast Athletic Conference
LOCATION:Rotch Field
CATEGORIES:QuickScores, Softball Game
TRANSP:OPAQUE
BEGIN:VALARM
TRIGGER:-PT2H
ACTION:DISPLAY
DESCRIPTION:Emerson vs. Norwich
END:VALARM
END:VEVENT
BEGIN:VEVENT
UID:gnac-9584038-20120325@quickscores.com
DTSTAMP:20260421T084800Z
DTSTART;TZID=America/New_York:20120325
SUMMARY:Saint Joseph CT vs. Norwich
DESCRIPTION:2012 Softball - Great Northeast Athletic Conference
LOCATION:W. Hartford, CT
CATEGORIES:QuickScores, Softball Game
TRANSP:OPAQUE
BEGIN:VALARM
TRIGGER:-PT2H
ACTION:DISPLAY
DESCRIPTION:Saint Joseph CT vs. Norwich
END:VALARM
END:VEVENT
BEGIN:VEVENT
UID:gnac-9583984-20120330@quickscores.com
DTSTAMP:20260421T084800Z
DTSTART;TZID=America/New_York:20120330
SUMMARY:Norwich vs. Johnson & Wales
DESCRIPTION:2012 Softball - Great Northeast Athletic Conference
LOCATION:Northfield, VT
CATEGORIES:QuickScores, Softball Game
TRANSP:OPAQUE
BEGIN:VALARM
TRIGGER:-PT2H
ACTION:DISPLAY
DESCRIPTION:Norwich vs. Johnson & Wales
END:VALARM
END:VEVENT
BEGIN:VEVENT
UID:gnac-9584059-20120331@quickscores.com
DTSTAMP:20260421T084800Z
DTSTART;TZID=America/New_York:20120331
SUMMARY:Simmons vs. Norwich
DESCRIPTION:2012 Softball - Great Northeast Athletic Conference
LOCATION:Simmons
CATEGORIES:QuickScores, Softball Game
TRANSP:OPAQUE
BEGIN:VALARM
TRIGGER:-PT2H
ACTION:DISPLAY
DESCRIPTION:Simmons vs. Norwich
END:VALARM
END:VEVENT
BEGIN:VEVENT
UID:gnac-9583994-20120401@quickscores.com
DTSTAMP:20260421T084800Z
DTSTART;TZID=America/New_York:20120401
SUMMARY:Emmanuel vs. Norwich
DESCRIPTION:2012 Softball - Great Northeast Athletic Conference
LOCATION:Roberto Clemente Field
CATEGORIES:QuickScores, Softball Game
TRANSP:OPAQUE
BEGIN:VALARM
TRIGGER:-PT2H
ACTION:DISPLAY
DESCRIPTION:Emmanuel vs. Norwich
END:VALARM
END:VEVENT
BEGIN:VEVENT
UID:gnac-9584005-20120404@quickscores.com
DTSTAMP:20260421T084800Z
DTSTART;TZID=America/New_York:20120404
SUMMARY:Norwich vs. Rivier
DESCRIPTION:RIV can share a bus w WLAX --- 2012 Softball - Great Northeast Athletic Conference
LOCATION:Northfield, VT
CATEGORIES:QuickScores, Softball Game
TRANSP:OPAQUE
BEGIN:VALARM
TRIGGER:-PT2H
ACTION:DISPLAY
DESCRIPTION:Norwich vs. Rivier
END:VALARM
END:VEVENT
BEGIN:VEVENT
UID:gnac-9584041-20120407@quickscores.com
DTSTAMP:20260421T084800Z
DTSTART;TZID=America/New_York:20120407
SUMMARY:Norwich vs. Albertus Magnus
DESCRIPTION:2012 Softball - Great Northeast Athletic Conference
LOCATION:Northfield, VT
CATEGORIES:QuickScores, Softball Game
TRANSP:OPAQUE
BEGIN:VALARM
TRIGGER:-PT2H
ACTION:DISPLAY
DESCRIPTION:Norwich vs. Albertus Magnus
END:VALARM
END:VEVENT
BEGIN:VEVENT
UID:gnac-9584011-20120411@quickscores.com
DTSTAMP:20260421T084800Z
DTSTART;TZID=America/New_York:20120411
SUMMARY:Norwich vs. Pine Manor
DESCRIPTION:PMC can share a bus w WLAX --- 2012 Softball - Great Northeast Athletic Conference
LOCATION:Northfield, VT
CATEGORIES:QuickScores, Softball Game
TRANSP:OPAQUE
BEGIN:VALARM
TRIGGER:-PT2H
ACTION:DISPLAY
DESCRIPTION:Norwich vs. Pine Manor
END:VALARM
END:VEVENT
BEGIN:VEVENT
UID:gnac-9583980-20120414@quickscores.com
DTSTAMP:20260421T084800Z
DTSTART;TZID=America/New_York:20120414
SUMMARY:Saint Joseph's ME vs. Norwich
DESCRIPTION:NOR can share a bus w WLAX --- 2012 Softball - Great Northeast Athletic Conference
LOCATION:Standish ME
CATEGORIES:QuickScores, Softball Game
TRANSP:OPAQUE
BEGIN:VALARM
TRIGGER:-PT2H
ACTION:DISPLAY
DESCRIPTION:Saint Joseph's ME vs. Norwich
END:VALARM
END:VEVENT
BEGIN:VEVENT
UID:gnac-9584001-20120415@quickscores.com
DTSTAMP:20260421T084800Z
DTSTART;TZID=America/New_York:20120415
SUMMARY:Norwich vs. Suffolk
DESCRIPTION:2012 Softball - Great Northeast Athletic Conference
LOCATION:Northfield, VT
CATEGORIES:QuickScores, Softball Game
TRANSP:OPAQUE
BEGIN:VALARM
TRIGGER:-PT2H
ACTION:DISPLAY
DESCRIPTION:Norwich vs. Suffolk
END:VALARM
END:VEVENT
BEGIN:VEVENT
UID:gnac-9584026-20120418@quickscores.com
DTSTAMP:20260421T084800Z
DTSTART;TZID=America/New_York:20120418
SUMMARY:Norwich vs. Lasell
DESCRIPTION:LAS can share a bus w WLAX --- 2012 Softball - Great Northeast Athletic Conference
LOCATION:Northfield, VT
CATEGORIES:QuickScores, Softball Game
TRANSP:OPAQUE
BEGIN:VALARM
TRIGGER:-PT2H
ACTION:DISPLAY
DESCRIPTION:Norwich vs. Lasell
END:VALARM
END:VEVENT
BEGIN:VEVENT
UID:gnac-9584067-20120421@quickscores.com
DTSTAMP:20260421T084800Z
DTSTART;TZID=America/New_York:20120421
SUMMARY:Norwich vs. Anna Maria
DESCRIPTION:Anna Maria can share a bus w WLAX --- 2012 Softball - Great Northeast Athletic Conference
LOCATION:Northfield, VT
CATEGORIES:QuickScores, Softball Game
TRANSP:OPAQUE
BEGIN:VALARM
TRIGGER:-PT2H
ACTION:DISPLAY
DESCRIPTION:Norwich vs. Anna Maria
END:VALARM
END:VEVENT
END:VCALENDAR
