BEGIN:VCALENDAR
VERSION:2.0
PRODID:-//QuickScores.com//BQ Dynamic iCal Creator//EN
METHOD:PUBLISH
X-WR-CALNAME:Johnson &amp; Wales - 2012 Softball - Spring 2012
X-WR-CALDESC:QuickScores game calendar
X-PUBLISHED-TTL:PT24H
REFRESH-INTERVAL;VALUE=DURATION:PT24H
CALSCALE:GREGORIAN
BEGIN:VTIMEZONE
TZID:America/New_York
X-LIC-LOCATION:America/New_York
BEGIN:DAYLIGHT
TZNAME:EDT
TZOFFSETFROM:-0500
TZOFFSETTO:-0400
DTSTART:19700308T020000
RRULE:FREQ=YEARLY;BYMONTH=3;BYDAY=2SU
END:DAYLIGHT
BEGIN:STANDARD
TZNAME:EST
TZOFFSETFROM:-0400
TZOFFSETTO:-0500
DTSTART:19701101T020000
RRULE:FREQ=YEARLY;BYMONTH=11;BYDAY=1SU
END:STANDARD
END:VTIMEZONE
BEGIN:VEVENT
UID:gnac-9583977-20120323@quickscores.com
DTSTAMP:20260422T032000Z
DTSTART;TZID=America/New_York:20120323
SUMMARY:Johnson & Wales vs. Rivier
DESCRIPTION:2012 Softball - Great Northeast Athletic Conference
LOCATION:Providence, RI
CATEGORIES:QuickScores, Softball Game
TRANSP:OPAQUE
BEGIN:VALARM
TRIGGER:-PT2H
ACTION:DISPLAY
DESCRIPTION:Johnson & Wales vs. Rivier
END:VALARM
END:VEVENT
BEGIN:VEVENT
UID:gnac-9584031-20120324@quickscores.com
DTSTAMP:20260422T032000Z
DTSTART;TZID=America/New_York:20120324
SUMMARY:Johnson & Wales vs. Suffolk
DESCRIPTION:2012 Softball - Great Northeast Athletic Conference
LOCATION:Providence, RI
CATEGORIES:QuickScores, Softball Game
TRANSP:OPAQUE
BEGIN:VALARM
TRIGGER:-PT2H
ACTION:DISPLAY
DESCRIPTION:Johnson & Wales vs. Suffolk
END:VALARM
END:VEVENT
BEGIN:VEVENT
UID:gnac-9584007-20120325@quickscores.com
DTSTAMP:20260422T032000Z
DTSTART;TZID=America/New_York:20120325
SUMMARY:Albertus Magnus vs. Johnson & Wales
DESCRIPTION:2012 Softball - Great Northeast Athletic Conference
LOCATION:New Haven, CT
CATEGORIES:QuickScores, Softball Game
TRANSP:OPAQUE
BEGIN:VALARM
TRIGGER:-PT2H
ACTION:DISPLAY
DESCRIPTION:Albertus Magnus vs. Johnson & Wales
END:VALARM
END:VEVENT
BEGIN:VEVENT
UID:gnac-9583984-20120330@quickscores.com
DTSTAMP:20260422T032000Z
DTSTART;TZID=America/New_York:20120330
SUMMARY:Norwich vs. Johnson & Wales
DESCRIPTION:2012 Softball - Great Northeast Athletic Conference
LOCATION:Northfield, VT
CATEGORIES:QuickScores, Softball Game
TRANSP:OPAQUE
BEGIN:VALARM
TRIGGER:-PT2H
ACTION:DISPLAY
DESCRIPTION:Norwich vs. Johnson & Wales
END:VALARM
END:VEVENT
BEGIN:VEVENT
UID:gnac-9584045-20120331@quickscores.com
DTSTAMP:20260422T032000Z
DTSTART;TZID=America/New_York:20120331
SUMMARY:Lasell vs. Johnson & Wales
DESCRIPTION:2012 Softball - Great Northeast Athletic Conference
LOCATION:Lasell Newton
CATEGORIES:QuickScores, Softball Game
TRANSP:OPAQUE
BEGIN:VALARM
TRIGGER:-PT2H
ACTION:DISPLAY
DESCRIPTION:Lasell vs. Johnson & Wales
END:VALARM
END:VEVENT
BEGIN:VEVENT
UID:gnac-9584018-20120401@quickscores.com
DTSTAMP:20260422T032000Z
DTSTART;TZID=America/New_York:20120401
SUMMARY:Johnson & Wales vs. Saint Joseph CT
DESCRIPTION:2012 Softball - Great Northeast Athletic Conference
LOCATION:Providence, RI
CATEGORIES:QuickScores, Softball Game
TRANSP:OPAQUE
BEGIN:VALARM
TRIGGER:-PT2H
ACTION:DISPLAY
DESCRIPTION:Johnson & Wales vs. Saint Joseph CT
END:VALARM
END:VEVENT
BEGIN:VEVENT
UID:gnac-9584024-20120406@quickscores.com
DTSTAMP:20260422T032000Z
DTSTART;TZID=America/New_York:20120406
SUMMARY:Johnson & Wales vs. Emerson
DESCRIPTION:2012 Softball - Great Northeast Athletic Conference
LOCATION:Providence, RI
CATEGORIES:QuickScores, Softball Game
TRANSP:OPAQUE
BEGIN:VALARM
TRIGGER:-PT2H
ACTION:DISPLAY
DESCRIPTION:Johnson & Wales vs. Emerson
END:VALARM
END:VEVENT
BEGIN:VEVENT
UID:gnac-9584051-20120407@quickscores.com
DTSTAMP:20260422T032000Z
DTSTART;TZID=America/New_York:20120407
SUMMARY:Saint Joseph's ME vs. Johnson & Wales
DESCRIPTION:2012 Softball - Great Northeast Athletic Conference
LOCATION:Standish ME
CATEGORIES:QuickScores, Softball Game
TRANSP:OPAQUE
BEGIN:VALARM
TRIGGER:-PT2H
ACTION:DISPLAY
DESCRIPTION:Saint Joseph's ME vs. Johnson & Wales
END:VALARM
END:VEVENT
BEGIN:VEVENT
UID:gnac-9583999-20120413@quickscores.com
DTSTAMP:20260422T032000Z
DTSTART;TZID=America/New_York:20120413
SUMMARY:Johnson & Wales vs. Simmons
DESCRIPTION:2012 Softball - Great Northeast Athletic Conference
LOCATION:Providence, RI
CATEGORIES:QuickScores, Softball Game
TRANSP:OPAQUE
BEGIN:VALARM
TRIGGER:-PT2H
ACTION:DISPLAY
DESCRIPTION:Johnson & Wales vs. Simmons
END:VALARM
END:VEVENT
BEGIN:VEVENT
UID:gnac-9584062-20120414@quickscores.com
DTSTAMP:20260422T032000Z
DTSTART;TZID=America/New_York:20120414
SUMMARY:Johnson & Wales vs. Mount Ida
DESCRIPTION:2012 Softball - Great Northeast Athletic Conference
LOCATION:Providence, RI
CATEGORIES:QuickScores, Softball Game
TRANSP:OPAQUE
BEGIN:VALARM
TRIGGER:-PT2H
ACTION:DISPLAY
DESCRIPTION:Johnson & Wales vs. Mount Ida
END:VALARM
END:VEVENT
BEGIN:VEVENT
UID:gnac-9584037-20120415@quickscores.com
DTSTAMP:20260422T032000Z
DTSTART;TZID=America/New_York:20120415
SUMMARY:Pine Manor vs. Johnson & Wales
DESCRIPTION:2012 Softball - Great Northeast Athletic Conference
LOCATION:Chestnut Hill, MA
CATEGORIES:QuickScores, Softball Game
TRANSP:OPAQUE
BEGIN:VALARM
TRIGGER:-PT2H
ACTION:DISPLAY
DESCRIPTION:Pine Manor vs. Johnson & Wales
END:VALARM
END:VEVENT
BEGIN:VEVENT
UID:gnac-9583986-20120420@quickscores.com
DTSTAMP:20260422T032000Z
DTSTART;TZID=America/New_York:20120420
SUMMARY:Anna Maria vs. Johnson & Wales
DESCRIPTION:2012 Softball - Great Northeast Athletic Conference
LOCATION:Paxton MA
CATEGORIES:QuickScores, Softball Game
TRANSP:OPAQUE
BEGIN:VALARM
TRIGGER:-PT2H
ACTION:DISPLAY
DESCRIPTION:Anna Maria vs. Johnson & Wales
END:VALARM
END:VEVENT
BEGIN:VEVENT
UID:gnac-9584070-20120421@quickscores.com
DTSTAMP:20260422T032000Z
DTSTART;TZID=America/New_York:20120421
SUMMARY:Emmanuel vs. Johnson & Wales
DESCRIPTION:2012 Softball - Great Northeast Athletic Conference
LOCATION:Roberto Clemente Field
CATEGORIES:QuickScores, Softball Game
TRANSP:OPAQUE
BEGIN:VALARM
TRIGGER:-PT2H
ACTION:DISPLAY
DESCRIPTION:Emmanuel vs. Johnson & Wales
END:VALARM
END:VEVENT
END:VCALENDAR
