BEGIN:VCALENDAR
VERSION:2.0
PRODID:-//QuickScores.com//BQ Dynamic iCal Creator//EN
METHOD:PUBLISH
X-WR-CALNAME:Emmanuel - 2012 Softball - Spring 2012
X-WR-CALDESC:QuickScores game calendar
X-PUBLISHED-TTL:PT24H
REFRESH-INTERVAL;VALUE=DURATION:PT24H
CALSCALE:GREGORIAN
BEGIN:VTIMEZONE
TZID:America/New_York
X-LIC-LOCATION:America/New_York
BEGIN:DAYLIGHT
TZNAME:EDT
TZOFFSETFROM:-0500
TZOFFSETTO:-0400
DTSTART:19700308T020000
RRULE:FREQ=YEARLY;BYMONTH=3;BYDAY=2SU
END:DAYLIGHT
BEGIN:STANDARD
TZNAME:EST
TZOFFSETFROM:-0400
TZOFFSETTO:-0500
DTSTART:19701101T020000
RRULE:FREQ=YEARLY;BYMONTH=11;BYDAY=1SU
END:STANDARD
END:VTIMEZONE
BEGIN:VEVENT
UID:gnac-9583978-20120322@quickscores.com
DTSTAMP:20260422T072800Z
DTSTART;TZID=America/New_York:20120322
SUMMARY:Emmanuel vs. Anna Maria
DESCRIPTION:RC Field not available Friday --- 2012 Softball - Great Northeast Athletic Conference
LOCATION:Roberto Clemente Field
CATEGORIES:QuickScores, Softball Game
TRANSP:OPAQUE
BEGIN:VALARM
TRIGGER:-PT2H
ACTION:DISPLAY
DESCRIPTION:Emmanuel vs. Anna Maria
END:VALARM
END:VEVENT
BEGIN:VEVENT
UID:gnac-9584066-20120324@quickscores.com
DTSTAMP:20260422T072800Z
DTSTART;TZID=America/New_York:20120324
SUMMARY:Saint Joseph CT vs. Emmanuel
DESCRIPTION:EMM can share a bus w WLAX --- 2012 Softball - Great Northeast Athletic Conference
LOCATION:W. Hartford, CT
CATEGORIES:QuickScores, Softball Game
TRANSP:OPAQUE
BEGIN:VALARM
TRIGGER:-PT2H
ACTION:DISPLAY
DESCRIPTION:Saint Joseph CT vs. Emmanuel
END:VALARM
END:VEVENT
BEGIN:VEVENT
UID:gnac-9584012-20120325@quickscores.com
DTSTAMP:20260422T072800Z
DTSTART;TZID=America/New_York:20120325
SUMMARY:Rivier vs. Emmanuel
DESCRIPTION:2012 Softball - Great Northeast Athletic Conference
LOCATION:Nashua, NH
CATEGORIES:QuickScores, Softball Game
TRANSP:OPAQUE
BEGIN:VALARM
TRIGGER:-PT2H
ACTION:DISPLAY
DESCRIPTION:Rivier vs. Emmanuel
END:VALARM
END:VEVENT
BEGIN:VEVENT
UID:gnac-9584043-20120329@quickscores.com
DTSTAMP:20260422T072800Z
DTSTART;TZID=America/New_York:20120329
SUMMARY:Emmanuel vs. Pine Manor
DESCRIPTION:Field not available Friday --- 2012 Softball - Great Northeast Athletic Conference
LOCATION:Roberto Clemente Field
CATEGORIES:QuickScores, Softball Game
TRANSP:OPAQUE
BEGIN:VALARM
TRIGGER:-PT2H
ACTION:DISPLAY
DESCRIPTION:Emmanuel vs. Pine Manor
END:VALARM
END:VEVENT
BEGIN:VEVENT
UID:gnac-9584027-20120331@quickscores.com
DTSTAMP:20260422T072800Z
DTSTART;TZID=America/New_York:20120331
SUMMARY:Emmanuel vs. Mount Ida
DESCRIPTION:IDA has home LAX --- 2012 Softball - Great Northeast Athletic Conference
LOCATION:Roberto Clemente Field
CATEGORIES:QuickScores, Softball Game
TRANSP:OPAQUE
BEGIN:VALARM
TRIGGER:-PT2H
ACTION:DISPLAY
DESCRIPTION:Emmanuel vs. Mount Ida
END:VALARM
END:VEVENT
BEGIN:VEVENT
UID:gnac-9583994-20120401@quickscores.com
DTSTAMP:20260422T072800Z
DTSTART;TZID=America/New_York:20120401
SUMMARY:Emmanuel vs. Norwich
DESCRIPTION:2012 Softball - Great Northeast Athletic Conference
LOCATION:Roberto Clemente Field
CATEGORIES:QuickScores, Softball Game
TRANSP:OPAQUE
BEGIN:VALARM
TRIGGER:-PT2H
ACTION:DISPLAY
DESCRIPTION:Emmanuel vs. Norwich
END:VALARM
END:VEVENT
BEGIN:VEVENT
UID:gnac-9584004-20120405@quickscores.com
DTSTAMP:20260422T072800Z
DTSTART;TZID=America/New_York:20120405
SUMMARY:Emmanuel vs. Saint Joseph's ME
DESCRIPTION:Cannot play Good Friday --- 2012 Softball - Great Northeast Athletic Conference
LOCATION:Roberto Clemente Field
CATEGORIES:QuickScores, Softball Game
TRANSP:OPAQUE
BEGIN:VALARM
TRIGGER:-PT2H
ACTION:DISPLAY
DESCRIPTION:Emmanuel vs. Saint Joseph's ME
END:VALARM
END:VEVENT
BEGIN:VEVENT
UID:gnac-9584039-20120407@quickscores.com
DTSTAMP:20260422T072800Z
DTSTART;TZID=America/New_York:20120407
SUMMARY:Simmons vs. Emmanuel
DESCRIPTION:EMM has home LAX --- 2012 Softball - Great Northeast Athletic Conference
LOCATION:Simmons
CATEGORIES:QuickScores, Softball Game
TRANSP:OPAQUE
BEGIN:VALARM
TRIGGER:-PT2H
ACTION:DISPLAY
DESCRIPTION:Simmons vs. Emmanuel
END:VALARM
END:VEVENT
BEGIN:VEVENT
UID:gnac-9584058-20120413@quickscores.com
DTSTAMP:20260422T072800Z
DTSTART;TZID=America/New_York:20120413
SUMMARY:Albertus Magnus vs. Emmanuel
DESCRIPTION:2012 Softball - Great Northeast Athletic Conference
LOCATION:New Haven, CT
CATEGORIES:QuickScores, Softball Game
TRANSP:OPAQUE
BEGIN:VALARM
TRIGGER:-PT2H
ACTION:DISPLAY
DESCRIPTION:Albertus Magnus vs. Emmanuel
END:VALARM
END:VEVENT
BEGIN:VEVENT
UID:gnac-9584078-20120414@quickscores.com
DTSTAMP:20260422T072800Z
DTSTART;TZID=America/New_York:20120414
SUMMARY:Lasell vs. Emmanuel
DESCRIPTION:EMM has home LAX --- 2012 Softball - Great Northeast Athletic Conference
LOCATION:Lasell Newton
CATEGORIES:QuickScores, Softball Game
TRANSP:OPAQUE
BEGIN:VALARM
TRIGGER:-PT2H
ACTION:DISPLAY
DESCRIPTION:Lasell vs. Emmanuel
END:VALARM
END:VEVENT
BEGIN:VEVENT
UID:gnac-9583998-20120415@quickscores.com
DTSTAMP:20260422T072800Z
DTSTART;TZID=America/New_York:20120415
SUMMARY:Emmanuel vs. Emerson
DESCRIPTION:2012 Softball - Great Northeast Athletic Conference
LOCATION:Roberto Clemente Field
CATEGORIES:QuickScores, Softball Game
TRANSP:OPAQUE
BEGIN:VALARM
TRIGGER:-PT2H
ACTION:DISPLAY
DESCRIPTION:Emmanuel vs. Emerson
END:VALARM
END:VEVENT
BEGIN:VEVENT
UID:gnac-9584074-20120420@quickscores.com
DTSTAMP:20260422T072800Z
DTSTART;TZID=America/New_York:20120420
SUMMARY:Suffolk vs. Emmanuel
DESCRIPTION:2012 Softball - Great Northeast Athletic Conference
LOCATION:Puopolo Field Boston's North End
CATEGORIES:QuickScores, Softball Game
TRANSP:OPAQUE
BEGIN:VALARM
TRIGGER:-PT2H
ACTION:DISPLAY
DESCRIPTION:Suffolk vs. Emmanuel
END:VALARM
END:VEVENT
BEGIN:VEVENT
UID:gnac-9584070-20120421@quickscores.com
DTSTAMP:20260422T072800Z
DTSTART;TZID=America/New_York:20120421
SUMMARY:Emmanuel vs. Johnson & Wales
DESCRIPTION:2012 Softball - Great Northeast Athletic Conference
LOCATION:Roberto Clemente Field
CATEGORIES:QuickScores, Softball Game
TRANSP:OPAQUE
BEGIN:VALARM
TRIGGER:-PT2H
ACTION:DISPLAY
DESCRIPTION:Emmanuel vs. Johnson & Wales
END:VALARM
END:VEVENT
END:VCALENDAR
