BEGIN:VCALENDAR
VERSION:2.0
PRODID:-//QuickScores.com//BQ Dynamic iCal Creator//EN
METHOD:PUBLISH
X-WR-CALNAME:Albertus Magnus - 2012 Softball - Spring 2012
X-WR-CALDESC:QuickScores game calendar
X-PUBLISHED-TTL:PT24H
REFRESH-INTERVAL;VALUE=DURATION:PT24H
CALSCALE:GREGORIAN
BEGIN:VTIMEZONE
TZID:America/New_York
X-LIC-LOCATION:America/New_York
BEGIN:DAYLIGHT
TZNAME:EDT
TZOFFSETFROM:-0500
TZOFFSETTO:-0400
DTSTART:19700308T020000
RRULE:FREQ=YEARLY;BYMONTH=3;BYDAY=2SU
END:DAYLIGHT
BEGIN:STANDARD
TZNAME:EST
TZOFFSETFROM:-0400
TZOFFSETTO:-0500
DTSTART:19701101T020000
RRULE:FREQ=YEARLY;BYMONTH=11;BYDAY=1SU
END:STANDARD
END:VTIMEZONE
BEGIN:VEVENT
UID:gnac-9584049-20120323@quickscores.com
DTSTAMP:20260423T180200Z
DTSTART;TZID=America/New_York:20120323
SUMMARY:Albertus Magnus vs. Simmons
DESCRIPTION:2012 Softball - Great Northeast Athletic Conference
LOCATION:New Haven, CT
CATEGORIES:QuickScores, Softball Game
TRANSP:OPAQUE
BEGIN:VALARM
TRIGGER:-PT2H
ACTION:DISPLAY
DESCRIPTION:Albertus Magnus vs. Simmons
END:VALARM
END:VEVENT
BEGIN:VEVENT
UID:gnac-9584020-20120324@quickscores.com
DTSTAMP:20260423T180200Z
DTSTART;TZID=America/New_York:20120324
SUMMARY:Albertus Magnus vs. Saint Joseph's ME
DESCRIPTION:2012 Softball - Great Northeast Athletic Conference
LOCATION:New Haven, CT
CATEGORIES:QuickScores, Softball Game
TRANSP:OPAQUE
BEGIN:VALARM
TRIGGER:-PT2H
ACTION:DISPLAY
DESCRIPTION:Albertus Magnus vs. Saint Joseph's ME
END:VALARM
END:VEVENT
BEGIN:VEVENT
UID:gnac-9584007-20120325@quickscores.com
DTSTAMP:20260423T180200Z
DTSTART;TZID=America/New_York:20120325
SUMMARY:Albertus Magnus vs. Johnson & Wales
DESCRIPTION:2012 Softball - Great Northeast Athletic Conference
LOCATION:New Haven, CT
CATEGORIES:QuickScores, Softball Game
TRANSP:OPAQUE
BEGIN:VALARM
TRIGGER:-PT2H
ACTION:DISPLAY
DESCRIPTION:Albertus Magnus vs. Johnson & Wales
END:VALARM
END:VEVENT
BEGIN:VEVENT
UID:gnac-9584029-20120330@quickscores.com
DTSTAMP:20260423T180200Z
DTSTART;TZID=America/New_York:20120330
SUMMARY:Saint Joseph CT vs. Albertus Magnus
DESCRIPTION:2012 Softball - Great Northeast Athletic Conference
LOCATION:W. Hartford, CT
CATEGORIES:QuickScores, Softball Game
TRANSP:OPAQUE
BEGIN:VALARM
TRIGGER:-PT2H
ACTION:DISPLAY
DESCRIPTION:Saint Joseph CT vs. Albertus Magnus
END:VALARM
END:VEVENT
BEGIN:VEVENT
UID:gnac-9584064-20120331@quickscores.com
DTSTAMP:20260423T180200Z
DTSTART;TZID=America/New_York:20120331
SUMMARY:Rivier vs. Albertus Magnus
DESCRIPTION:2012 Softball - Great Northeast Athletic Conference
LOCATION:Nashua, NH
CATEGORIES:QuickScores, Softball Game
TRANSP:OPAQUE
BEGIN:VALARM
TRIGGER:-PT2H
ACTION:DISPLAY
DESCRIPTION:Rivier vs. Albertus Magnus
END:VALARM
END:VEVENT
BEGIN:VEVENT
UID:gnac-9584002-20120401@quickscores.com
DTSTAMP:20260423T180200Z
DTSTART;TZID=America/New_York:20120401
SUMMARY:Albertus Magnus vs. Lasell
DESCRIPTION:2012 Softball - Great Northeast Athletic Conference
LOCATION:New Haven, CT
CATEGORIES:QuickScores, Softball Game
TRANSP:OPAQUE
BEGIN:VALARM
TRIGGER:-PT2H
ACTION:DISPLAY
DESCRIPTION:Albertus Magnus vs. Lasell
END:VALARM
END:VEVENT
BEGIN:VEVENT
UID:gnac-9584053-20120406@quickscores.com
DTSTAMP:20260423T180200Z
DTSTART;TZID=America/New_York:20120406
SUMMARY:Pine Manor vs. Albertus Magnus
DESCRIPTION:2012 Softball - Great Northeast Athletic Conference
LOCATION:Chestnut Hill, MA
CATEGORIES:QuickScores, Softball Game
TRANSP:OPAQUE
BEGIN:VALARM
TRIGGER:-PT2H
ACTION:DISPLAY
DESCRIPTION:Pine Manor vs. Albertus Magnus
END:VALARM
END:VEVENT
BEGIN:VEVENT
UID:gnac-9584041-20120407@quickscores.com
DTSTAMP:20260423T180200Z
DTSTART;TZID=America/New_York:20120407
SUMMARY:Norwich vs. Albertus Magnus
DESCRIPTION:2012 Softball - Great Northeast Athletic Conference
LOCATION:Northfield, VT
CATEGORIES:QuickScores, Softball Game
TRANSP:OPAQUE
BEGIN:VALARM
TRIGGER:-PT2H
ACTION:DISPLAY
DESCRIPTION:Norwich vs. Albertus Magnus
END:VALARM
END:VEVENT
BEGIN:VEVENT
UID:gnac-9584058-20120413@quickscores.com
DTSTAMP:20260423T180200Z
DTSTART;TZID=America/New_York:20120413
SUMMARY:Albertus Magnus vs. Emmanuel
DESCRIPTION:2012 Softball - Great Northeast Athletic Conference
LOCATION:New Haven, CT
CATEGORIES:QuickScores, Softball Game
TRANSP:OPAQUE
BEGIN:VALARM
TRIGGER:-PT2H
ACTION:DISPLAY
DESCRIPTION:Albertus Magnus vs. Emmanuel
END:VALARM
END:VEVENT
BEGIN:VEVENT
UID:gnac-9584036-20120414@quickscores.com
DTSTAMP:20260423T180200Z
DTSTART;TZID=America/New_York:20120414
SUMMARY:Suffolk vs. Albertus Magnus
DESCRIPTION:2012 Softball - Great Northeast Athletic Conference
LOCATION:Puopolo Field Boston's North End
CATEGORIES:QuickScores, Softball Game
TRANSP:OPAQUE
BEGIN:VALARM
TRIGGER:-PT2H
ACTION:DISPLAY
DESCRIPTION:Suffolk vs. Albertus Magnus
END:VALARM
END:VEVENT
BEGIN:VEVENT
UID:gnac-9584046-20120415@quickscores.com
DTSTAMP:20260423T180200Z
DTSTART;TZID=America/New_York:20120415
SUMMARY:Albertus Magnus vs. Anna Maria
DESCRIPTION:2012 Softball - Great Northeast Athletic Conference
LOCATION:New Haven, CT
CATEGORIES:QuickScores, Softball Game
TRANSP:OPAQUE
BEGIN:VALARM
TRIGGER:-PT2H
ACTION:DISPLAY
DESCRIPTION:Albertus Magnus vs. Anna Maria
END:VALARM
END:VEVENT
BEGIN:VEVENT
UID:gnac-9584000-20120420@quickscores.com
DTSTAMP:20260423T180200Z
DTSTART;TZID=America/New_York:20120420
SUMMARY:Albertus Magnus vs. Emerson
DESCRIPTION:2012 Softball - Great Northeast Athletic Conference
LOCATION:New Haven, CT
CATEGORIES:QuickScores, Softball Game
TRANSP:OPAQUE
BEGIN:VALARM
TRIGGER:-PT2H
ACTION:DISPLAY
DESCRIPTION:Albertus Magnus vs. Emerson
END:VALARM
END:VEVENT
BEGIN:VEVENT
UID:gnac-9584021-20120421@quickscores.com
DTSTAMP:20260423T180200Z
DTSTART;TZID=America/New_York:20120421
SUMMARY:Mount Ida vs. Albertus Magnus
DESCRIPTION:2012 Softball - Great Northeast Athletic Conference
LOCATION:Mount Ida
CATEGORIES:QuickScores, Softball Game
TRANSP:OPAQUE
BEGIN:VALARM
TRIGGER:-PT2H
ACTION:DISPLAY
DESCRIPTION:Mount Ida vs. Albertus Magnus
END:VALARM
END:VEVENT
END:VCALENDAR
