BEGIN:VCALENDAR
VERSION:2.0
PRODID:-//QuickScores.com//BQ Dynamic iCal Creator//EN
METHOD:PUBLISH
X-WR-CALNAME:Saint Joseph&#039;s ME - 2027 Baseball (ad Council Approved 2/20/26) - Spring 2027
X-WR-CALDESC:QuickScores game calendar
X-PUBLISHED-TTL:PT24H
REFRESH-INTERVAL;VALUE=DURATION:PT24H
CALSCALE:GREGORIAN
BEGIN:VTIMEZONE
TZID:America/New_York
X-LIC-LOCATION:America/New_York
BEGIN:DAYLIGHT
TZNAME:EDT
TZOFFSETFROM:-0500
TZOFFSETTO:-0400
DTSTART:19700308T020000
RRULE:FREQ=YEARLY;BYMONTH=3;BYDAY=2SU
END:DAYLIGHT
BEGIN:STANDARD
TZNAME:EST
TZOFFSETFROM:-0400
TZOFFSETTO:-0500
DTSTART:19701101T020000
RRULE:FREQ=YEARLY;BYMONTH=11;BYDAY=1SU
END:STANDARD
END:VTIMEZONE
BEGIN:VEVENT
UID:gnac-73206655-20270327@quickscores.com
DTSTAMP:20260422T180600Z
DTSTART;TZID=America/New_York:20270327
SUMMARY:Saint Joseph's ME vs. Colby Sawyer
DESCRIPTION:2027 Baseball (ad Council Approved 2/20/26) - Great Northeast Athletic Conference
LOCATION:Standish ME
CATEGORIES:QuickScores, Baseball Game
TRANSP:OPAQUE
BEGIN:VALARM
TRIGGER:-PT2H
ACTION:DISPLAY
DESCRIPTION:Saint Joseph's ME vs. Colby Sawyer
END:VALARM
END:VEVENT
BEGIN:VEVENT
UID:gnac-73206618-20270404@quickscores.com
DTSTAMP:20260422T180600Z
DTSTART;TZID=America/New_York:20270404
SUMMARY:Saint Joseph's ME vs. Rivier
DESCRIPTION:2027 Baseball (ad Council Approved 2/20/26) - Great Northeast Athletic Conference
LOCATION:Standish ME
CATEGORIES:QuickScores, Baseball Game
TRANSP:OPAQUE
BEGIN:VALARM
TRIGGER:-PT2H
ACTION:DISPLAY
DESCRIPTION:Saint Joseph's ME vs. Rivier
END:VALARM
END:VEVENT
BEGIN:VEVENT
UID:gnac-73206649-20270410@quickscores.com
DTSTAMP:20260422T180600Z
DTSTART;TZID=America/New_York:20270410
SUMMARY:Saint Joseph CT vs. Saint Joseph's ME
DESCRIPTION:2027 Baseball (ad Council Approved 2/20/26) - Great Northeast Athletic Conference
LOCATION:W. Hartford, CT
CATEGORIES:QuickScores, Baseball Game
TRANSP:OPAQUE
BEGIN:VALARM
TRIGGER:-PT2H
ACTION:DISPLAY
DESCRIPTION:Saint Joseph CT vs. Saint Joseph's ME
END:VALARM
END:VEVENT
BEGIN:VEVENT
UID:gnac-73206669-20270411@quickscores.com
DTSTAMP:20260422T180600Z
DTSTART;TZID=America/New_York:20270411
SUMMARY:Saint Joseph's ME vs. Albertus Magnus
DESCRIPTION:2027 Baseball (ad Council Approved 2/20/26) - Great Northeast Athletic Conference
LOCATION:Standish ME
CATEGORIES:QuickScores, Baseball Game
TRANSP:OPAQUE
BEGIN:VALARM
TRIGGER:-PT2H
ACTION:DISPLAY
DESCRIPTION:Saint Joseph's ME vs. Albertus Magnus
END:VALARM
END:VEVENT
BEGIN:VEVENT
UID:gnac-73206628-20270417@quickscores.com
DTSTAMP:20260422T180600Z
DTSTART;TZID=America/New_York:20270417
SUMMARY:Elms vs. Saint Joseph's ME
DESCRIPTION:2027 Baseball (ad Council Approved 2/20/26) - Great Northeast Athletic Conference
LOCATION:Mackenzie Stadium Holyoke
CATEGORIES:QuickScores, Baseball Game
TRANSP:OPAQUE
BEGIN:VALARM
TRIGGER:-PT2H
ACTION:DISPLAY
DESCRIPTION:Elms vs. Saint Joseph's ME
END:VALARM
END:VEVENT
BEGIN:VEVENT
UID:gnac-73206621-20270418@quickscores.com
DTSTAMP:20260422T180600Z
DTSTART;TZID=America/New_York:20270418
SUMMARY:Lasell vs. Saint Joseph's ME
DESCRIPTION:2027 Baseball (ad Council Approved 2/20/26) - Great Northeast Athletic Conference
LOCATION:Lasell Newton
CATEGORIES:QuickScores, Baseball Game
TRANSP:OPAQUE
BEGIN:VALARM
TRIGGER:-PT2H
ACTION:DISPLAY
DESCRIPTION:Lasell vs. Saint Joseph's ME
END:VALARM
END:VEVENT
BEGIN:VEVENT
UID:gnac-73206677-20270424@quickscores.com
DTSTAMP:20260422T180600Z
DTSTART;TZID=America/New_York:20270424
SUMMARY:Saint Joseph's ME vs. Norwich
DESCRIPTION:2027 Baseball (ad Council Approved 2/20/26) - Great Northeast Athletic Conference
LOCATION:Standish ME
CATEGORIES:QuickScores, Baseball Game
TRANSP:OPAQUE
BEGIN:VALARM
TRIGGER:-PT2H
ACTION:DISPLAY
DESCRIPTION:Saint Joseph's ME vs. Norwich
END:VALARM
END:VEVENT
BEGIN:VEVENT
UID:gnac-73206645-20270425@quickscores.com
DTSTAMP:20260422T180600Z
DTSTART;TZID=America/New_York:20270425
SUMMARY:Saint Joseph's ME vs. Mitchell
DESCRIPTION:2027 Baseball (ad Council Approved 2/20/26) - Great Northeast Athletic Conference
LOCATION:Standish ME
CATEGORIES:QuickScores, Baseball Game
TRANSP:OPAQUE
BEGIN:VALARM
TRIGGER:-PT2H
ACTION:DISPLAY
DESCRIPTION:Saint Joseph's ME vs. Mitchell
END:VALARM
END:VEVENT
BEGIN:VEVENT
UID:gnac-73206608-20270501@quickscores.com
DTSTAMP:20260422T180600Z
DTSTART;TZID=America/New_York:20270501
SUMMARY:Dean vs. Saint Joseph's ME
DESCRIPTION:2027 Baseball (ad Council Approved 2/20/26) - Great Northeast Athletic Conference
LOCATION:Franklin MA
CATEGORIES:QuickScores, Baseball Game
TRANSP:OPAQUE
BEGIN:VALARM
TRIGGER:-PT2H
ACTION:DISPLAY
DESCRIPTION:Dean vs. Saint Joseph's ME
END:VALARM
END:VEVENT
BEGIN:VEVENT
UID:gnac-73206665-20270502@quickscores.com
DTSTAMP:20260422T180600Z
DTSTART;TZID=America/New_York:20270502
SUMMARY:New England vs. Saint Joseph's ME
DESCRIPTION:2027 Baseball (ad Council Approved 2/20/26) - Great Northeast Athletic Conference
LOCATION:Henniker NH
CATEGORIES:QuickScores, Baseball Game
TRANSP:OPAQUE
BEGIN:VALARM
TRIGGER:-PT2H
ACTION:DISPLAY
DESCRIPTION:New England vs. Saint Joseph's ME
END:VALARM
END:VEVENT
END:VCALENDAR
