BEGIN:VCALENDAR
VERSION:2.0
PRODID:-//QuickScores.com//BQ Dynamic iCal Creator//EN
METHOD:PUBLISH
X-WR-CALNAME:Rivier - 2026 Men&rsquo;s Lacrosse (5/1/25 Ad Approved) - Spring 2026
X-WR-CALDESC:QuickScores game calendar
X-PUBLISHED-TTL:PT24H
REFRESH-INTERVAL;VALUE=DURATION:PT24H
CALSCALE:GREGORIAN
BEGIN:VTIMEZONE
TZID:America/New_York
X-LIC-LOCATION:America/New_York
BEGIN:DAYLIGHT
TZNAME:EDT
TZOFFSETFROM:-0500
TZOFFSETTO:-0400
DTSTART:19700308T020000
RRULE:FREQ=YEARLY;BYMONTH=3;BYDAY=2SU
END:DAYLIGHT
BEGIN:STANDARD
TZNAME:EST
TZOFFSETFROM:-0400
TZOFFSETTO:-0500
DTSTART:19701101T020000
RRULE:FREQ=YEARLY;BYMONTH=11;BYDAY=1SU
END:STANDARD
END:VTIMEZONE
BEGIN:VEVENT
UID:gnac-67809622-20260307@quickscores.com
DTSTAMP:20260424T092400Z
DTSTART;TZID=America/New_York:20260307
SUMMARY:Rivier vs. Dean
DESCRIPTION:2026 Men’s Lacrosse (5/1/25 Ad Approved) - Great Northeast Athletic Conference
LOCATION:Nashua, NH
CATEGORIES:QuickScores, Lacrosse Game
TRANSP:OPAQUE
BEGIN:VALARM
TRIGGER:-PT2H
ACTION:DISPLAY
DESCRIPTION:Rivier vs. Dean
END:VALARM
END:VEVENT
BEGIN:VEVENT
UID:gnac-67809669-20260314@quickscores.com
DTSTAMP:20260424T092400Z
DTSTART;TZID=America/New_York:20260314
SUMMARY:Mitchell vs. Rivier
DESCRIPTION:2026 Men’s Lacrosse (5/1/25 Ad Approved) - Great Northeast Athletic Conference
LOCATION:Mitchell College New London CT
CATEGORIES:QuickScores, Lacrosse Game
TRANSP:OPAQUE
BEGIN:VALARM
TRIGGER:-PT2H
ACTION:DISPLAY
DESCRIPTION:Mitchell vs. Rivier
END:VALARM
END:VEVENT
BEGIN:VEVENT
UID:gnac-67809667-20260318@quickscores.com
DTSTAMP:20260424T092400Z
DTSTART;TZID=America/New_York:20260318
SUMMARY:Colby Sawyer vs. Rivier
DESCRIPTION:2026 Men’s Lacrosse (5/1/25 Ad Approved) - Great Northeast Athletic Conference
LOCATION:New London NH
CATEGORIES:QuickScores, Lacrosse Game
TRANSP:OPAQUE
BEGIN:VALARM
TRIGGER:-PT2H
ACTION:DISPLAY
DESCRIPTION:Colby Sawyer vs. Rivier
END:VALARM
END:VEVENT
BEGIN:VEVENT
UID:gnac-67809660-20260321@quickscores.com
DTSTAMP:20260424T092400Z
DTSTART;TZID=America/New_York:20260321
SUMMARY:Rivier vs. Albertus Magnus
DESCRIPTION:2026 Men’s Lacrosse (5/1/25 Ad Approved) - Great Northeast Athletic Conference
LOCATION:Nashua, NH
CATEGORIES:QuickScores, Lacrosse Game
TRANSP:OPAQUE
BEGIN:VALARM
TRIGGER:-PT2H
ACTION:DISPLAY
DESCRIPTION:Rivier vs. Albertus Magnus
END:VALARM
END:VEVENT
BEGIN:VEVENT
UID:gnac-67809630-20260324@quickscores.com
DTSTAMP:20260424T092400Z
DTSTART;TZID=America/New_York:20260324
SUMMARY:Rivier vs. Regis
DESCRIPTION:2026 Men’s Lacrosse (5/1/25 Ad Approved) - Great Northeast Athletic Conference
LOCATION:Nashua, NH
CATEGORIES:QuickScores, Lacrosse Game
TRANSP:OPAQUE
BEGIN:VALARM
TRIGGER:-PT2H
ACTION:DISPLAY
DESCRIPTION:Rivier vs. Regis
END:VALARM
END:VEVENT
BEGIN:VEVENT
UID:gnac-67809668-20260328@quickscores.com
DTSTAMP:20260424T092400Z
DTSTART;TZID=America/New_York:20260328
SUMMARY:Lasell vs. Rivier
DESCRIPTION:2026 Men’s Lacrosse (5/1/25 Ad Approved) - Great Northeast Athletic Conference
LOCATION:Lasell Newton
CATEGORIES:QuickScores, Lacrosse Game
TRANSP:OPAQUE
BEGIN:VALARM
TRIGGER:-PT2H
ACTION:DISPLAY
DESCRIPTION:Lasell vs. Rivier
END:VALARM
END:VEVENT
BEGIN:VEVENT
UID:gnac-67809643-20260404@quickscores.com
DTSTAMP:20260424T092400Z
DTSTART;TZID=America/New_York:20260404
SUMMARY:Rivier vs. Norwich
DESCRIPTION:2026 Men’s Lacrosse (5/1/25 Ad Approved) - Great Northeast Athletic Conference
LOCATION:Nashua, NH
CATEGORIES:QuickScores, Lacrosse Game
TRANSP:OPAQUE
BEGIN:VALARM
TRIGGER:-PT2H
ACTION:DISPLAY
DESCRIPTION:Rivier vs. Norwich
END:VALARM
END:VEVENT
BEGIN:VEVENT
UID:gnac-67809611-20260407@quickscores.com
DTSTAMP:20260424T092400Z
DTSTART;TZID=America/New_York:20260407
SUMMARY:New England vs. Rivier
DESCRIPTION:2026 Men’s Lacrosse (5/1/25 Ad Approved) - Great Northeast Athletic Conference
LOCATION:Henniker NH
CATEGORIES:QuickScores, Lacrosse Game
TRANSP:OPAQUE
BEGIN:VALARM
TRIGGER:-PT2H
ACTION:DISPLAY
DESCRIPTION:New England vs. Rivier
END:VALARM
END:VEVENT
BEGIN:VEVENT
UID:gnac-67809634-20260411@quickscores.com
DTSTAMP:20260424T092400Z
DTSTART;TZID=America/New_York:20260411
SUMMARY:Rivier vs. Saint Joseph CT
DESCRIPTION:2026 Men’s Lacrosse (5/1/25 Ad Approved) - Great Northeast Athletic Conference
LOCATION:Nashua, NH
CATEGORIES:QuickScores, Lacrosse Game
TRANSP:OPAQUE
BEGIN:VALARM
TRIGGER:-PT2H
ACTION:DISPLAY
DESCRIPTION:Rivier vs. Saint Joseph CT
END:VALARM
END:VEVENT
BEGIN:VEVENT
UID:gnac-67809607-20260415@quickscores.com
DTSTAMP:20260424T092400Z
DTSTART;TZID=America/New_York:20260415
SUMMARY:Saint Joseph's ME vs. Rivier
DESCRIPTION:2026 Men’s Lacrosse (5/1/25 Ad Approved) - Great Northeast Athletic Conference
LOCATION:Standish ME
CATEGORIES:QuickScores, Lacrosse Game
TRANSP:OPAQUE
BEGIN:VALARM
TRIGGER:-PT2H
ACTION:DISPLAY
DESCRIPTION:Saint Joseph's ME vs. Rivier
END:VALARM
END:VEVENT
BEGIN:VEVENT
UID:gnac-67809601-20260418@quickscores.com
DTSTAMP:20260424T092400Z
DTSTART;TZID=America/New_York:20260418
SUMMARY:Emmanuel vs. Rivier
DESCRIPTION:2026 Men’s Lacrosse (5/1/25 Ad Approved) - Great Northeast Athletic Conference
LOCATION:Roberto Clemente Field
CATEGORIES:QuickScores, Lacrosse Game
TRANSP:OPAQUE
BEGIN:VALARM
TRIGGER:-PT2H
ACTION:DISPLAY
DESCRIPTION:Emmanuel vs. Rivier
END:VALARM
END:VEVENT
BEGIN:VEVENT
UID:gnac-67809606-20260421@quickscores.com
DTSTAMP:20260424T092400Z
DTSTART;TZID=America/New_York:20260421
SUMMARY:Rivier vs. Elms
DESCRIPTION:2026 Men’s Lacrosse (5/1/25 Ad Approved) - Great Northeast Athletic Conference
LOCATION:Nashua, NH
CATEGORIES:QuickScores, Lacrosse Game
TRANSP:OPAQUE
BEGIN:VALARM
TRIGGER:-PT2H
ACTION:DISPLAY
DESCRIPTION:Rivier vs. Elms
END:VALARM
END:VEVENT
END:VCALENDAR
