BEGIN:VCALENDAR
VERSION:2.0
PRODID:-//QuickScores.com//BQ Dynamic iCal Creator//EN
METHOD:PUBLISH
X-WR-CALNAME:Norwich - 2026 Men&rsquo;s Lacrosse (5/1/25 Ad Approved) - Spring 2026
X-WR-CALDESC:QuickScores game calendar
X-PUBLISHED-TTL:PT24H
REFRESH-INTERVAL;VALUE=DURATION:PT24H
CALSCALE:GREGORIAN
BEGIN:VTIMEZONE
TZID:America/New_York
X-LIC-LOCATION:America/New_York
BEGIN:DAYLIGHT
TZNAME:EDT
TZOFFSETFROM:-0500
TZOFFSETTO:-0400
DTSTART:19700308T020000
RRULE:FREQ=YEARLY;BYMONTH=3;BYDAY=2SU
END:DAYLIGHT
BEGIN:STANDARD
TZNAME:EST
TZOFFSETFROM:-0400
TZOFFSETTO:-0500
DTSTART:19701101T020000
RRULE:FREQ=YEARLY;BYMONTH=11;BYDAY=1SU
END:STANDARD
END:VTIMEZONE
BEGIN:VEVENT
UID:gnac-67809619-20260307@quickscores.com
DTSTAMP:20260423T202700Z
DTSTART;TZID=America/New_York:20260307
SUMMARY:Saint Joseph CT vs. Norwich
DESCRIPTION:2026 Men’s Lacrosse (5/1/25 Ad Approved) - Great Northeast Athletic Conference
LOCATION:W. Hartford, CT
CATEGORIES:QuickScores, Lacrosse Game
TRANSP:OPAQUE
BEGIN:VALARM
TRIGGER:-PT2H
ACTION:DISPLAY
DESCRIPTION:Saint Joseph CT vs. Norwich
END:VALARM
END:VEVENT
BEGIN:VEVENT
UID:gnac-67809665-20260310@quickscores.com
DTSTAMP:20260423T202700Z
DTSTART;TZID=America/New_York:20260310
SUMMARY:Norwich vs. Lasell
DESCRIPTION:2026 Men’s Lacrosse (5/1/25 Ad Approved) - Great Northeast Athletic Conference
LOCATION:Northfield, VT
CATEGORIES:QuickScores, Lacrosse Game
TRANSP:OPAQUE
BEGIN:VALARM
TRIGGER:-PT2H
ACTION:DISPLAY
DESCRIPTION:Norwich vs. Lasell
END:VALARM
END:VEVENT
BEGIN:VEVENT
UID:gnac-67809664-20260314@quickscores.com
DTSTAMP:20260423T202700Z
DTSTART;TZID=America/New_York:20260314
SUMMARY:Norwich vs. Albertus Magnus
DESCRIPTION:2026 Men’s Lacrosse (5/1/25 Ad Approved) - Great Northeast Athletic Conference
LOCATION:Northfield, VT
CATEGORIES:QuickScores, Lacrosse Game
TRANSP:OPAQUE
BEGIN:VALARM
TRIGGER:-PT2H
ACTION:DISPLAY
DESCRIPTION:Norwich vs. Albertus Magnus
END:VALARM
END:VEVENT
BEGIN:VEVENT
UID:gnac-67809604-20260321@quickscores.com
DTSTAMP:20260423T202700Z
DTSTART;TZID=America/New_York:20260321
SUMMARY:Norwich vs. Saint Joseph's ME
DESCRIPTION:2026 Men’s Lacrosse (5/1/25 Ad Approved) - Great Northeast Athletic Conference
LOCATION:Northfield, VT
CATEGORIES:QuickScores, Lacrosse Game
TRANSP:OPAQUE
BEGIN:VALARM
TRIGGER:-PT2H
ACTION:DISPLAY
DESCRIPTION:Norwich vs. Saint Joseph's ME
END:VALARM
END:VEVENT
BEGIN:VEVENT
UID:gnac-67809666-20260328@quickscores.com
DTSTAMP:20260423T202700Z
DTSTART;TZID=America/New_York:20260328
SUMMARY:Mitchell vs. Norwich
DESCRIPTION:2026 Men’s Lacrosse (5/1/25 Ad Approved) - Great Northeast Athletic Conference
LOCATION:Mitchell College New London CT
CATEGORIES:QuickScores, Lacrosse Game
TRANSP:OPAQUE
BEGIN:VALARM
TRIGGER:-PT2H
ACTION:DISPLAY
DESCRIPTION:Mitchell vs. Norwich
END:VALARM
END:VEVENT
BEGIN:VEVENT
UID:gnac-67809621-20260401@quickscores.com
DTSTAMP:20260423T202700Z
DTSTART;TZID=America/New_York:20260401
SUMMARY:New England vs. Norwich
DESCRIPTION:2026 Men’s Lacrosse (5/1/25 Ad Approved) - Great Northeast Athletic Conference
LOCATION:Henniker NH
CATEGORIES:QuickScores, Lacrosse Game
TRANSP:OPAQUE
BEGIN:VALARM
TRIGGER:-PT2H
ACTION:DISPLAY
DESCRIPTION:New England vs. Norwich
END:VALARM
END:VEVENT
BEGIN:VEVENT
UID:gnac-67809643-20260404@quickscores.com
DTSTAMP:20260423T202700Z
DTSTART;TZID=America/New_York:20260404
SUMMARY:Rivier vs. Norwich
DESCRIPTION:2026 Men’s Lacrosse (5/1/25 Ad Approved) - Great Northeast Athletic Conference
LOCATION:Nashua, NH
CATEGORIES:QuickScores, Lacrosse Game
TRANSP:OPAQUE
BEGIN:VALARM
TRIGGER:-PT2H
ACTION:DISPLAY
DESCRIPTION:Rivier vs. Norwich
END:VALARM
END:VEVENT
BEGIN:VEVENT
UID:gnac-67809633-20260407@quickscores.com
DTSTAMP:20260423T202700Z
DTSTART;TZID=America/New_York:20260407
SUMMARY:Norwich vs. Regis
DESCRIPTION:2026 Men’s Lacrosse (5/1/25 Ad Approved) - Great Northeast Athletic Conference
LOCATION:Northfield, VT
CATEGORIES:QuickScores, Lacrosse Game
TRANSP:OPAQUE
BEGIN:VALARM
TRIGGER:-PT2H
ACTION:DISPLAY
DESCRIPTION:Norwich vs. Regis
END:VALARM
END:VEVENT
BEGIN:VEVENT
UID:gnac-67809638-20260411@quickscores.com
DTSTAMP:20260423T202700Z
DTSTART;TZID=America/New_York:20260411
SUMMARY:Norwich vs. Elms
DESCRIPTION:2026 Men’s Lacrosse (5/1/25 Ad Approved) - Great Northeast Athletic Conference
LOCATION:Northfield, VT
CATEGORIES:QuickScores, Lacrosse Game
TRANSP:OPAQUE
BEGIN:VALARM
TRIGGER:-PT2H
ACTION:DISPLAY
DESCRIPTION:Norwich vs. Elms
END:VALARM
END:VEVENT
BEGIN:VEVENT
UID:gnac-67809631-20260415@quickscores.com
DTSTAMP:20260423T202700Z
DTSTART;TZID=America/New_York:20260415
SUMMARY:Emmanuel vs. Norwich
DESCRIPTION:2026 Men’s Lacrosse (5/1/25 Ad Approved) - Great Northeast Athletic Conference
LOCATION:Roberto Clemente Field
CATEGORIES:QuickScores, Lacrosse Game
TRANSP:OPAQUE
BEGIN:VALARM
TRIGGER:-PT2H
ACTION:DISPLAY
DESCRIPTION:Emmanuel vs. Norwich
END:VALARM
END:VEVENT
BEGIN:VEVENT
UID:gnac-67809597-20260418@quickscores.com
DTSTAMP:20260423T202700Z
DTSTART;TZID=America/New_York:20260418
SUMMARY:Dean vs. Norwich
DESCRIPTION:2026 Men’s Lacrosse (5/1/25 Ad Approved) - Great Northeast Athletic Conference
LOCATION:Franklin MA
CATEGORIES:QuickScores, Lacrosse Game
TRANSP:OPAQUE
BEGIN:VALARM
TRIGGER:-PT2H
ACTION:DISPLAY
DESCRIPTION:Dean vs. Norwich
END:VALARM
END:VEVENT
BEGIN:VEVENT
UID:gnac-67809658-20260421@quickscores.com
DTSTAMP:20260423T202700Z
DTSTART;TZID=America/New_York:20260421
SUMMARY:Norwich vs. Colby Sawyer
DESCRIPTION:2026 Men’s Lacrosse (5/1/25 Ad Approved) - Great Northeast Athletic Conference
LOCATION:Northfield, VT
CATEGORIES:QuickScores, Lacrosse Game
TRANSP:OPAQUE
BEGIN:VALARM
TRIGGER:-PT2H
ACTION:DISPLAY
DESCRIPTION:Norwich vs. Colby Sawyer
END:VALARM
END:VEVENT
END:VCALENDAR
