BEGIN:VCALENDAR
VERSION:2.0
PRODID:-//QuickScores.com//BQ Dynamic iCal Creator//EN
METHOD:PUBLISH
X-WR-CALNAME:Mitchell - 2026 Men&rsquo;s Lacrosse (5/1/25 Ad Approved) - Spring 2026
X-WR-CALDESC:QuickScores game calendar
X-PUBLISHED-TTL:PT24H
REFRESH-INTERVAL;VALUE=DURATION:PT24H
CALSCALE:GREGORIAN
BEGIN:VTIMEZONE
TZID:America/New_York
X-LIC-LOCATION:America/New_York
BEGIN:DAYLIGHT
TZNAME:EDT
TZOFFSETFROM:-0500
TZOFFSETTO:-0400
DTSTART:19700308T020000
RRULE:FREQ=YEARLY;BYMONTH=3;BYDAY=2SU
END:DAYLIGHT
BEGIN:STANDARD
TZNAME:EST
TZOFFSETFROM:-0400
TZOFFSETTO:-0500
DTSTART:19701101T020000
RRULE:FREQ=YEARLY;BYMONTH=11;BYDAY=1SU
END:STANDARD
END:VTIMEZONE
BEGIN:VEVENT
UID:gnac-67809637-20260307@quickscores.com
DTSTAMP:20260423T152000Z
DTSTART;TZID=America/New_York:20260307
SUMMARY:Saint Joseph's ME vs. Mitchell
DESCRIPTION:2026 Men’s Lacrosse (5/1/25 Ad Approved) - Great Northeast Athletic Conference
LOCATION:Standish ME
CATEGORIES:QuickScores, Lacrosse Game
TRANSP:OPAQUE
BEGIN:VALARM
TRIGGER:-PT2H
ACTION:DISPLAY
DESCRIPTION:Saint Joseph's ME vs. Mitchell
END:VALARM
END:VEVENT
BEGIN:VEVENT
UID:gnac-67809613-20260310@quickscores.com
DTSTAMP:20260423T152000Z
DTSTART;TZID=America/New_York:20260310
SUMMARY:Mitchell vs. Elms
DESCRIPTION:2026 Men’s Lacrosse (5/1/25 Ad Approved) - Great Northeast Athletic Conference
LOCATION:Mitchell College New London CT
CATEGORIES:QuickScores, Lacrosse Game
TRANSP:OPAQUE
BEGIN:VALARM
TRIGGER:-PT2H
ACTION:DISPLAY
DESCRIPTION:Mitchell vs. Elms
END:VALARM
END:VEVENT
BEGIN:VEVENT
UID:gnac-67809669-20260314@quickscores.com
DTSTAMP:20260423T152000Z
DTSTART;TZID=America/New_York:20260314
SUMMARY:Mitchell vs. Rivier
DESCRIPTION:2026 Men’s Lacrosse (5/1/25 Ad Approved) - Great Northeast Athletic Conference
LOCATION:Mitchell College New London CT
CATEGORIES:QuickScores, Lacrosse Game
TRANSP:OPAQUE
BEGIN:VALARM
TRIGGER:-PT2H
ACTION:DISPLAY
DESCRIPTION:Mitchell vs. Rivier
END:VALARM
END:VEVENT
BEGIN:VEVENT
UID:gnac-67809599-20260321@quickscores.com
DTSTAMP:20260423T152000Z
DTSTART;TZID=America/New_York:20260321
SUMMARY:Lasell vs. Mitchell
DESCRIPTION:2026 Men’s Lacrosse (5/1/25 Ad Approved) - Great Northeast Athletic Conference
LOCATION:Lasell Newton
CATEGORIES:QuickScores, Lacrosse Game
TRANSP:OPAQUE
BEGIN:VALARM
TRIGGER:-PT2H
ACTION:DISPLAY
DESCRIPTION:Lasell vs. Mitchell
END:VALARM
END:VEVENT
BEGIN:VEVENT
UID:gnac-67809666-20260328@quickscores.com
DTSTAMP:20260423T152000Z
DTSTART;TZID=America/New_York:20260328
SUMMARY:Mitchell vs. Norwich
DESCRIPTION:2026 Men’s Lacrosse (5/1/25 Ad Approved) - Great Northeast Athletic Conference
LOCATION:Mitchell College New London CT
CATEGORIES:QuickScores, Lacrosse Game
TRANSP:OPAQUE
BEGIN:VALARM
TRIGGER:-PT2H
ACTION:DISPLAY
DESCRIPTION:Mitchell vs. Norwich
END:VALARM
END:VEVENT
BEGIN:VEVENT
UID:gnac-67809610-20260401@quickscores.com
DTSTAMP:20260423T152000Z
DTSTART;TZID=America/New_York:20260401
SUMMARY:Regis vs. Mitchell
DESCRIPTION:2026 Men’s Lacrosse (5/1/25 Ad Approved) - Great Northeast Athletic Conference
LOCATION:Regis Weston MA
CATEGORIES:QuickScores, Lacrosse Game
TRANSP:OPAQUE
BEGIN:VALARM
TRIGGER:-PT2H
ACTION:DISPLAY
DESCRIPTION:Regis vs. Mitchell
END:VALARM
END:VEVENT
BEGIN:VEVENT
UID:gnac-67809676-20260404@quickscores.com
DTSTAMP:20260423T152000Z
DTSTART;TZID=America/New_York:20260404
SUMMARY:Emmanuel vs. Mitchell
DESCRIPTION:2026 Men’s Lacrosse (5/1/25 Ad Approved) - Great Northeast Athletic Conference
LOCATION:Roberto Clemente Field
CATEGORIES:QuickScores, Lacrosse Game
TRANSP:OPAQUE
BEGIN:VALARM
TRIGGER:-PT2H
ACTION:DISPLAY
DESCRIPTION:Emmanuel vs. Mitchell
END:VALARM
END:VEVENT
BEGIN:VEVENT
UID:gnac-67809649-20260407@quickscores.com
DTSTAMP:20260423T152000Z
DTSTART;TZID=America/New_York:20260407
SUMMARY:Mitchell vs. Albertus Magnus
DESCRIPTION:2026 Men’s Lacrosse (5/1/25 Ad Approved) - Great Northeast Athletic Conference
LOCATION:Mitchell College New London CT
CATEGORIES:QuickScores, Lacrosse Game
TRANSP:OPAQUE
BEGIN:VALARM
TRIGGER:-PT2H
ACTION:DISPLAY
DESCRIPTION:Mitchell vs. Albertus Magnus
END:VALARM
END:VEVENT
BEGIN:VEVENT
UID:gnac-67809600-20260411@quickscores.com
DTSTAMP:20260423T152000Z
DTSTART;TZID=America/New_York:20260411
SUMMARY:Mitchell vs. New England
DESCRIPTION:2026 Men’s Lacrosse (5/1/25 Ad Approved) - Great Northeast Athletic Conference
LOCATION:Mitchell College New London CT
CATEGORIES:QuickScores, Lacrosse Game
TRANSP:OPAQUE
BEGIN:VALARM
TRIGGER:-PT2H
ACTION:DISPLAY
DESCRIPTION:Mitchell vs. New England
END:VALARM
END:VEVENT
BEGIN:VEVENT
UID:gnac-67809629-20260415@quickscores.com
DTSTAMP:20260423T152000Z
DTSTART;TZID=America/New_York:20260415
SUMMARY:Saint Joseph CT vs. Mitchell
DESCRIPTION:2026 Men’s Lacrosse (5/1/25 Ad Approved) - Great Northeast Athletic Conference
LOCATION:W. Hartford, CT
CATEGORIES:QuickScores, Lacrosse Game
TRANSP:OPAQUE
BEGIN:VALARM
TRIGGER:-PT2H
ACTION:DISPLAY
DESCRIPTION:Saint Joseph CT vs. Mitchell
END:VALARM
END:VEVENT
BEGIN:VEVENT
UID:gnac-67809656-20260418@quickscores.com
DTSTAMP:20260423T152000Z
DTSTART;TZID=America/New_York:20260418
SUMMARY:Colby Sawyer vs. Mitchell
DESCRIPTION:2026 Men’s Lacrosse (5/1/25 Ad Approved) - Great Northeast Athletic Conference
LOCATION:New London NH
CATEGORIES:QuickScores, Lacrosse Game
TRANSP:OPAQUE
BEGIN:VALARM
TRIGGER:-PT2H
ACTION:DISPLAY
DESCRIPTION:Colby Sawyer vs. Mitchell
END:VALARM
END:VEVENT
BEGIN:VEVENT
UID:gnac-67809645-20260421@quickscores.com
DTSTAMP:20260423T152000Z
DTSTART;TZID=America/New_York:20260421
SUMMARY:Mitchell vs. Dean
DESCRIPTION:2026 Men’s Lacrosse (5/1/25 Ad Approved) - Great Northeast Athletic Conference
LOCATION:Mitchell College New London CT
CATEGORIES:QuickScores, Lacrosse Game
TRANSP:OPAQUE
BEGIN:VALARM
TRIGGER:-PT2H
ACTION:DISPLAY
DESCRIPTION:Mitchell vs. Dean
END:VALARM
END:VEVENT
END:VCALENDAR
