BEGIN:VCALENDAR
VERSION:2.0
PRODID:-//QuickScores.com//BQ Dynamic iCal Creator//EN
METHOD:PUBLISH
X-WR-CALNAME:Lasell - 2026 Men&rsquo;s Lacrosse (5/1/25 Ad Approved) - Spring 2026
X-WR-CALDESC:QuickScores game calendar
X-PUBLISHED-TTL:PT24H
REFRESH-INTERVAL;VALUE=DURATION:PT24H
CALSCALE:GREGORIAN
BEGIN:VTIMEZONE
TZID:America/New_York
X-LIC-LOCATION:America/New_York
BEGIN:DAYLIGHT
TZNAME:EDT
TZOFFSETFROM:-0500
TZOFFSETTO:-0400
DTSTART:19700308T020000
RRULE:FREQ=YEARLY;BYMONTH=3;BYDAY=2SU
END:DAYLIGHT
BEGIN:STANDARD
TZNAME:EST
TZOFFSETFROM:-0400
TZOFFSETTO:-0500
DTSTART:19701101T020000
RRULE:FREQ=YEARLY;BYMONTH=11;BYDAY=1SU
END:STANDARD
END:VTIMEZONE
BEGIN:VEVENT
UID:gnac-67809609-20260228@quickscores.com
DTSTAMP:20260423T110600Z
DTSTART;TZID=America/New_York:20260228
SUMMARY:Dean vs. Lasell
DESCRIPTION:Lasell returns to Dean in 2026 to balance lost home games from Johnson & Wales and Anna Maria leaving the conference --- 2026 Men’s Lacrosse (5/1/25 Ad Approved) - Great Northeast Athletic Conference
LOCATION:Franklin MA
CATEGORIES:QuickScores, Lacrosse Game
TRANSP:OPAQUE
BEGIN:VALARM
TRIGGER:-PT2H
ACTION:DISPLAY
DESCRIPTION:Dean vs. Lasell
END:VALARM
END:VEVENT
BEGIN:VEVENT
UID:gnac-67809632-20260307@quickscores.com
DTSTAMP:20260423T110600Z
DTSTART;TZID=America/New_York:20260307
SUMMARY:Lasell vs. Emmanuel
DESCRIPTION:2026 Men’s Lacrosse (5/1/25 Ad Approved) - Great Northeast Athletic Conference
LOCATION:Lasell Newton
CATEGORIES:QuickScores, Lacrosse Game
TRANSP:OPAQUE
BEGIN:VALARM
TRIGGER:-PT2H
ACTION:DISPLAY
DESCRIPTION:Lasell vs. Emmanuel
END:VALARM
END:VEVENT
BEGIN:VEVENT
UID:gnac-67809665-20260310@quickscores.com
DTSTAMP:20260423T110600Z
DTSTART;TZID=America/New_York:20260310
SUMMARY:Norwich vs. Lasell
DESCRIPTION:2026 Men’s Lacrosse (5/1/25 Ad Approved) - Great Northeast Athletic Conference
LOCATION:Northfield, VT
CATEGORIES:QuickScores, Lacrosse Game
TRANSP:OPAQUE
BEGIN:VALARM
TRIGGER:-PT2H
ACTION:DISPLAY
DESCRIPTION:Norwich vs. Lasell
END:VALARM
END:VEVENT
BEGIN:VEVENT
UID:gnac-67809670-20260314@quickscores.com
DTSTAMP:20260423T110600Z
DTSTART;TZID=America/New_York:20260314
SUMMARY:Lasell vs. New England
DESCRIPTION:2026 Men’s Lacrosse (5/1/25 Ad Approved) - Great Northeast Athletic Conference
LOCATION:Lasell Newton
CATEGORIES:QuickScores, Lacrosse Game
TRANSP:OPAQUE
BEGIN:VALARM
TRIGGER:-PT2H
ACTION:DISPLAY
DESCRIPTION:Lasell vs. New England
END:VALARM
END:VEVENT
BEGIN:VEVENT
UID:gnac-67809599-20260321@quickscores.com
DTSTAMP:20260423T110600Z
DTSTART;TZID=America/New_York:20260321
SUMMARY:Lasell vs. Mitchell
DESCRIPTION:2026 Men’s Lacrosse (5/1/25 Ad Approved) - Great Northeast Athletic Conference
LOCATION:Lasell Newton
CATEGORIES:QuickScores, Lacrosse Game
TRANSP:OPAQUE
BEGIN:VALARM
TRIGGER:-PT2H
ACTION:DISPLAY
DESCRIPTION:Lasell vs. Mitchell
END:VALARM
END:VEVENT
BEGIN:VEVENT
UID:gnac-67809635-20260324@quickscores.com
DTSTAMP:20260423T110600Z
DTSTART;TZID=America/New_York:20260324
SUMMARY:Saint Joseph CT vs. Lasell
DESCRIPTION:2026 Men’s Lacrosse (5/1/25 Ad Approved) - Great Northeast Athletic Conference
LOCATION:W. Hartford, CT
CATEGORIES:QuickScores, Lacrosse Game
TRANSP:OPAQUE
BEGIN:VALARM
TRIGGER:-PT2H
ACTION:DISPLAY
DESCRIPTION:Saint Joseph CT vs. Lasell
END:VALARM
END:VEVENT
BEGIN:VEVENT
UID:gnac-67809668-20260328@quickscores.com
DTSTAMP:20260423T110600Z
DTSTART;TZID=America/New_York:20260328
SUMMARY:Lasell vs. Rivier
DESCRIPTION:2026 Men’s Lacrosse (5/1/25 Ad Approved) - Great Northeast Athletic Conference
LOCATION:Lasell Newton
CATEGORIES:QuickScores, Lacrosse Game
TRANSP:OPAQUE
BEGIN:VALARM
TRIGGER:-PT2H
ACTION:DISPLAY
DESCRIPTION:Lasell vs. Rivier
END:VALARM
END:VEVENT
BEGIN:VEVENT
UID:gnac-67809640-20260401@quickscores.com
DTSTAMP:20260423T110600Z
DTSTART;TZID=America/New_York:20260401
SUMMARY:Lasell vs. Elms
DESCRIPTION:2026 Men’s Lacrosse (5/1/25 Ad Approved) - Great Northeast Athletic Conference
LOCATION:Lasell Newton
CATEGORIES:QuickScores, Lacrosse Game
TRANSP:OPAQUE
BEGIN:VALARM
TRIGGER:-PT2H
ACTION:DISPLAY
DESCRIPTION:Lasell vs. Elms
END:VALARM
END:VEVENT
BEGIN:VEVENT
UID:gnac-67809605-20260404@quickscores.com
DTSTAMP:20260423T110600Z
DTSTART;TZID=America/New_York:20260404
SUMMARY:Albertus Magnus vs. Lasell
DESCRIPTION:2026 Men’s Lacrosse (5/1/25 Ad Approved) - Great Northeast Athletic Conference
LOCATION:New Haven, CT
CATEGORIES:QuickScores, Lacrosse Game
TRANSP:OPAQUE
BEGIN:VALARM
TRIGGER:-PT2H
ACTION:DISPLAY
DESCRIPTION:Albertus Magnus vs. Lasell
END:VALARM
END:VEVENT
BEGIN:VEVENT
UID:gnac-67809626-20260407@quickscores.com
DTSTAMP:20260423T110600Z
DTSTART;TZID=America/New_York:20260407
SUMMARY:Lasell vs. Saint Joseph's ME
DESCRIPTION:2026 Men’s Lacrosse (5/1/25 Ad Approved) - Great Northeast Athletic Conference
LOCATION:Lasell Newton
CATEGORIES:QuickScores, Lacrosse Game
TRANSP:OPAQUE
BEGIN:VALARM
TRIGGER:-PT2H
ACTION:DISPLAY
DESCRIPTION:Lasell vs. Saint Joseph's ME
END:VALARM
END:VEVENT
BEGIN:VEVENT
UID:gnac-67809628-20260411@quickscores.com
DTSTAMP:20260423T110600Z
DTSTART;TZID=America/New_York:20260411
SUMMARY:Regis vs. Lasell
DESCRIPTION:2026 Men’s Lacrosse (5/1/25 Ad Approved) - Great Northeast Athletic Conference
LOCATION:Regis Weston MA
CATEGORIES:QuickScores, Lacrosse Game
TRANSP:OPAQUE
BEGIN:VALARM
TRIGGER:-PT2H
ACTION:DISPLAY
DESCRIPTION:Regis vs. Lasell
END:VALARM
END:VEVENT
BEGIN:VEVENT
UID:gnac-67809673-20260415@quickscores.com
DTSTAMP:20260423T110600Z
DTSTART;TZID=America/New_York:20260415
SUMMARY:Colby Sawyer vs. Lasell
DESCRIPTION:2026 Men’s Lacrosse (5/1/25 Ad Approved) - Great Northeast Athletic Conference
LOCATION:New London NH
CATEGORIES:QuickScores, Lacrosse Game
TRANSP:OPAQUE
BEGIN:VALARM
TRIGGER:-PT2H
ACTION:DISPLAY
DESCRIPTION:Colby Sawyer vs. Lasell
END:VALARM
END:VEVENT
END:VCALENDAR
