BEGIN:VCALENDAR
VERSION:2.0
PRODID:-//QuickScores.com//BQ Dynamic iCal Creator//EN
METHOD:PUBLISH
X-WR-CALNAME:Dean - 2026 Men&rsquo;s Lacrosse (5/1/25 Ad Approved) - Spring 2026
X-WR-CALDESC:QuickScores game calendar
X-PUBLISHED-TTL:PT24H
REFRESH-INTERVAL;VALUE=DURATION:PT24H
CALSCALE:GREGORIAN
BEGIN:VTIMEZONE
TZID:America/New_York
X-LIC-LOCATION:America/New_York
BEGIN:DAYLIGHT
TZNAME:EDT
TZOFFSETFROM:-0500
TZOFFSETTO:-0400
DTSTART:19700308T020000
RRULE:FREQ=YEARLY;BYMONTH=3;BYDAY=2SU
END:DAYLIGHT
BEGIN:STANDARD
TZNAME:EST
TZOFFSETFROM:-0400
TZOFFSETTO:-0500
DTSTART:19701101T020000
RRULE:FREQ=YEARLY;BYMONTH=11;BYDAY=1SU
END:STANDARD
END:VTIMEZONE
BEGIN:VEVENT
UID:gnac-67809609-20260228@quickscores.com
DTSTAMP:20260423T223000Z
DTSTART;TZID=America/New_York:20260228
SUMMARY:Dean vs. Lasell
DESCRIPTION:Lasell returns to Dean in 2026 to balance lost home games from Johnson & Wales and Anna Maria leaving the conference --- 2026 Men’s Lacrosse (5/1/25 Ad Approved) - Great Northeast Athletic Conference
LOCATION:Franklin MA
CATEGORIES:QuickScores, Lacrosse Game
TRANSP:OPAQUE
BEGIN:VALARM
TRIGGER:-PT2H
ACTION:DISPLAY
DESCRIPTION:Dean vs. Lasell
END:VALARM
END:VEVENT
BEGIN:VEVENT
UID:gnac-67809622-20260307@quickscores.com
DTSTAMP:20260423T223000Z
DTSTART;TZID=America/New_York:20260307
SUMMARY:Rivier vs. Dean
DESCRIPTION:2026 Men’s Lacrosse (5/1/25 Ad Approved) - Great Northeast Athletic Conference
LOCATION:Nashua, NH
CATEGORIES:QuickScores, Lacrosse Game
TRANSP:OPAQUE
BEGIN:VALARM
TRIGGER:-PT2H
ACTION:DISPLAY
DESCRIPTION:Rivier vs. Dean
END:VALARM
END:VEVENT
BEGIN:VEVENT
UID:gnac-67809642-20260310@quickscores.com
DTSTAMP:20260423T223000Z
DTSTART;TZID=America/New_York:20260310
SUMMARY:Saint Joseph CT vs. Dean
DESCRIPTION:2026 Men’s Lacrosse (5/1/25 Ad Approved) - Great Northeast Athletic Conference
LOCATION:W. Hartford, CT
CATEGORIES:QuickScores, Lacrosse Game
TRANSP:OPAQUE
BEGIN:VALARM
TRIGGER:-PT2H
ACTION:DISPLAY
DESCRIPTION:Saint Joseph CT vs. Dean
END:VALARM
END:VEVENT
BEGIN:VEVENT
UID:gnac-67809674-20260314@quickscores.com
DTSTAMP:20260423T223000Z
DTSTART;TZID=America/New_York:20260314
SUMMARY:Dean vs. Saint Joseph's ME
DESCRIPTION:2026 Men’s Lacrosse (5/1/25 Ad Approved) - Great Northeast Athletic Conference
LOCATION:Franklin MA
CATEGORIES:QuickScores, Lacrosse Game
TRANSP:OPAQUE
BEGIN:VALARM
TRIGGER:-PT2H
ACTION:DISPLAY
DESCRIPTION:Dean vs. Saint Joseph's ME
END:VALARM
END:VEVENT
BEGIN:VEVENT
UID:gnac-67809681-20260321@quickscores.com
DTSTAMP:20260423T223000Z
DTSTART;TZID=America/New_York:20260321
SUMMARY:Regis vs. Dean
DESCRIPTION:2026 Men’s Lacrosse (5/1/25 Ad Approved) - Great Northeast Athletic Conference
LOCATION:Regis Weston MA
CATEGORIES:QuickScores, Lacrosse Game
TRANSP:OPAQUE
BEGIN:VALARM
TRIGGER:-PT2H
ACTION:DISPLAY
DESCRIPTION:Regis vs. Dean
END:VALARM
END:VEVENT
BEGIN:VEVENT
UID:gnac-67809602-20260324@quickscores.com
DTSTAMP:20260423T223000Z
DTSTART;TZID=America/New_York:20260324
SUMMARY:Dean vs. Elms
DESCRIPTION:2026 Men’s Lacrosse (5/1/25 Ad Approved) - Great Northeast Athletic Conference
LOCATION:Franklin MA
CATEGORIES:QuickScores, Lacrosse Game
TRANSP:OPAQUE
BEGIN:VALARM
TRIGGER:-PT2H
ACTION:DISPLAY
DESCRIPTION:Dean vs. Elms
END:VALARM
END:VEVENT
BEGIN:VEVENT
UID:gnac-67809679-20260401@quickscores.com
DTSTAMP:20260423T223000Z
DTSTART;TZID=America/New_York:20260401
SUMMARY:Dean vs. Colby Sawyer
DESCRIPTION:2026 Men’s Lacrosse (5/1/25 Ad Approved) - Great Northeast Athletic Conference
LOCATION:Franklin MA
CATEGORIES:QuickScores, Lacrosse Game
TRANSP:OPAQUE
BEGIN:VALARM
TRIGGER:-PT2H
ACTION:DISPLAY
DESCRIPTION:Dean vs. Colby Sawyer
END:VALARM
END:VEVENT
BEGIN:VEVENT
UID:gnac-67809620-20260404@quickscores.com
DTSTAMP:20260423T223000Z
DTSTART;TZID=America/New_York:20260404
SUMMARY:New England vs. Dean
DESCRIPTION:2026 Men’s Lacrosse (5/1/25 Ad Approved) - Great Northeast Athletic Conference
LOCATION:Henniker NH
CATEGORIES:QuickScores, Lacrosse Game
TRANSP:OPAQUE
BEGIN:VALARM
TRIGGER:-PT2H
ACTION:DISPLAY
DESCRIPTION:New England vs. Dean
END:VALARM
END:VEVENT
BEGIN:VEVENT
UID:gnac-67809677-20260407@quickscores.com
DTSTAMP:20260423T223000Z
DTSTART;TZID=America/New_York:20260407
SUMMARY:Emmanuel vs. Dean
DESCRIPTION:2026 Men’s Lacrosse (5/1/25 Ad Approved) - Great Northeast Athletic Conference
LOCATION:Roberto Clemente Field
CATEGORIES:QuickScores, Lacrosse Game
TRANSP:OPAQUE
BEGIN:VALARM
TRIGGER:-PT2H
ACTION:DISPLAY
DESCRIPTION:Emmanuel vs. Dean
END:VALARM
END:VEVENT
BEGIN:VEVENT
UID:gnac-67809636-20260415@quickscores.com
DTSTAMP:20260423T223000Z
DTSTART;TZID=America/New_York:20260415
SUMMARY:Dean vs. Albertus Magnus
DESCRIPTION:2026 Men’s Lacrosse (5/1/25 Ad Approved) - Great Northeast Athletic Conference
LOCATION:Franklin MA
CATEGORIES:QuickScores, Lacrosse Game
TRANSP:OPAQUE
BEGIN:VALARM
TRIGGER:-PT2H
ACTION:DISPLAY
DESCRIPTION:Dean vs. Albertus Magnus
END:VALARM
END:VEVENT
BEGIN:VEVENT
UID:gnac-67809597-20260418@quickscores.com
DTSTAMP:20260423T223000Z
DTSTART;TZID=America/New_York:20260418
SUMMARY:Dean vs. Norwich
DESCRIPTION:2026 Men’s Lacrosse (5/1/25 Ad Approved) - Great Northeast Athletic Conference
LOCATION:Franklin MA
CATEGORIES:QuickScores, Lacrosse Game
TRANSP:OPAQUE
BEGIN:VALARM
TRIGGER:-PT2H
ACTION:DISPLAY
DESCRIPTION:Dean vs. Norwich
END:VALARM
END:VEVENT
BEGIN:VEVENT
UID:gnac-67809645-20260421@quickscores.com
DTSTAMP:20260423T223000Z
DTSTART;TZID=America/New_York:20260421
SUMMARY:Mitchell vs. Dean
DESCRIPTION:2026 Men’s Lacrosse (5/1/25 Ad Approved) - Great Northeast Athletic Conference
LOCATION:Mitchell College New London CT
CATEGORIES:QuickScores, Lacrosse Game
TRANSP:OPAQUE
BEGIN:VALARM
TRIGGER:-PT2H
ACTION:DISPLAY
DESCRIPTION:Mitchell vs. Dean
END:VALARM
END:VEVENT
END:VCALENDAR
