BEGIN:VCALENDAR
VERSION:2.0
PRODID:-//QuickScores.com//BQ Dynamic iCal Creator//EN
METHOD:PUBLISH
X-WR-CALNAME:Albertus Magnus - 2026 Men&rsquo;s Lacrosse (5/1/25 Ad Approved) - Spring 2026
X-WR-CALDESC:QuickScores game calendar
X-PUBLISHED-TTL:PT24H
REFRESH-INTERVAL;VALUE=DURATION:PT24H
CALSCALE:GREGORIAN
BEGIN:VTIMEZONE
TZID:America/New_York
X-LIC-LOCATION:America/New_York
BEGIN:DAYLIGHT
TZNAME:EDT
TZOFFSETFROM:-0500
TZOFFSETTO:-0400
DTSTART:19700308T020000
RRULE:FREQ=YEARLY;BYMONTH=3;BYDAY=2SU
END:DAYLIGHT
BEGIN:STANDARD
TZNAME:EST
TZOFFSETFROM:-0400
TZOFFSETTO:-0500
DTSTART:19701101T020000
RRULE:FREQ=YEARLY;BYMONTH=11;BYDAY=1SU
END:STANDARD
END:VTIMEZONE
BEGIN:VEVENT
UID:gnac-67809659-20260228@quickscores.com
DTSTAMP:20260423T190800Z
DTSTART;TZID=America/New_York:20260228
SUMMARY:Albertus Magnus vs. Regis
DESCRIPTION:2026 Men’s Lacrosse (5/1/25 Ad Approved) - Great Northeast Athletic Conference
LOCATION:New Haven, CT
CATEGORIES:QuickScores, Lacrosse Game
TRANSP:OPAQUE
BEGIN:VALARM
TRIGGER:-PT2H
ACTION:DISPLAY
DESCRIPTION:Albertus Magnus vs. Regis
END:VALARM
END:VEVENT
BEGIN:VEVENT
UID:gnac-67809625-20260307@quickscores.com
DTSTAMP:20260423T190800Z
DTSTART;TZID=America/New_York:20260307
SUMMARY:Elms vs. Albertus Magnus
DESCRIPTION:2026 Men’s Lacrosse (5/1/25 Ad Approved) - Great Northeast Athletic Conference
LOCATION:Timothy J. Leary Field Chicopee MA
CATEGORIES:QuickScores, Lacrosse Game
TRANSP:OPAQUE
BEGIN:VALARM
TRIGGER:-PT2H
ACTION:DISPLAY
DESCRIPTION:Elms vs. Albertus Magnus
END:VALARM
END:VEVENT
BEGIN:VEVENT
UID:gnac-67809598-20260310@quickscores.com
DTSTAMP:20260423T190800Z
DTSTART;TZID=America/New_York:20260310
SUMMARY:Albertus Magnus vs. Emmanuel
DESCRIPTION:2026 Men’s Lacrosse (5/1/25 Ad Approved) - Great Northeast Athletic Conference
LOCATION:New Haven, CT
CATEGORIES:QuickScores, Lacrosse Game
TRANSP:OPAQUE
BEGIN:VALARM
TRIGGER:-PT2H
ACTION:DISPLAY
DESCRIPTION:Albertus Magnus vs. Emmanuel
END:VALARM
END:VEVENT
BEGIN:VEVENT
UID:gnac-67809664-20260314@quickscores.com
DTSTAMP:20260423T190800Z
DTSTART;TZID=America/New_York:20260314
SUMMARY:Norwich vs. Albertus Magnus
DESCRIPTION:2026 Men’s Lacrosse (5/1/25 Ad Approved) - Great Northeast Athletic Conference
LOCATION:Northfield, VT
CATEGORIES:QuickScores, Lacrosse Game
TRANSP:OPAQUE
BEGIN:VALARM
TRIGGER:-PT2H
ACTION:DISPLAY
DESCRIPTION:Norwich vs. Albertus Magnus
END:VALARM
END:VEVENT
BEGIN:VEVENT
UID:gnac-67809660-20260321@quickscores.com
DTSTAMP:20260423T190800Z
DTSTART;TZID=America/New_York:20260321
SUMMARY:Rivier vs. Albertus Magnus
DESCRIPTION:2026 Men’s Lacrosse (5/1/25 Ad Approved) - Great Northeast Athletic Conference
LOCATION:Nashua, NH
CATEGORIES:QuickScores, Lacrosse Game
TRANSP:OPAQUE
BEGIN:VALARM
TRIGGER:-PT2H
ACTION:DISPLAY
DESCRIPTION:Rivier vs. Albertus Magnus
END:VALARM
END:VEVENT
BEGIN:VEVENT
UID:gnac-67809646-20260328@quickscores.com
DTSTAMP:20260423T190800Z
DTSTART;TZID=America/New_York:20260328
SUMMARY:Saint Joseph's ME vs. Albertus Magnus
DESCRIPTION:2026 Men’s Lacrosse (5/1/25 Ad Approved) - Great Northeast Athletic Conference
LOCATION:Standish ME
CATEGORIES:QuickScores, Lacrosse Game
TRANSP:OPAQUE
BEGIN:VALARM
TRIGGER:-PT2H
ACTION:DISPLAY
DESCRIPTION:Saint Joseph's ME vs. Albertus Magnus
END:VALARM
END:VEVENT
BEGIN:VEVENT
UID:gnac-67809605-20260404@quickscores.com
DTSTAMP:20260423T190800Z
DTSTART;TZID=America/New_York:20260404
SUMMARY:Albertus Magnus vs. Lasell
DESCRIPTION:2026 Men’s Lacrosse (5/1/25 Ad Approved) - Great Northeast Athletic Conference
LOCATION:New Haven, CT
CATEGORIES:QuickScores, Lacrosse Game
TRANSP:OPAQUE
BEGIN:VALARM
TRIGGER:-PT2H
ACTION:DISPLAY
DESCRIPTION:Albertus Magnus vs. Lasell
END:VALARM
END:VEVENT
BEGIN:VEVENT
UID:gnac-67809649-20260407@quickscores.com
DTSTAMP:20260423T190800Z
DTSTART;TZID=America/New_York:20260407
SUMMARY:Mitchell vs. Albertus Magnus
DESCRIPTION:2026 Men’s Lacrosse (5/1/25 Ad Approved) - Great Northeast Athletic Conference
LOCATION:Mitchell College New London CT
CATEGORIES:QuickScores, Lacrosse Game
TRANSP:OPAQUE
BEGIN:VALARM
TRIGGER:-PT2H
ACTION:DISPLAY
DESCRIPTION:Mitchell vs. Albertus Magnus
END:VALARM
END:VEVENT
BEGIN:VEVENT
UID:gnac-67809657-20260411@quickscores.com
DTSTAMP:20260423T190800Z
DTSTART;TZID=America/New_York:20260411
SUMMARY:Albertus Magnus vs. Colby Sawyer
DESCRIPTION:2026 Men’s Lacrosse (5/1/25 Ad Approved) - Great Northeast Athletic Conference
LOCATION:New Haven, CT
CATEGORIES:QuickScores, Lacrosse Game
TRANSP:OPAQUE
BEGIN:VALARM
TRIGGER:-PT2H
ACTION:DISPLAY
DESCRIPTION:Albertus Magnus vs. Colby Sawyer
END:VALARM
END:VEVENT
BEGIN:VEVENT
UID:gnac-67809636-20260415@quickscores.com
DTSTAMP:20260423T190800Z
DTSTART;TZID=America/New_York:20260415
SUMMARY:Dean vs. Albertus Magnus
DESCRIPTION:2026 Men’s Lacrosse (5/1/25 Ad Approved) - Great Northeast Athletic Conference
LOCATION:Franklin MA
CATEGORIES:QuickScores, Lacrosse Game
TRANSP:OPAQUE
BEGIN:VALARM
TRIGGER:-PT2H
ACTION:DISPLAY
DESCRIPTION:Dean vs. Albertus Magnus
END:VALARM
END:VEVENT
BEGIN:VEVENT
UID:gnac-67809608-20260418@quickscores.com
DTSTAMP:20260423T190800Z
DTSTART;TZID=America/New_York:20260418
SUMMARY:Albertus Magnus vs. New England
DESCRIPTION:2026 Men’s Lacrosse (5/1/25 Ad Approved) - Great Northeast Athletic Conference
LOCATION:New Haven, CT
CATEGORIES:QuickScores, Lacrosse Game
TRANSP:OPAQUE
BEGIN:VALARM
TRIGGER:-PT2H
ACTION:DISPLAY
DESCRIPTION:Albertus Magnus vs. New England
END:VALARM
END:VEVENT
BEGIN:VEVENT
UID:gnac-67809618-20260421@quickscores.com
DTSTAMP:20260423T190800Z
DTSTART;TZID=America/New_York:20260421
SUMMARY:Albertus Magnus vs. Saint Joseph CT
DESCRIPTION:2026 Men’s Lacrosse (5/1/25 Ad Approved) - Great Northeast Athletic Conference
LOCATION:New Haven, CT
CATEGORIES:QuickScores, Lacrosse Game
TRANSP:OPAQUE
BEGIN:VALARM
TRIGGER:-PT2H
ACTION:DISPLAY
DESCRIPTION:Albertus Magnus vs. Saint Joseph CT
END:VALARM
END:VEVENT
END:VCALENDAR
