BEGIN:VCALENDAR
VERSION:2.0
PRODID:-//QuickScores.com//BQ Dynamic iCal Creator//EN
METHOD:PUBLISH
X-WR-CALNAME:Emmanuel - 2025-2026 Men&rsquo;s Basketball (ad Approved 2/6/25) - Winter 2025-2026
X-WR-CALDESC:QuickScores game calendar
X-PUBLISHED-TTL:PT24H
REFRESH-INTERVAL;VALUE=DURATION:PT24H
CALSCALE:GREGORIAN
BEGIN:VTIMEZONE
TZID:America/New_York
X-LIC-LOCATION:America/New_York
BEGIN:DAYLIGHT
TZNAME:EDT
TZOFFSETFROM:-0500
TZOFFSETTO:-0400
DTSTART:19700308T020000
RRULE:FREQ=YEARLY;BYMONTH=3;BYDAY=2SU
END:DAYLIGHT
BEGIN:STANDARD
TZNAME:EST
TZOFFSETFROM:-0400
TZOFFSETTO:-0500
DTSTART:19701101T020000
RRULE:FREQ=YEARLY;BYMONTH=11;BYDAY=1SU
END:STANDARD
END:VTIMEZONE
BEGIN:VEVENT
UID:gnac-66251322-20260110@quickscores.com
DTSTAMP:20260423T215200Z
DTSTART;TZID=America/New_York:20260110
SUMMARY:Emmanuel vs. Colby Sawyer
DESCRIPTION:Doubleheader --- 2025-2026 Men’s Basketball (ad Approved 2/6/25) - Great Northeast Athletic Conference
LOCATION:Jean Yawkey Center
CATEGORIES:QuickScores, Basketball Game
TRANSP:OPAQUE
BEGIN:VALARM
TRIGGER:-PT2H
ACTION:DISPLAY
DESCRIPTION:Emmanuel vs. Colby Sawyer
END:VALARM
END:VEVENT
BEGIN:VEVENT
UID:gnac-66251251-20260114@quickscores.com
DTSTAMP:20260423T215200Z
DTSTART;TZID=America/New_York:20260114
SUMMARY:Emmanuel vs. Albertus Magnus
DESCRIPTION:Doubleheader --- 2025-2026 Men’s Basketball (ad Approved 2/6/25) - Great Northeast Athletic Conference
LOCATION:Jean Yawkey Center
CATEGORIES:QuickScores, Basketball Game
TRANSP:OPAQUE
BEGIN:VALARM
TRIGGER:-PT2H
ACTION:DISPLAY
DESCRIPTION:Emmanuel vs. Albertus Magnus
END:VALARM
END:VEVENT
BEGIN:VEVENT
UID:gnac-66251325-20260120@quickscores.com
DTSTAMP:20260423T215200Z
DTSTART;TZID=America/New_York:20260120
SUMMARY:Saint Joseph's ME vs. Emmanuel
DESCRIPTION:Doubleheader --- 2025-2026 Men’s Basketball (ad Approved 2/6/25) - Great Northeast Athletic Conference
LOCATION:Standish ME
CATEGORIES:QuickScores, Basketball Game
TRANSP:OPAQUE
BEGIN:VALARM
TRIGGER:-PT2H
ACTION:DISPLAY
DESCRIPTION:Saint Joseph's ME vs. Emmanuel
END:VALARM
END:VEVENT
BEGIN:VEVENT
UID:gnac-66251252-20260124@quickscores.com
DTSTAMP:20260423T215200Z
DTSTART;TZID=America/New_York:20260124
SUMMARY:Saint Joseph CT vs. Emmanuel
DESCRIPTION:Doubleheader --- 2025-2026 Men’s Basketball (ad Approved 2/6/25) - Great Northeast Athletic Conference
LOCATION:W. Hartford, CT
CATEGORIES:QuickScores, Basketball Game
TRANSP:OPAQUE
BEGIN:VALARM
TRIGGER:-PT2H
ACTION:DISPLAY
DESCRIPTION:Saint Joseph CT vs. Emmanuel
END:VALARM
END:VEVENT
BEGIN:VEVENT
UID:gnac-66251296-20260128@quickscores.com
DTSTAMP:20260423T215200Z
DTSTART;TZID=America/New_York:20260128
SUMMARY:Emmanuel vs. New England
DESCRIPTION:Doubleheader --- 2025-2026 Men’s Basketball (ad Approved 2/6/25) - Great Northeast Athletic Conference
LOCATION:Jean Yawkey Center
CATEGORIES:QuickScores, Basketball Game
TRANSP:OPAQUE
BEGIN:VALARM
TRIGGER:-PT2H
ACTION:DISPLAY
DESCRIPTION:Emmanuel vs. New England
END:VALARM
END:VEVENT
BEGIN:VEVENT
UID:gnac-66251304-20260131@quickscores.com
DTSTAMP:20260423T215200Z
DTSTART;TZID=America/New_York:20260131
SUMMARY:Lasell vs. Emmanuel
DESCRIPTION:Doubleheader --- 2025-2026 Men’s Basketball (ad Approved 2/6/25) - Great Northeast Athletic Conference
LOCATION:Lasell Newton
CATEGORIES:QuickScores, Basketball Game
TRANSP:OPAQUE
BEGIN:VALARM
TRIGGER:-PT2H
ACTION:DISPLAY
DESCRIPTION:Lasell vs. Emmanuel
END:VALARM
END:VEVENT
BEGIN:VEVENT
UID:gnac-66251274-20260203@quickscores.com
DTSTAMP:20260423T215200Z
DTSTART;TZID=America/New_York:20260203
SUMMARY:Emmanuel vs. Regis
DESCRIPTION:Doubleheader --- 2025-2026 Men’s Basketball (ad Approved 2/6/25) - Great Northeast Athletic Conference
LOCATION:Jean Yawkey Center
CATEGORIES:QuickScores, Basketball Game
TRANSP:OPAQUE
BEGIN:VALARM
TRIGGER:-PT2H
ACTION:DISPLAY
DESCRIPTION:Emmanuel vs. Regis
END:VALARM
END:VEVENT
BEGIN:VEVENT
UID:gnac-66251342-20260207@quickscores.com
DTSTAMP:20260423T215200Z
DTSTART;TZID=America/New_York:20260207
SUMMARY:Elms vs. Emmanuel
DESCRIPTION:Doubleheader --- 2025-2026 Men’s Basketball (ad Approved 2/6/25) - Great Northeast Athletic Conference
LOCATION:Maguire Center
CATEGORIES:QuickScores, Basketball Game
TRANSP:OPAQUE
BEGIN:VALARM
TRIGGER:-PT2H
ACTION:DISPLAY
DESCRIPTION:Elms vs. Emmanuel
END:VALARM
END:VEVENT
BEGIN:VEVENT
UID:gnac-66251246-20260211@quickscores.com
DTSTAMP:20260423T215200Z
DTSTART;TZID=America/New_York:20260211
SUMMARY:Dean vs. Emmanuel
DESCRIPTION:Doubleheader --- 2025-2026 Men’s Basketball (ad Approved 2/6/25) - Great Northeast Athletic Conference
LOCATION:Franklin MA
CATEGORIES:QuickScores, Basketball Game
TRANSP:OPAQUE
BEGIN:VALARM
TRIGGER:-PT2H
ACTION:DISPLAY
DESCRIPTION:Dean vs. Emmanuel
END:VALARM
END:VEVENT
BEGIN:VEVENT
UID:gnac-66251320-20260214@quickscores.com
DTSTAMP:20260423T215200Z
DTSTART;TZID=America/New_York:20260214
SUMMARY:Emmanuel vs. Mitchell
DESCRIPTION:Doubleheader --- 2025-2026 Men’s Basketball (ad Approved 2/6/25) - Great Northeast Athletic Conference
LOCATION:Jean Yawkey Center
CATEGORIES:QuickScores, Basketball Game
TRANSP:OPAQUE
BEGIN:VALARM
TRIGGER:-PT2H
ACTION:DISPLAY
DESCRIPTION:Emmanuel vs. Mitchell
END:VALARM
END:VEVENT
BEGIN:VEVENT
UID:gnac-66251326-20260217@quickscores.com
DTSTAMP:20260423T215200Z
DTSTART;TZID=America/New_York:20260217
SUMMARY:Emmanuel vs. Norwich
DESCRIPTION:Doubleheader --- 2025-2026 Men’s Basketball (ad Approved 2/6/25) - Great Northeast Athletic Conference
LOCATION:Jean Yawkey Center
CATEGORIES:QuickScores, Basketball Game
TRANSP:OPAQUE
BEGIN:VALARM
TRIGGER:-PT2H
ACTION:DISPLAY
DESCRIPTION:Emmanuel vs. Norwich
END:VALARM
END:VEVENT
BEGIN:VEVENT
UID:gnac-66251327-20260221@quickscores.com
DTSTAMP:20260423T215200Z
DTSTART;TZID=America/New_York:20260221
SUMMARY:Rivier vs. Emmanuel
DESCRIPTION:Doubleheader. --- 2025-2026 Men’s Basketball (ad Approved 2/6/25) - Great Northeast Athletic Conference
LOCATION:Nashua, NH
CATEGORIES:QuickScores, Basketball Game
TRANSP:OPAQUE
BEGIN:VALARM
TRIGGER:-PT2H
ACTION:DISPLAY
DESCRIPTION:Rivier vs. Emmanuel
END:VALARM
END:VEVENT
END:VCALENDAR
