BEGIN:VCALENDAR
VERSION:2.0
PRODID:-//QuickScores.com//BQ Dynamic iCal Creator//EN
METHOD:PUBLISH
X-WR-CALNAME:Emerson - Women&#039;s Gnac Lacrosse - Spring 2008
X-WR-CALDESC:QuickScores game calendar
X-PUBLISHED-TTL:PT24H
REFRESH-INTERVAL;VALUE=DURATION:PT24H
CALSCALE:GREGORIAN
BEGIN:VTIMEZONE
TZID:America/New_York
X-LIC-LOCATION:America/New_York
BEGIN:DAYLIGHT
TZNAME:EDT
TZOFFSETFROM:-0500
TZOFFSETTO:-0400
DTSTART:19700308T020000
RRULE:FREQ=YEARLY;BYMONTH=3;BYDAY=2SU
END:DAYLIGHT
BEGIN:STANDARD
TZNAME:EST
TZOFFSETFROM:-0400
TZOFFSETTO:-0500
DTSTART:19701101T020000
RRULE:FREQ=YEARLY;BYMONTH=11;BYDAY=1SU
END:STANDARD
END:VTIMEZONE
BEGIN:VEVENT
UID:gnac-1125087-20080405@quickscores.com
DTSTAMP:20260425T134400Z
DTSTART;TZID=America/New_York:20080405
SUMMARY:Saint Joseph's ME vs. Emerson
DESCRIPTION:Women's Gnac Lacrosse - Great Northeast Athletic Conference
LOCATION:Standish ME
CATEGORIES:QuickScores, Lacrosse Game
TRANSP:OPAQUE
BEGIN:VALARM
TRIGGER:-PT2H
ACTION:DISPLAY
DESCRIPTION:Saint Joseph's ME vs. Emerson
END:VALARM
END:VEVENT
BEGIN:VEVENT
UID:gnac-1125077-20080409@quickscores.com
DTSTAMP:20260425T134400Z
DTSTART;TZID=America/New_York:20080409
SUMMARY:Pine Manor vs. Emerson
DESCRIPTION:Women's Gnac Lacrosse - Great Northeast Athletic Conference
LOCATION:Chestnut Hill, MA
CATEGORIES:QuickScores, Lacrosse Game
TRANSP:OPAQUE
BEGIN:VALARM
TRIGGER:-PT2H
ACTION:DISPLAY
DESCRIPTION:Pine Manor vs. Emerson
END:VALARM
END:VEVENT
BEGIN:VEVENT
UID:gnac-1125080-20080412@quickscores.com
DTSTAMP:20260425T134400Z
DTSTART;TZID=America/New_York:20080412
SUMMARY:Emerson vs. Saint Joseph CT
DESCRIPTION:Women's Gnac Lacrosse - Great Northeast Athletic Conference
LOCATION:Rotch Field
CATEGORIES:QuickScores, Lacrosse Game
TRANSP:OPAQUE
BEGIN:VALARM
TRIGGER:-PT2H
ACTION:DISPLAY
DESCRIPTION:Emerson vs. Saint Joseph CT
END:VALARM
END:VEVENT
BEGIN:VEVENT
UID:gnac-1125091-20080413@quickscores.com
DTSTAMP:20260425T134400Z
DTSTART;TZID=America/New_York:20080413
SUMMARY:Emerson vs. Norwich
DESCRIPTION:Women's Gnac Lacrosse - Great Northeast Athletic Conference
LOCATION:Rotch Field
CATEGORIES:QuickScores, Lacrosse Game
TRANSP:OPAQUE
BEGIN:VALARM
TRIGGER:-PT2H
ACTION:DISPLAY
DESCRIPTION:Emerson vs. Norwich
END:VALARM
END:VEVENT
BEGIN:VEVENT
UID:gnac-1125084-20080419@quickscores.com
DTSTAMP:20260425T134400Z
DTSTART;TZID=America/New_York:20080419
SUMMARY:Emerson vs. Lasell
DESCRIPTION:Women's Gnac Lacrosse - Great Northeast Athletic Conference
LOCATION:Rotch Field
CATEGORIES:QuickScores, Lacrosse Game
TRANSP:OPAQUE
BEGIN:VALARM
TRIGGER:-PT2H
ACTION:DISPLAY
DESCRIPTION:Emerson vs. Lasell
END:VALARM
END:VEVENT
END:VCALENDAR
