BEGIN:VCALENDAR
VERSION:2.0
PRODID:-//QuickScores.com//BQ Dynamic iCal Creator//EN
METHOD:PUBLISH
X-WR-CALNAME:Lasell - Gnac Softball 2008 - Spring 2008
X-WR-CALDESC:QuickScores game calendar
X-PUBLISHED-TTL:PT24H
REFRESH-INTERVAL;VALUE=DURATION:PT24H
CALSCALE:GREGORIAN
BEGIN:VTIMEZONE
TZID:America/New_York
X-LIC-LOCATION:America/New_York
BEGIN:DAYLIGHT
TZNAME:EDT
TZOFFSETFROM:-0500
TZOFFSETTO:-0400
DTSTART:19700308T020000
RRULE:FREQ=YEARLY;BYMONTH=3;BYDAY=2SU
END:DAYLIGHT
BEGIN:STANDARD
TZNAME:EST
TZOFFSETFROM:-0400
TZOFFSETTO:-0500
DTSTART:19701101T020000
RRULE:FREQ=YEARLY;BYMONTH=11;BYDAY=1SU
END:STANDARD
END:VTIMEZONE
BEGIN:VEVENT
UID:gnac-1040702-20080322@quickscores.com
DTSTAMP:20260422T124600Z
DTSTART;TZID=America/New_York:20080322
SUMMARY:Saint Joseph CT vs. Lasell
DESCRIPTION:Gnac Softball 2008 - Great Northeast Athletic Conference
LOCATION:W. Hartford, CT
CATEGORIES:QuickScores, Softball Game
TRANSP:OPAQUE
BEGIN:VALARM
TRIGGER:-PT2H
ACTION:DISPLAY
DESCRIPTION:Saint Joseph CT vs. Lasell
END:VALARM
END:VEVENT
BEGIN:VEVENT
UID:gnac-1040708-20080328@quickscores.com
DTSTAMP:20260422T124600Z
DTSTART;TZID=America/New_York:20080328
SUMMARY:Norwich vs. Lasell
DESCRIPTION:Gnac Softball 2008 - Great Northeast Athletic Conference
LOCATION:Northfield, VT
CATEGORIES:QuickScores, Softball Game
TRANSP:OPAQUE
BEGIN:VALARM
TRIGGER:-PT2H
ACTION:DISPLAY
DESCRIPTION:Norwich vs. Lasell
END:VALARM
END:VEVENT
BEGIN:VEVENT
UID:gnac-1040714-20080329@quickscores.com
DTSTAMP:20260422T124600Z
DTSTART;TZID=America/New_York:20080329
SUMMARY:Lasell vs. Saint Joseph's ME
DESCRIPTION:Gnac Softball 2008 - Great Northeast Athletic Conference
LOCATION:Lasell Newton
CATEGORIES:QuickScores, Softball Game
TRANSP:OPAQUE
BEGIN:VALARM
TRIGGER:-PT2H
ACTION:DISPLAY
DESCRIPTION:Lasell vs. Saint Joseph's ME
END:VALARM
END:VEVENT
BEGIN:VEVENT
UID:gnac-1040767-20080330@quickscores.com
DTSTAMP:20260422T124600Z
DTSTART;TZID=America/New_York:20080330
SUMMARY:Mount Ida vs. Lasell
DESCRIPTION:Gnac Softball 2008 - Great Northeast Athletic Conference
LOCATION:Mount Ida
CATEGORIES:QuickScores, Softball Game
TRANSP:OPAQUE
BEGIN:VALARM
TRIGGER:-PT2H
ACTION:DISPLAY
DESCRIPTION:Mount Ida vs. Lasell
END:VALARM
END:VEVENT
BEGIN:VEVENT
UID:gnac-1040746-20080404@quickscores.com
DTSTAMP:20260422T124600Z
DTSTART;TZID=America/New_York:20080404
SUMMARY:Pine Manor vs. Lasell
DESCRIPTION:Gnac Softball 2008 - Great Northeast Athletic Conference
LOCATION:Chestnut Hill, MA
CATEGORIES:QuickScores, Softball Game
TRANSP:OPAQUE
BEGIN:VALARM
TRIGGER:-PT2H
ACTION:DISPLAY
DESCRIPTION:Pine Manor vs. Lasell
END:VALARM
END:VEVENT
BEGIN:VEVENT
UID:gnac-1040733-20080405@quickscores.com
DTSTAMP:20260422T124600Z
DTSTART;TZID=America/New_York:20080405
SUMMARY:Albertus Magnus vs. Lasell
DESCRIPTION:Gnac Softball 2008 - Great Northeast Athletic Conference
LOCATION:New Haven, CT
CATEGORIES:QuickScores, Softball Game
TRANSP:OPAQUE
BEGIN:VALARM
TRIGGER:-PT2H
ACTION:DISPLAY
DESCRIPTION:Albertus Magnus vs. Lasell
END:VALARM
END:VEVENT
BEGIN:VEVENT
UID:gnac-1040748-20080406@quickscores.com
DTSTAMP:20260422T124600Z
DTSTART;TZID=America/New_York:20080406
SUMMARY:Lasell vs. Emmanuel
DESCRIPTION:Gnac Softball 2008 - Great Northeast Athletic Conference
LOCATION:Lasell Newton
CATEGORIES:QuickScores, Softball Game
TRANSP:OPAQUE
BEGIN:VALARM
TRIGGER:-PT2H
ACTION:DISPLAY
DESCRIPTION:Lasell vs. Emmanuel
END:VALARM
END:VEVENT
BEGIN:VEVENT
UID:gnac-1040724-20080411@quickscores.com
DTSTAMP:20260422T124600Z
DTSTART;TZID=America/New_York:20080411
SUMMARY:Lasell vs. Rivier
DESCRIPTION:Gnac Softball 2008 - Great Northeast Athletic Conference
LOCATION:Lasell Newton
CATEGORIES:QuickScores, Softball Game
TRANSP:OPAQUE
BEGIN:VALARM
TRIGGER:-PT2H
ACTION:DISPLAY
DESCRIPTION:Lasell vs. Rivier
END:VALARM
END:VEVENT
BEGIN:VEVENT
UID:gnac-1040756-20080412@quickscores.com
DTSTAMP:20260422T124600Z
DTSTART;TZID=America/New_York:20080412
SUMMARY:Lasell vs. Emerson
DESCRIPTION:Gnac Softball 2008 - Great Northeast Athletic Conference
LOCATION:Lasell Newton
CATEGORIES:QuickScores, Softball Game
TRANSP:OPAQUE
BEGIN:VALARM
TRIGGER:-PT2H
ACTION:DISPLAY
DESCRIPTION:Lasell vs. Emerson
END:VALARM
END:VEVENT
BEGIN:VEVENT
UID:gnac-1040727-20080413@quickscores.com
DTSTAMP:20260422T124600Z
DTSTART;TZID=America/New_York:20080413
SUMMARY:Daniel Webster vs. Lasell
DESCRIPTION:Gnac Softball 2008 - Great Northeast Athletic Conference
LOCATION:Daniel Webster
CATEGORIES:QuickScores, Softball Game
TRANSP:OPAQUE
BEGIN:VALARM
TRIGGER:-PT2H
ACTION:DISPLAY
DESCRIPTION:Daniel Webster vs. Lasell
END:VALARM
END:VEVENT
BEGIN:VEVENT
UID:gnac-1040771-20080418@quickscores.com
DTSTAMP:20260422T124600Z
DTSTART;TZID=America/New_York:20080418
SUMMARY:Lasell vs. Johnson & Wales
DESCRIPTION:Gnac Softball 2008 - Great Northeast Athletic Conference
LOCATION:Lasell Newton
CATEGORIES:QuickScores, Softball Game
TRANSP:OPAQUE
BEGIN:VALARM
TRIGGER:-PT2H
ACTION:DISPLAY
DESCRIPTION:Lasell vs. Johnson & Wales
END:VALARM
END:VEVENT
BEGIN:VEVENT
UID:gnac-1040779-20080419@quickscores.com
DTSTAMP:20260422T124600Z
DTSTART;TZID=America/New_York:20080419
SUMMARY:Lasell vs. Suffolk
DESCRIPTION:Gnac Softball 2008 - Great Northeast Athletic Conference
LOCATION:Lasell Newton
CATEGORIES:QuickScores, Softball Game
TRANSP:OPAQUE
BEGIN:VALARM
TRIGGER:-PT2H
ACTION:DISPLAY
DESCRIPTION:Lasell vs. Suffolk
END:VALARM
END:VEVENT
BEGIN:VEVENT
UID:gnac-1040696-20080420@quickscores.com
DTSTAMP:20260422T124600Z
DTSTART;TZID=America/New_York:20080420
SUMMARY:Lasell vs. Simmons
DESCRIPTION:Gnac Softball 2008 - Great Northeast Athletic Conference
LOCATION:Lasell Newton
CATEGORIES:QuickScores, Softball Game
TRANSP:OPAQUE
BEGIN:VALARM
TRIGGER:-PT2H
ACTION:DISPLAY
DESCRIPTION:Lasell vs. Simmons
END:VALARM
END:VEVENT
END:VCALENDAR
