BEGIN:VCALENDAR
VERSION:2.0
PRODID:-//QuickScores.com//BQ Dynamic iCal Creator//EN
METHOD:PUBLISH
X-WR-CALNAME:Johnson &amp; Wales - Gnac Softball 2008 - Spring 2008
X-WR-CALDESC:QuickScores game calendar
X-PUBLISHED-TTL:PT24H
REFRESH-INTERVAL;VALUE=DURATION:PT24H
CALSCALE:GREGORIAN
BEGIN:VTIMEZONE
TZID:America/New_York
X-LIC-LOCATION:America/New_York
BEGIN:DAYLIGHT
TZNAME:EDT
TZOFFSETFROM:-0500
TZOFFSETTO:-0400
DTSTART:19700308T020000
RRULE:FREQ=YEARLY;BYMONTH=3;BYDAY=2SU
END:DAYLIGHT
BEGIN:STANDARD
TZNAME:EST
TZOFFSETFROM:-0400
TZOFFSETTO:-0500
DTSTART:19701101T020000
RRULE:FREQ=YEARLY;BYMONTH=11;BYDAY=1SU
END:STANDARD
END:VTIMEZONE
BEGIN:VEVENT
UID:gnac-1040701-20080322@quickscores.com
DTSTAMP:20260423T191200Z
DTSTART;TZID=America/New_York:20080322
SUMMARY:Pine Manor vs. Johnson & Wales
DESCRIPTION:Gnac Softball 2008 - Great Northeast Athletic Conference
LOCATION:Pine Manor
CATEGORIES:QuickScores, Softball Game
TRANSP:OPAQUE
BEGIN:VALARM
TRIGGER:-PT2H
ACTION:DISPLAY
DESCRIPTION:Pine Manor vs. Johnson & Wales
END:VALARM
END:VEVENT
BEGIN:VEVENT
UID:gnac-1040709-20080328@quickscores.com
DTSTAMP:20260423T191200Z
DTSTART;TZID=America/New_York:20080328
SUMMARY:Johnson & Wales vs. Mount Ida
DESCRIPTION:Gnac Softball 2008 - Great Northeast Athletic Conference
LOCATION:Providence, RI
CATEGORIES:QuickScores, Softball Game
TRANSP:OPAQUE
BEGIN:VALARM
TRIGGER:-PT2H
ACTION:DISPLAY
DESCRIPTION:Johnson & Wales vs. Mount Ida
END:VALARM
END:VEVENT
BEGIN:VEVENT
UID:gnac-1040717-20080329@quickscores.com
DTSTAMP:20260423T191200Z
DTSTART;TZID=America/New_York:20080329
SUMMARY:Johnson & Wales vs. Simmons
DESCRIPTION:Gnac Softball 2008 - Great Northeast Athletic Conference
LOCATION:Providence, RI
CATEGORIES:QuickScores, Softball Game
TRANSP:OPAQUE
BEGIN:VALARM
TRIGGER:-PT2H
ACTION:DISPLAY
DESCRIPTION:Johnson & Wales vs. Simmons
END:VALARM
END:VEVENT
BEGIN:VEVENT
UID:gnac-1040762-20080330@quickscores.com
DTSTAMP:20260423T191200Z
DTSTART;TZID=America/New_York:20080330
SUMMARY:Johnson & Wales vs. Suffolk
DESCRIPTION:Gnac Softball 2008 - Great Northeast Athletic Conference
LOCATION:Providence, RI
CATEGORIES:QuickScores, Softball Game
TRANSP:OPAQUE
BEGIN:VALARM
TRIGGER:-PT2H
ACTION:DISPLAY
DESCRIPTION:Johnson & Wales vs. Suffolk
END:VALARM
END:VEVENT
BEGIN:VEVENT
UID:gnac-1040740-20080404@quickscores.com
DTSTAMP:20260423T191200Z
DTSTART;TZID=America/New_York:20080404
SUMMARY:Albertus Magnus vs. Johnson & Wales
DESCRIPTION:Gnac Softball 2008 - Great Northeast Athletic Conference
LOCATION:New Haven, CT
CATEGORIES:QuickScores, Softball Game
TRANSP:OPAQUE
BEGIN:VALARM
TRIGGER:-PT2H
ACTION:DISPLAY
DESCRIPTION:Albertus Magnus vs. Johnson & Wales
END:VALARM
END:VEVENT
BEGIN:VEVENT
UID:gnac-1040739-20080405@quickscores.com
DTSTAMP:20260423T191200Z
DTSTART;TZID=America/New_York:20080405
SUMMARY:Norwich vs. Johnson & Wales
DESCRIPTION:Gnac Softball 2008 - Great Northeast Athletic Conference
LOCATION:Northfield, VT
CATEGORIES:QuickScores, Softball Game
TRANSP:OPAQUE
BEGIN:VALARM
TRIGGER:-PT2H
ACTION:DISPLAY
DESCRIPTION:Norwich vs. Johnson & Wales
END:VALARM
END:VEVENT
BEGIN:VEVENT
UID:gnac-1040752-20080406@quickscores.com
DTSTAMP:20260423T191200Z
DTSTART;TZID=America/New_York:20080406
SUMMARY:Saint Joseph's ME vs. Johnson & Wales
DESCRIPTION:Gnac Softball 2008 - Great Northeast Athletic Conference
LOCATION:Standish ME
CATEGORIES:QuickScores, Softball Game
TRANSP:OPAQUE
BEGIN:VALARM
TRIGGER:-PT2H
ACTION:DISPLAY
DESCRIPTION:Saint Joseph's ME vs. Johnson & Wales
END:VALARM
END:VEVENT
BEGIN:VEVENT
UID:gnac-1040720-20080411@quickscores.com
DTSTAMP:20260423T191200Z
DTSTART;TZID=America/New_York:20080411
SUMMARY:Johnson & Wales vs. Emerson
DESCRIPTION:Gnac Softball 2008 - Great Northeast Athletic Conference
LOCATION:Providence, RI
CATEGORIES:QuickScores, Softball Game
TRANSP:OPAQUE
BEGIN:VALARM
TRIGGER:-PT2H
ACTION:DISPLAY
DESCRIPTION:Johnson & Wales vs. Emerson
END:VALARM
END:VEVENT
BEGIN:VEVENT
UID:gnac-1040758-20080412@quickscores.com
DTSTAMP:20260423T191200Z
DTSTART;TZID=America/New_York:20080412
SUMMARY:Johnson & Wales vs. Daniel Webster
DESCRIPTION:Gnac Softball 2008 - Great Northeast Athletic Conference
LOCATION:Providence, RI
CATEGORIES:QuickScores, Softball Game
TRANSP:OPAQUE
BEGIN:VALARM
TRIGGER:-PT2H
ACTION:DISPLAY
DESCRIPTION:Johnson & Wales vs. Daniel Webster
END:VALARM
END:VEVENT
BEGIN:VEVENT
UID:gnac-1040732-20080413@quickscores.com
DTSTAMP:20260423T191200Z
DTSTART;TZID=America/New_York:20080413
SUMMARY:Johnson & Wales vs. Saint Joseph CT
DESCRIPTION:Gnac Softball 2008 - Great Northeast Athletic Conference
LOCATION:Providence, RI
CATEGORIES:QuickScores, Softball Game
TRANSP:OPAQUE
BEGIN:VALARM
TRIGGER:-PT2H
ACTION:DISPLAY
DESCRIPTION:Johnson & Wales vs. Saint Joseph CT
END:VALARM
END:VEVENT
BEGIN:VEVENT
UID:gnac-1040771-20080418@quickscores.com
DTSTAMP:20260423T191200Z
DTSTART;TZID=America/New_York:20080418
SUMMARY:Lasell vs. Johnson & Wales
DESCRIPTION:Gnac Softball 2008 - Great Northeast Athletic Conference
LOCATION:Lasell Newton
CATEGORIES:QuickScores, Softball Game
TRANSP:OPAQUE
BEGIN:VALARM
TRIGGER:-PT2H
ACTION:DISPLAY
DESCRIPTION:Lasell vs. Johnson & Wales
END:VALARM
END:VEVENT
BEGIN:VEVENT
UID:gnac-1040777-20080419@quickscores.com
DTSTAMP:20260423T191200Z
DTSTART;TZID=America/New_York:20080419
SUMMARY:Emmanuel vs. Johnson & Wales
DESCRIPTION:Gnac Softball 2008 - Great Northeast Athletic Conference
LOCATION:Roberto Clemente Field
CATEGORIES:QuickScores, Softball Game
TRANSP:OPAQUE
BEGIN:VALARM
TRIGGER:-PT2H
ACTION:DISPLAY
DESCRIPTION:Emmanuel vs. Johnson & Wales
END:VALARM
END:VEVENT
BEGIN:VEVENT
UID:gnac-1040693-20080420@quickscores.com
DTSTAMP:20260423T191200Z
DTSTART;TZID=America/New_York:20080420
SUMMARY:Johnson & Wales vs. Rivier
DESCRIPTION:Gnac Softball 2008 - Great Northeast Athletic Conference
LOCATION:Providence, RI
CATEGORIES:QuickScores, Softball Game
TRANSP:OPAQUE
BEGIN:VALARM
TRIGGER:-PT2H
ACTION:DISPLAY
DESCRIPTION:Johnson & Wales vs. Rivier
END:VALARM
END:VEVENT
END:VCALENDAR
