BEGIN:VCALENDAR
VERSION:2.0
PRODID:-//QuickScores.com//BQ Dynamic iCal Creator//EN
METHOD:PUBLISH
X-WR-CALNAME:Emmanuel - Gnac Softball 2008 - Spring 2008
X-WR-CALDESC:QuickScores game calendar
X-PUBLISHED-TTL:PT24H
REFRESH-INTERVAL;VALUE=DURATION:PT24H
CALSCALE:GREGORIAN
BEGIN:VTIMEZONE
TZID:America/New_York
X-LIC-LOCATION:America/New_York
BEGIN:DAYLIGHT
TZNAME:EDT
TZOFFSETFROM:-0500
TZOFFSETTO:-0400
DTSTART:19700308T020000
RRULE:FREQ=YEARLY;BYMONTH=3;BYDAY=2SU
END:DAYLIGHT
BEGIN:STANDARD
TZNAME:EST
TZOFFSETFROM:-0400
TZOFFSETTO:-0500
DTSTART:19701101T020000
RRULE:FREQ=YEARLY;BYMONTH=11;BYDAY=1SU
END:STANDARD
END:VTIMEZONE
BEGIN:VEVENT
UID:gnac-1040704-20080322@quickscores.com
DTSTAMP:20260422T125200Z
DTSTART;TZID=America/New_York:20080322
SUMMARY:Simmons vs. Emmanuel
DESCRIPTION:Gnac Softball 2008 - Great Northeast Athletic Conference
LOCATION:Simmons
CATEGORIES:QuickScores, Softball Game
TRANSP:OPAQUE
BEGIN:VALARM
TRIGGER:-PT2H
ACTION:DISPLAY
DESCRIPTION:Simmons vs. Emmanuel
END:VALARM
END:VEVENT
BEGIN:VEVENT
UID:gnac-1040710-20080328@quickscores.com
DTSTAMP:20260422T125200Z
DTSTART;TZID=America/New_York:20080328
SUMMARY:Saint Joseph CT vs. Emmanuel
DESCRIPTION:Gnac Softball 2008 - Great Northeast Athletic Conference
LOCATION:W. Hartford, CT
CATEGORIES:QuickScores, Softball Game
TRANSP:OPAQUE
BEGIN:VALARM
TRIGGER:-PT2H
ACTION:DISPLAY
DESCRIPTION:Saint Joseph CT vs. Emmanuel
END:VALARM
END:VEVENT
BEGIN:VEVENT
UID:gnac-1040716-20080329@quickscores.com
DTSTAMP:20260422T125200Z
DTSTART;TZID=America/New_York:20080329
SUMMARY:Emmanuel vs. Norwich
DESCRIPTION:Gnac Softball 2008 - Great Northeast Athletic Conference
LOCATION:Roberto Clemente Field
CATEGORIES:QuickScores, Softball Game
TRANSP:OPAQUE
BEGIN:VALARM
TRIGGER:-PT2H
ACTION:DISPLAY
DESCRIPTION:Emmanuel vs. Norwich
END:VALARM
END:VEVENT
BEGIN:VEVENT
UID:gnac-1040766-20080330@quickscores.com
DTSTAMP:20260422T125200Z
DTSTART;TZID=America/New_York:20080330
SUMMARY:Emmanuel vs. Pine Manor
DESCRIPTION:Gnac Softball 2008 - Great Northeast Athletic Conference
LOCATION:Roberto Clemente Field
CATEGORIES:QuickScores, Softball Game
TRANSP:OPAQUE
BEGIN:VALARM
TRIGGER:-PT2H
ACTION:DISPLAY
DESCRIPTION:Emmanuel vs. Pine Manor
END:VALARM
END:VEVENT
BEGIN:VEVENT
UID:gnac-1040744-20080404@quickscores.com
DTSTAMP:20260422T125200Z
DTSTART;TZID=America/New_York:20080404
SUMMARY:Rivier vs. Emmanuel
DESCRIPTION:Gnac Softball 2008 - Great Northeast Athletic Conference
LOCATION:Nashua, NH
CATEGORIES:QuickScores, Softball Game
TRANSP:OPAQUE
BEGIN:VALARM
TRIGGER:-PT2H
ACTION:DISPLAY
DESCRIPTION:Rivier vs. Emmanuel
END:VALARM
END:VEVENT
BEGIN:VEVENT
UID:gnac-1040735-20080405@quickscores.com
DTSTAMP:20260422T125200Z
DTSTART;TZID=America/New_York:20080405
SUMMARY:Daniel Webster vs. Emmanuel
DESCRIPTION:Gnac Softball 2008 - Great Northeast Athletic Conference
LOCATION:Daniel Webster
CATEGORIES:QuickScores, Softball Game
TRANSP:OPAQUE
BEGIN:VALARM
TRIGGER:-PT2H
ACTION:DISPLAY
DESCRIPTION:Daniel Webster vs. Emmanuel
END:VALARM
END:VEVENT
BEGIN:VEVENT
UID:gnac-1040748-20080406@quickscores.com
DTSTAMP:20260422T125200Z
DTSTART;TZID=America/New_York:20080406
SUMMARY:Lasell vs. Emmanuel
DESCRIPTION:Gnac Softball 2008 - Great Northeast Athletic Conference
LOCATION:Lasell Newton
CATEGORIES:QuickScores, Softball Game
TRANSP:OPAQUE
BEGIN:VALARM
TRIGGER:-PT2H
ACTION:DISPLAY
DESCRIPTION:Lasell vs. Emmanuel
END:VALARM
END:VEVENT
BEGIN:VEVENT
UID:gnac-1040722-20080411@quickscores.com
DTSTAMP:20260422T125200Z
DTSTART;TZID=America/New_York:20080411
SUMMARY:Suffolk vs. Emmanuel
DESCRIPTION:Gnac Softball 2008 - Great Northeast Athletic Conference
LOCATION:Puopolo Field Boston's North End
CATEGORIES:QuickScores, Softball Game
TRANSP:OPAQUE
BEGIN:VALARM
TRIGGER:-PT2H
ACTION:DISPLAY
DESCRIPTION:Suffolk vs. Emmanuel
END:VALARM
END:VEVENT
BEGIN:VEVENT
UID:gnac-1040754-20080412@quickscores.com
DTSTAMP:20260422T125200Z
DTSTART;TZID=America/New_York:20080412
SUMMARY:Albertus Magnus vs. Emmanuel
DESCRIPTION:Gnac Softball 2008 - Great Northeast Athletic Conference
LOCATION:New Haven, CT
CATEGORIES:QuickScores, Softball Game
TRANSP:OPAQUE
BEGIN:VALARM
TRIGGER:-PT2H
ACTION:DISPLAY
DESCRIPTION:Albertus Magnus vs. Emmanuel
END:VALARM
END:VEVENT
BEGIN:VEVENT
UID:gnac-1040729-20080413@quickscores.com
DTSTAMP:20260422T125200Z
DTSTART;TZID=America/New_York:20080413
SUMMARY:Emmanuel vs. Saint Joseph's ME
DESCRIPTION:Gnac Softball 2008 - Great Northeast Athletic Conference
LOCATION:Roberto Clemente Field
CATEGORIES:QuickScores, Softball Game
TRANSP:OPAQUE
BEGIN:VALARM
TRIGGER:-PT2H
ACTION:DISPLAY
DESCRIPTION:Emmanuel vs. Saint Joseph's ME
END:VALARM
END:VEVENT
BEGIN:VEVENT
UID:gnac-1040769-20080418@quickscores.com
DTSTAMP:20260422T125200Z
DTSTART;TZID=America/New_York:20080418
SUMMARY:Emmanuel vs. Emerson
DESCRIPTION:Gnac Softball 2008 - Great Northeast Athletic Conference
LOCATION:Roberto Clemente Field
CATEGORIES:QuickScores, Softball Game
TRANSP:OPAQUE
BEGIN:VALARM
TRIGGER:-PT2H
ACTION:DISPLAY
DESCRIPTION:Emmanuel vs. Emerson
END:VALARM
END:VEVENT
BEGIN:VEVENT
UID:gnac-1040777-20080419@quickscores.com
DTSTAMP:20260422T125200Z
DTSTART;TZID=America/New_York:20080419
SUMMARY:Emmanuel vs. Johnson & Wales
DESCRIPTION:Gnac Softball 2008 - Great Northeast Athletic Conference
LOCATION:Roberto Clemente Field
CATEGORIES:QuickScores, Softball Game
TRANSP:OPAQUE
BEGIN:VALARM
TRIGGER:-PT2H
ACTION:DISPLAY
DESCRIPTION:Emmanuel vs. Johnson & Wales
END:VALARM
END:VEVENT
BEGIN:VEVENT
UID:gnac-1040697-20080420@quickscores.com
DTSTAMP:20260422T125200Z
DTSTART;TZID=America/New_York:20080420
SUMMARY:Emmanuel vs. Mount Ida
DESCRIPTION:Gnac Softball 2008 - Great Northeast Athletic Conference
LOCATION:Roberto Clemente Field
CATEGORIES:QuickScores, Softball Game
TRANSP:OPAQUE
BEGIN:VALARM
TRIGGER:-PT2H
ACTION:DISPLAY
DESCRIPTION:Emmanuel vs. Mount Ida
END:VALARM
END:VEVENT
END:VCALENDAR
