BEGIN:VCALENDAR
VERSION:2.0
PRODID:-//QuickScores.com//BQ Dynamic iCal Creator//EN
METHOD:PUBLISH
X-WR-CALNAME:Suffolk - Gnac Softball 2008 - Spring 2008
X-WR-CALDESC:QuickScores game calendar
X-PUBLISHED-TTL:PT24H
REFRESH-INTERVAL;VALUE=DURATION:PT24H
CALSCALE:GREGORIAN
BEGIN:VTIMEZONE
TZID:America/New_York
X-LIC-LOCATION:America/New_York
BEGIN:DAYLIGHT
TZNAME:EDT
TZOFFSETFROM:-0500
TZOFFSETTO:-0400
DTSTART:19700308T020000
RRULE:FREQ=YEARLY;BYMONTH=3;BYDAY=2SU
END:DAYLIGHT
BEGIN:STANDARD
TZNAME:EST
TZOFFSETFROM:-0400
TZOFFSETTO:-0500
DTSTART:19701101T020000
RRULE:FREQ=YEARLY;BYMONTH=11;BYDAY=1SU
END:STANDARD
END:VTIMEZONE
BEGIN:VEVENT
UID:gnac-1040699-20080322@quickscores.com
DTSTAMP:20260424T203400Z
DTSTART;TZID=America/New_York:20080322
SUMMARY:Suffolk vs. Rivier
DESCRIPTION:Gnac Softball 2008 - Great Northeast Athletic Conference
LOCATION:Puopolo Field Boston's North End
CATEGORIES:QuickScores, Softball Game
TRANSP:OPAQUE
BEGIN:VALARM
TRIGGER:-PT2H
ACTION:DISPLAY
DESCRIPTION:Suffolk vs. Rivier
END:VALARM
END:VEVENT
BEGIN:VEVENT
UID:gnac-1040707-20080328@quickscores.com
DTSTAMP:20260424T203400Z
DTSTART;TZID=America/New_York:20080328
SUMMARY:Suffolk vs. Pine Manor
DESCRIPTION:Gnac Softball 2008 - Great Northeast Athletic Conference
LOCATION:Puopolo Field Boston's North End
CATEGORIES:QuickScores, Softball Game
TRANSP:OPAQUE
BEGIN:VALARM
TRIGGER:-PT2H
ACTION:DISPLAY
DESCRIPTION:Suffolk vs. Pine Manor
END:VALARM
END:VEVENT
BEGIN:VEVENT
UID:gnac-1040715-20080329@quickscores.com
DTSTAMP:20260424T203400Z
DTSTART;TZID=America/New_York:20080329
SUMMARY:Suffolk vs. Mount Ida
DESCRIPTION:Gnac Softball 2008 - Great Northeast Athletic Conference
LOCATION:Puopolo Field Boston's North End
CATEGORIES:QuickScores, Softball Game
TRANSP:OPAQUE
BEGIN:VALARM
TRIGGER:-PT2H
ACTION:DISPLAY
DESCRIPTION:Suffolk vs. Mount Ida
END:VALARM
END:VEVENT
BEGIN:VEVENT
UID:gnac-1040762-20080330@quickscores.com
DTSTAMP:20260424T203400Z
DTSTART;TZID=America/New_York:20080330
SUMMARY:Johnson & Wales vs. Suffolk
DESCRIPTION:Gnac Softball 2008 - Great Northeast Athletic Conference
LOCATION:Providence, RI
CATEGORIES:QuickScores, Softball Game
TRANSP:OPAQUE
BEGIN:VALARM
TRIGGER:-PT2H
ACTION:DISPLAY
DESCRIPTION:Johnson & Wales vs. Suffolk
END:VALARM
END:VEVENT
BEGIN:VEVENT
UID:gnac-1040742-20080404@quickscores.com
DTSTAMP:20260424T203400Z
DTSTART;TZID=America/New_York:20080404
SUMMARY:Emerson vs. Suffolk
DESCRIPTION:Gnac Softball 2008 - Great Northeast Athletic Conference
LOCATION:Rotch Field
CATEGORIES:QuickScores, Softball Game
TRANSP:OPAQUE
BEGIN:VALARM
TRIGGER:-PT2H
ACTION:DISPLAY
DESCRIPTION:Emerson vs. Suffolk
END:VALARM
END:VEVENT
BEGIN:VEVENT
UID:gnac-1040738-20080405@quickscores.com
DTSTAMP:20260424T203400Z
DTSTART;TZID=America/New_York:20080405
SUMMARY:Suffolk vs. Saint Joseph CT
DESCRIPTION:Gnac Softball 2008 - Great Northeast Athletic Conference
LOCATION:Puopolo Field Boston's North End
CATEGORIES:QuickScores, Softball Game
TRANSP:OPAQUE
BEGIN:VALARM
TRIGGER:-PT2H
ACTION:DISPLAY
DESCRIPTION:Suffolk vs. Saint Joseph CT
END:VALARM
END:VEVENT
BEGIN:VEVENT
UID:gnac-1040753-20080406@quickscores.com
DTSTAMP:20260424T203400Z
DTSTART;TZID=America/New_York:20080406
SUMMARY:Norwich vs. Suffolk
DESCRIPTION:Gnac Softball 2008 - Great Northeast Athletic Conference
LOCATION:Northfield, VT
CATEGORIES:QuickScores, Softball Game
TRANSP:OPAQUE
BEGIN:VALARM
TRIGGER:-PT2H
ACTION:DISPLAY
DESCRIPTION:Norwich vs. Suffolk
END:VALARM
END:VEVENT
BEGIN:VEVENT
UID:gnac-1040722-20080411@quickscores.com
DTSTAMP:20260424T203400Z
DTSTART;TZID=America/New_York:20080411
SUMMARY:Suffolk vs. Emmanuel
DESCRIPTION:Gnac Softball 2008 - Great Northeast Athletic Conference
LOCATION:Puopolo Field Boston's North End
CATEGORIES:QuickScores, Softball Game
TRANSP:OPAQUE
BEGIN:VALARM
TRIGGER:-PT2H
ACTION:DISPLAY
DESCRIPTION:Suffolk vs. Emmanuel
END:VALARM
END:VEVENT
BEGIN:VEVENT
UID:gnac-1040760-20080412@quickscores.com
DTSTAMP:20260424T203400Z
DTSTART;TZID=America/New_York:20080412
SUMMARY:Suffolk vs. Saint Joseph's ME
DESCRIPTION:Gnac Softball 2008 - Great Northeast Athletic Conference
LOCATION:Puopolo Field Boston's North End
CATEGORIES:QuickScores, Softball Game
TRANSP:OPAQUE
BEGIN:VALARM
TRIGGER:-PT2H
ACTION:DISPLAY
DESCRIPTION:Suffolk vs. Saint Joseph's ME
END:VALARM
END:VEVENT
BEGIN:VEVENT
UID:gnac-1040730-20080413@quickscores.com
DTSTAMP:20260424T203400Z
DTSTART;TZID=America/New_York:20080413
SUMMARY:Simmons vs. Suffolk
DESCRIPTION:Gnac Softball 2008 - Great Northeast Athletic Conference
LOCATION:Simmons
CATEGORIES:QuickScores, Softball Game
TRANSP:OPAQUE
BEGIN:VALARM
TRIGGER:-PT2H
ACTION:DISPLAY
DESCRIPTION:Simmons vs. Suffolk
END:VALARM
END:VEVENT
BEGIN:VEVENT
UID:gnac-1040773-20080418@quickscores.com
DTSTAMP:20260424T203400Z
DTSTART;TZID=America/New_York:20080418
SUMMARY:Daniel Webster vs. Suffolk
DESCRIPTION:Gnac Softball 2008 - Great Northeast Athletic Conference
LOCATION:Nashua, NH
CATEGORIES:QuickScores, Softball Game
TRANSP:OPAQUE
BEGIN:VALARM
TRIGGER:-PT2H
ACTION:DISPLAY
DESCRIPTION:Daniel Webster vs. Suffolk
END:VALARM
END:VEVENT
BEGIN:VEVENT
UID:gnac-1040779-20080419@quickscores.com
DTSTAMP:20260424T203400Z
DTSTART;TZID=America/New_York:20080419
SUMMARY:Lasell vs. Suffolk
DESCRIPTION:Gnac Softball 2008 - Great Northeast Athletic Conference
LOCATION:Lasell Newton
CATEGORIES:QuickScores, Softball Game
TRANSP:OPAQUE
BEGIN:VALARM
TRIGGER:-PT2H
ACTION:DISPLAY
DESCRIPTION:Lasell vs. Suffolk
END:VALARM
END:VEVENT
BEGIN:VEVENT
UID:gnac-1040691-20080420@quickscores.com
DTSTAMP:20260424T203400Z
DTSTART;TZID=America/New_York:20080420
SUMMARY:Suffolk vs. Albertus Magnus
DESCRIPTION:Gnac Softball 2008 - Great Northeast Athletic Conference
LOCATION:Puopolo Field Boston's North End
CATEGORIES:QuickScores, Softball Game
TRANSP:OPAQUE
BEGIN:VALARM
TRIGGER:-PT2H
ACTION:DISPLAY
DESCRIPTION:Suffolk vs. Albertus Magnus
END:VALARM
END:VEVENT
END:VCALENDAR
