BEGIN:VCALENDAR
VERSION:2.0
PRODID:-//QuickScores.com//BQ Dynamic iCal Creator//EN
METHOD:PUBLISH
X-WR-CALNAME:Saint Joseph&#039;s ME - Gnac Softball 2008 - Spring 2008
X-WR-CALDESC:QuickScores game calendar
X-PUBLISHED-TTL:PT24H
REFRESH-INTERVAL;VALUE=DURATION:PT24H
CALSCALE:GREGORIAN
BEGIN:VTIMEZONE
TZID:America/New_York
X-LIC-LOCATION:America/New_York
BEGIN:DAYLIGHT
TZNAME:EDT
TZOFFSETFROM:-0500
TZOFFSETTO:-0400
DTSTART:19700308T020000
RRULE:FREQ=YEARLY;BYMONTH=3;BYDAY=2SU
END:DAYLIGHT
BEGIN:STANDARD
TZNAME:EST
TZOFFSETFROM:-0400
TZOFFSETTO:-0500
DTSTART:19701101T020000
RRULE:FREQ=YEARLY;BYMONTH=11;BYDAY=1SU
END:STANDARD
END:VTIMEZONE
BEGIN:VEVENT
UID:gnac-1040698-20080322@quickscores.com
DTSTAMP:20260420T093700Z
DTSTART;TZID=America/New_York:20080322
SUMMARY:Albertus Magnus vs. Saint Joseph's ME
DESCRIPTION:Gnac Softball 2008 - Great Northeast Athletic Conference
LOCATION:New Haven, CT
CATEGORIES:QuickScores, Softball Game
TRANSP:OPAQUE
BEGIN:VALARM
TRIGGER:-PT2H
ACTION:DISPLAY
DESCRIPTION:Albertus Magnus vs. Saint Joseph's ME
END:VALARM
END:VEVENT
BEGIN:VEVENT
UID:gnac-1040706-20080328@quickscores.com
DTSTAMP:20260420T093700Z
DTSTART;TZID=America/New_York:20080328
SUMMARY:Saint Joseph's ME vs. Daniel Webster
DESCRIPTION:Gnac Softball 2008 - Great Northeast Athletic Conference
LOCATION:Standish ME
CATEGORIES:QuickScores, Softball Game
TRANSP:OPAQUE
BEGIN:VALARM
TRIGGER:-PT2H
ACTION:DISPLAY
DESCRIPTION:Saint Joseph's ME vs. Daniel Webster
END:VALARM
END:VEVENT
BEGIN:VEVENT
UID:gnac-1040714-20080329@quickscores.com
DTSTAMP:20260420T093700Z
DTSTART;TZID=America/New_York:20080329
SUMMARY:Lasell vs. Saint Joseph's ME
DESCRIPTION:Gnac Softball 2008 - Great Northeast Athletic Conference
LOCATION:Lasell Newton
CATEGORIES:QuickScores, Softball Game
TRANSP:OPAQUE
BEGIN:VALARM
TRIGGER:-PT2H
ACTION:DISPLAY
DESCRIPTION:Lasell vs. Saint Joseph's ME
END:VALARM
END:VEVENT
BEGIN:VEVENT
UID:gnac-1040763-20080330@quickscores.com
DTSTAMP:20260420T093700Z
DTSTART;TZID=America/New_York:20080330
SUMMARY:Saint Joseph's ME vs. Saint Joseph CT
DESCRIPTION:Gnac Softball 2008 - Great Northeast Athletic Conference
LOCATION:Standish ME
CATEGORIES:QuickScores, Softball Game
TRANSP:OPAQUE
BEGIN:VALARM
TRIGGER:-PT2H
ACTION:DISPLAY
DESCRIPTION:Saint Joseph's ME vs. Saint Joseph CT
END:VALARM
END:VEVENT
BEGIN:VEVENT
UID:gnac-1040743-20080404@quickscores.com
DTSTAMP:20260420T093700Z
DTSTART;TZID=America/New_York:20080404
SUMMARY:Simmons vs. Saint Joseph's ME
DESCRIPTION:Gnac Softball 2008 - Great Northeast Athletic Conference
LOCATION:Simmons
CATEGORIES:QuickScores, Softball Game
TRANSP:OPAQUE
BEGIN:VALARM
TRIGGER:-PT2H
ACTION:DISPLAY
DESCRIPTION:Simmons vs. Saint Joseph's ME
END:VALARM
END:VEVENT
BEGIN:VEVENT
UID:gnac-1040737-20080405@quickscores.com
DTSTAMP:20260420T093700Z
DTSTART;TZID=America/New_York:20080405
SUMMARY:Saint Joseph's ME vs. Emerson
DESCRIPTION:Gnac Softball 2008 - Great Northeast Athletic Conference
LOCATION:Standish ME
CATEGORIES:QuickScores, Softball Game
TRANSP:OPAQUE
BEGIN:VALARM
TRIGGER:-PT2H
ACTION:DISPLAY
DESCRIPTION:Saint Joseph's ME vs. Emerson
END:VALARM
END:VEVENT
BEGIN:VEVENT
UID:gnac-1040752-20080406@quickscores.com
DTSTAMP:20260420T093700Z
DTSTART;TZID=America/New_York:20080406
SUMMARY:Saint Joseph's ME vs. Johnson & Wales
DESCRIPTION:Gnac Softball 2008 - Great Northeast Athletic Conference
LOCATION:Standish ME
CATEGORIES:QuickScores, Softball Game
TRANSP:OPAQUE
BEGIN:VALARM
TRIGGER:-PT2H
ACTION:DISPLAY
DESCRIPTION:Saint Joseph's ME vs. Johnson & Wales
END:VALARM
END:VEVENT
BEGIN:VEVENT
UID:gnac-1040723-20080411@quickscores.com
DTSTAMP:20260420T093700Z
DTSTART;TZID=America/New_York:20080411
SUMMARY:Saint Joseph's ME vs. Mount Ida
DESCRIPTION:Gnac Softball 2008 - Great Northeast Athletic Conference
LOCATION:Standish ME
CATEGORIES:QuickScores, Softball Game
TRANSP:OPAQUE
BEGIN:VALARM
TRIGGER:-PT2H
ACTION:DISPLAY
DESCRIPTION:Saint Joseph's ME vs. Mount Ida
END:VALARM
END:VEVENT
BEGIN:VEVENT
UID:gnac-1040760-20080412@quickscores.com
DTSTAMP:20260420T093700Z
DTSTART;TZID=America/New_York:20080412
SUMMARY:Suffolk vs. Saint Joseph's ME
DESCRIPTION:Gnac Softball 2008 - Great Northeast Athletic Conference
LOCATION:Puopolo Field Boston's North End
CATEGORIES:QuickScores, Softball Game
TRANSP:OPAQUE
BEGIN:VALARM
TRIGGER:-PT2H
ACTION:DISPLAY
DESCRIPTION:Suffolk vs. Saint Joseph's ME
END:VALARM
END:VEVENT
BEGIN:VEVENT
UID:gnac-1040729-20080413@quickscores.com
DTSTAMP:20260420T093700Z
DTSTART;TZID=America/New_York:20080413
SUMMARY:Emmanuel vs. Saint Joseph's ME
DESCRIPTION:Gnac Softball 2008 - Great Northeast Athletic Conference
LOCATION:Roberto Clemente Field
CATEGORIES:QuickScores, Softball Game
TRANSP:OPAQUE
BEGIN:VALARM
TRIGGER:-PT2H
ACTION:DISPLAY
DESCRIPTION:Emmanuel vs. Saint Joseph's ME
END:VALARM
END:VEVENT
BEGIN:VEVENT
UID:gnac-1040774-20080418@quickscores.com
DTSTAMP:20260420T093700Z
DTSTART;TZID=America/New_York:20080418
SUMMARY:Rivier vs. Saint Joseph's ME
DESCRIPTION:Gnac Softball 2008 - Great Northeast Athletic Conference
LOCATION:Rivier
CATEGORIES:QuickScores, Softball Game
TRANSP:OPAQUE
BEGIN:VALARM
TRIGGER:-PT2H
ACTION:DISPLAY
DESCRIPTION:Rivier vs. Saint Joseph's ME
END:VALARM
END:VEVENT
BEGIN:VEVENT
UID:gnac-1040780-20080419@quickscores.com
DTSTAMP:20260420T093700Z
DTSTART;TZID=America/New_York:20080419
SUMMARY:Saint Joseph's ME vs. Pine Manor
DESCRIPTION:Gnac Softball 2008 - Great Northeast Athletic Conference
LOCATION:Standish ME
CATEGORIES:QuickScores, Softball Game
TRANSP:OPAQUE
BEGIN:VALARM
TRIGGER:-PT2H
ACTION:DISPLAY
DESCRIPTION:Saint Joseph's ME vs. Pine Manor
END:VALARM
END:VEVENT
BEGIN:VEVENT
UID:gnac-1040692-20080420@quickscores.com
DTSTAMP:20260420T093700Z
DTSTART;TZID=America/New_York:20080420
SUMMARY:Saint Joseph's ME vs. Norwich
DESCRIPTION:Gnac Softball 2008 - Great Northeast Athletic Conference
LOCATION:Standish ME
CATEGORIES:QuickScores, Softball Game
TRANSP:OPAQUE
BEGIN:VALARM
TRIGGER:-PT2H
ACTION:DISPLAY
DESCRIPTION:Saint Joseph's ME vs. Norwich
END:VALARM
END:VEVENT
END:VCALENDAR
